BEGIN:VCALENDAR
VERSION:2.0
PRODID:-//Orlando Science Center - ECPv6.15.20//NONSGML v1.0//EN
CALSCALE:GREGORIAN
METHOD:PUBLISH
X-WR-CALNAME:Orlando Science Center
X-ORIGINAL-URL:https://www.osc.org
X-WR-CALDESC:Events for Orlando Science Center
REFRESH-INTERVAL;VALUE=DURATION:PT1H
X-Robots-Tag:noindex
X-PUBLISHED-TTL:PT1H
BEGIN:VTIMEZONE
TZID:America/New_York
BEGIN:DAYLIGHT
TZOFFSETFROM:-0500
TZOFFSETTO:-0400
TZNAME:EDT
DTSTART:20250309T070000
END:DAYLIGHT
BEGIN:STANDARD
TZOFFSETFROM:-0400
TZOFFSETTO:-0500
TZNAME:EST
DTSTART:20251102T060000
END:STANDARD
BEGIN:DAYLIGHT
TZOFFSETFROM:-0500
TZOFFSETTO:-0400
TZNAME:EDT
DTSTART:20260308T070000
END:DAYLIGHT
BEGIN:STANDARD
TZOFFSETFROM:-0400
TZOFFSETTO:-0500
TZNAME:EST
DTSTART:20261101T060000
END:STANDARD
BEGIN:DAYLIGHT
TZOFFSETFROM:-0500
TZOFFSETTO:-0400
TZNAME:EDT
DTSTART:20270314T070000
END:DAYLIGHT
BEGIN:STANDARD
TZOFFSETFROM:-0400
TZOFFSETTO:-0500
TZNAME:EST
DTSTART:20271107T060000
END:STANDARD
END:VTIMEZONE
BEGIN:VEVENT
DTSTART;TZID=America/New_York:20260421T100000
DTEND;TZID=America/New_York:20260421T170000
DTSTAMP:20260422T053947
CREATED:20260329T132120Z
LAST-MODIFIED:20260331T145614Z
UID:10008811-1776765600-1776790800@www.osc.org
SUMMARY:Self-guided Maker Activities
DESCRIPTION:Utilize green screen technology to transport yourselves to any setting imaginable. Get hands-on with creativity as you design and craft your own props using your movie budget\, bringing your cinematic visions to life! For Makers 8+
URL:https://www.osc.org/event/self-guided-maker-activities-69/
LOCATION:The Hive – Level 3
CATEGORIES:Science Live Schedule
ATTACH;FMTTYPE=image/jpeg:https://www.osc.org/wp-content/uploads/2026/03/Untitled-design-3-3.jpg
GEO:28.57228;-81.368341
END:VEVENT
BEGIN:VEVENT
DTSTART;TZID=America/New_York:20260420T100000
DTEND;TZID=America/New_York:20260420T170000
DTSTAMP:20260422T053947
CREATED:20260329T132120Z
LAST-MODIFIED:20260331T145614Z
UID:10008810-1776679200-1776704400@www.osc.org
SUMMARY:Self-guided Maker Activities
DESCRIPTION:Utilize green screen technology to transport yourselves to any setting imaginable. Get hands-on with creativity as you design and craft your own props using your movie budget\, bringing your cinematic visions to life! For Makers 8+
URL:https://www.osc.org/event/self-guided-maker-activities-68/
LOCATION:The Hive – Level 3
CATEGORIES:Science Live Schedule
ATTACH;FMTTYPE=image/jpeg:https://www.osc.org/wp-content/uploads/2026/03/Untitled-design-3-3.jpg
GEO:28.57228;-81.368341
END:VEVENT
BEGIN:VEVENT
DTSTART;TZID=America/New_York:20260419T110000
DTEND;TZID=America/New_York:20260419T153000
DTSTAMP:20260422T053947
CREATED:20260329T132051Z
LAST-MODIFIED:20260331T145507Z
UID:10008809-1776596400-1776612600@www.osc.org
SUMMARY:DIY Woodburning
DESCRIPTION:Create your own pyrography art! Sessions run every 30 minutes. Tickets are available in The Hive up to one hour before each session. For Makers 8+
URL:https://www.osc.org/event/diy-woodburning-34/
LOCATION:The Hive – Level 3
CATEGORIES:Science Live Schedule
ATTACH;FMTTYPE=image/png:https://www.osc.org/wp-content/uploads/2025/01/Origami_1080x608.png
GEO:28.57228;-81.368341
END:VEVENT
BEGIN:VEVENT
DTSTART;TZID=America/New_York:20260419T100000
DTEND;TZID=America/New_York:20260419T170000
DTSTAMP:20260422T053947
CREATED:20260329T132051Z
LAST-MODIFIED:20260331T145507Z
UID:10008808-1776592800-1776618000@www.osc.org
SUMMARY:Self-guided Maker Activities
DESCRIPTION:Utilize green screen technology to transport yourselves to any setting imaginable. Get hands-on with creativity as you design and craft your own props using your movie budget\, bringing your cinematic visions to life! For Makers 8+
URL:https://www.osc.org/event/self-guided-maker-activities-67/
LOCATION:The Hive – Level 3
CATEGORIES:Science Live Schedule
ATTACH;FMTTYPE=image/jpeg:https://www.osc.org/wp-content/uploads/2026/03/Untitled-design-3-3.jpg
GEO:28.57228;-81.368341
END:VEVENT
BEGIN:VEVENT
DTSTART;TZID=America/New_York:20260418T110000
DTEND;TZID=America/New_York:20260418T153000
DTSTAMP:20260422T053947
CREATED:20260329T132050Z
LAST-MODIFIED:20260331T145507Z
UID:10008807-1776510000-1776526200@www.osc.org
SUMMARY:DIY Woodburning
DESCRIPTION:Create your own pyrography art! Sessions run every 30 minutes. Tickets are available in The Hive up to one hour before each session. For Makers 8+
URL:https://www.osc.org/event/diy-woodburning-33/
LOCATION:The Hive – Level 3
CATEGORIES:Science Live Schedule
ATTACH;FMTTYPE=image/png:https://www.osc.org/wp-content/uploads/2025/01/Origami_1080x608.png
GEO:28.57228;-81.368341
END:VEVENT
BEGIN:VEVENT
DTSTART;TZID=America/New_York:20260418T100000
DTEND;TZID=America/New_York:20260418T170000
DTSTAMP:20260422T053947
CREATED:20260329T132050Z
LAST-MODIFIED:20260331T145507Z
UID:10008806-1776506400-1776531600@www.osc.org
SUMMARY:Self-guided Maker Activities
DESCRIPTION:Utilize green screen technology to transport yourselves to any setting imaginable. Get hands-on with creativity as you design and craft your own props using your movie budget\, bringing your cinematic visions to life! For Makers 8+
URL:https://www.osc.org/event/self-guided-maker-activities-66/
LOCATION:The Hive – Level 3
CATEGORIES:Science Live Schedule
ATTACH;FMTTYPE=image/jpeg:https://www.osc.org/wp-content/uploads/2026/03/Untitled-design-3-3.jpg
GEO:28.57228;-81.368341
END:VEVENT
BEGIN:VEVENT
DTSTART;TZID=America/New_York:20260417T100000
DTEND;TZID=America/New_York:20260417T170000
DTSTAMP:20260422T053947
CREATED:20260329T132050Z
LAST-MODIFIED:20260331T145507Z
UID:10008805-1776420000-1776445200@www.osc.org
SUMMARY:Self-guided Maker Activities
DESCRIPTION:Utilize green screen technology to transport yourselves to any setting imaginable. Get hands-on with creativity as you design and craft your own props using your movie budget\, bringing your cinematic visions to life! For Makers 8+
URL:https://www.osc.org/event/self-guided-maker-activities-65/
LOCATION:The Hive – Level 3
CATEGORIES:Science Live Schedule
ATTACH;FMTTYPE=image/jpeg:https://www.osc.org/wp-content/uploads/2026/03/Untitled-design-3-3.jpg
GEO:28.57228;-81.368341
END:VEVENT
BEGIN:VEVENT
DTSTART;TZID=America/New_York:20260416T100000
DTEND;TZID=America/New_York:20260416T170000
DTSTAMP:20260422T053947
CREATED:20260329T132021Z
LAST-MODIFIED:20260331T145437Z
UID:10008804-1776333600-1776358800@www.osc.org
SUMMARY:Self-guided Maker Activities
DESCRIPTION:Utilize green screen technology to transport yourselves to any setting imaginable. Get hands-on with creativity as you design and craft your own props using your movie budget\, bringing your cinematic visions to life! For Makers 8+
URL:https://www.osc.org/event/self-guided-maker-activities-64/
LOCATION:The Hive – Level 3
CATEGORIES:Science Live Schedule
ATTACH;FMTTYPE=image/jpeg:https://www.osc.org/wp-content/uploads/2026/03/Untitled-design-3-3.jpg
GEO:28.57228;-81.368341
END:VEVENT
BEGIN:VEVENT
DTSTART;TZID=America/New_York:20260414T100000
DTEND;TZID=America/New_York:20260414T170000
DTSTAMP:20260422T053947
CREATED:20260329T132020Z
LAST-MODIFIED:20260331T145437Z
UID:10008803-1776160800-1776186000@www.osc.org
SUMMARY:Self-guided Maker Activities
DESCRIPTION:Utilize green screen technology to transport yourselves to any setting imaginable. Get hands-on with creativity as you design and craft your own props using your movie budget\, bringing your cinematic visions to life! For Makers 8+
URL:https://www.osc.org/event/self-guided-maker-activities-63/
LOCATION:The Hive – Level 3
CATEGORIES:Science Live Schedule
ATTACH;FMTTYPE=image/jpeg:https://www.osc.org/wp-content/uploads/2026/03/Untitled-design-3-3.jpg
GEO:28.57228;-81.368341
END:VEVENT
BEGIN:VEVENT
DTSTART;TZID=America/New_York:20260413T100000
DTEND;TZID=America/New_York:20260413T170000
DTSTAMP:20260422T053947
CREATED:20260329T132020Z
LAST-MODIFIED:20260331T145437Z
UID:10008802-1776074400-1776099600@www.osc.org
SUMMARY:Self-guided Maker Activities
DESCRIPTION:Utilize green screen technology to transport yourselves to any setting imaginable. Get hands-on with creativity as you design and craft your own props using your movie budget\, bringing your cinematic visions to life! For Makers 8+
URL:https://www.osc.org/event/self-guided-maker-activities-62/
LOCATION:The Hive – Level 3
CATEGORIES:Science Live Schedule
ATTACH;FMTTYPE=image/jpeg:https://www.osc.org/wp-content/uploads/2026/03/Untitled-design-3-3.jpg
GEO:28.57228;-81.368341
END:VEVENT
BEGIN:VEVENT
DTSTART;TZID=America/New_York:20260412T110000
DTEND;TZID=America/New_York:20260412T153000
DTSTAMP:20260422T053947
CREATED:20260329T132019Z
LAST-MODIFIED:20260331T145437Z
UID:10008801-1775991600-1776007800@www.osc.org
SUMMARY:DIY Woodburning
DESCRIPTION:Create your own pyrography art! Sessions run every 30 minutes. Tickets are available in The Hive up to one hour before each session. For Makers 8+
URL:https://www.osc.org/event/diy-woodburning-32/
LOCATION:The Hive – Level 3
CATEGORIES:Science Live Schedule
ATTACH;FMTTYPE=image/png:https://www.osc.org/wp-content/uploads/2025/01/Origami_1080x608.png
GEO:28.57228;-81.368341
END:VEVENT
BEGIN:VEVENT
DTSTART;TZID=America/New_York:20260412T100000
DTEND;TZID=America/New_York:20260412T170000
DTSTAMP:20260422T053947
CREATED:20260329T132019Z
LAST-MODIFIED:20260331T145437Z
UID:10008800-1775988000-1776013200@www.osc.org
SUMMARY:Self-guided Maker Activities
DESCRIPTION:Utilize green screen technology to transport yourselves to any setting imaginable. Get hands-on with creativity as you design and craft your own props using your movie budget\, bringing your cinematic visions to life! For Makers 8+
URL:https://www.osc.org/event/self-guided-maker-activities-61/
LOCATION:The Hive – Level 3
CATEGORIES:Science Live Schedule
ATTACH;FMTTYPE=image/jpeg:https://www.osc.org/wp-content/uploads/2026/03/Untitled-design-3-3.jpg
GEO:28.57228;-81.368341
END:VEVENT
BEGIN:VEVENT
DTSTART;TZID=America/New_York:20260411T110000
DTEND;TZID=America/New_York:20260411T153000
DTSTAMP:20260422T053947
CREATED:20260410T130213Z
LAST-MODIFIED:20260410T130213Z
UID:10008830-1775905200-1775921400@www.osc.org
SUMMARY:DIY Woodburning
DESCRIPTION:Create your own pyrography art! Sessions run every 30 minutes. Tickets are available in The Hive up to one hour before each session. For Makers 8+
URL:https://www.osc.org/event/diy-woodburning/
LOCATION:The Hive – Level 3
CATEGORIES:Science Live Schedule
ATTACH;FMTTYPE=image/png:https://www.osc.org/wp-content/uploads/2025/01/Origami_1080x608.png
GEO:28.57228;-81.368341
END:VEVENT
BEGIN:VEVENT
DTSTART;TZID=America/New_York:20260411T100000
DTEND;TZID=America/New_York:20260411T170000
DTSTAMP:20260422T053947
CREATED:20260329T131950Z
LAST-MODIFIED:20260331T145407Z
UID:10008798-1775901600-1775926800@www.osc.org
SUMMARY:Self-guided Maker Activities
DESCRIPTION:Utilize green screen technology to transport yourselves to any setting imaginable. Get hands-on with creativity as you design and craft your own props using your movie budget\, bringing your cinematic visions to life! For Makers 8+
URL:https://www.osc.org/event/self-guided-maker-activities-60/
LOCATION:The Hive – Level 3
CATEGORIES:Science Live Schedule
ATTACH;FMTTYPE=image/jpeg:https://www.osc.org/wp-content/uploads/2026/03/Untitled-design-3-3.jpg
GEO:28.57228;-81.368341
END:VEVENT
BEGIN:VEVENT
DTSTART;TZID=America/New_York:20260410T100000
DTEND;TZID=America/New_York:20260410T170000
DTSTAMP:20260422T053947
CREATED:20260329T131950Z
LAST-MODIFIED:20260331T145407Z
UID:10008797-1775815200-1775840400@www.osc.org
SUMMARY:Self-guided Maker Activities
DESCRIPTION:Utilize green screen technology to transport yourselves to any setting imaginable. Get hands-on with creativity as you design and craft your own props using your movie budget\, bringing your cinematic visions to life! For Makers 8+
URL:https://www.osc.org/event/self-guided-maker-activities-59/
LOCATION:The Hive – Level 3
CATEGORIES:Science Live Schedule
ATTACH;FMTTYPE=image/jpeg:https://www.osc.org/wp-content/uploads/2026/03/Untitled-design-3-3.jpg
GEO:28.57228;-81.368341
END:VEVENT
BEGIN:VEVENT
DTSTART;TZID=America/New_York:20260409T100000
DTEND;TZID=America/New_York:20260409T170000
DTSTAMP:20260422T053947
CREATED:20260329T131949Z
LAST-MODIFIED:20260331T145406Z
UID:10008796-1775728800-1775754000@www.osc.org
SUMMARY:Self-guided Maker Activities
DESCRIPTION:Utilize green screen technology to transport yourselves to any setting imaginable. Get hands-on with creativity as you design and craft your own props using your movie budget\, bringing your cinematic visions to life! For Makers 8+
URL:https://www.osc.org/event/self-guided-maker-activities-58/
LOCATION:The Hive – Level 3
CATEGORIES:Science Live Schedule
ATTACH;FMTTYPE=image/jpeg:https://www.osc.org/wp-content/uploads/2026/03/Untitled-design-3-3.jpg
GEO:28.57228;-81.368341
END:VEVENT
BEGIN:VEVENT
DTSTART;TZID=America/New_York:20260407T100000
DTEND;TZID=America/New_York:20260407T170000
DTSTAMP:20260422T053947
CREATED:20260329T131949Z
LAST-MODIFIED:20260331T145406Z
UID:10008795-1775556000-1775581200@www.osc.org
SUMMARY:Self-guided Maker Activities
DESCRIPTION:Utilize green screen technology to transport yourselves to any setting imaginable. Get hands-on with creativity as you design and craft your own props using your movie budget\, bringing your cinematic visions to life! For Makers 8+
URL:https://www.osc.org/event/self-guided-maker-activities-57/
LOCATION:The Hive – Level 3
CATEGORIES:Science Live Schedule
ATTACH;FMTTYPE=image/jpeg:https://www.osc.org/wp-content/uploads/2026/03/Untitled-design-3-3.jpg
GEO:28.57228;-81.368341
END:VEVENT
BEGIN:VEVENT
DTSTART;TZID=America/New_York:20260406T100000
DTEND;TZID=America/New_York:20260406T170000
DTSTAMP:20260422T053947
CREATED:20260329T131948Z
LAST-MODIFIED:20260331T145404Z
UID:10008794-1775469600-1775494800@www.osc.org
SUMMARY:Self-guided Maker Activities
DESCRIPTION:Utilize green screen technology to transport yourselves to any setting imaginable. Get hands-on with creativity as you design and craft your own props using your movie budget\, bringing your cinematic visions to life! For Makers 8+
URL:https://www.osc.org/event/self-guided-maker-activities-56/
LOCATION:The Hive – Level 3
CATEGORIES:Science Live Schedule
ATTACH;FMTTYPE=image/jpeg:https://www.osc.org/wp-content/uploads/2026/03/Untitled-design-3-3.jpg
GEO:28.57228;-81.368341
END:VEVENT
BEGIN:VEVENT
DTSTART;TZID=America/New_York:20260404T110000
DTEND;TZID=America/New_York:20260404T153000
DTSTAMP:20260422T053947
CREATED:20260329T131947Z
LAST-MODIFIED:20260331T145404Z
UID:10008793-1775300400-1775316600@www.osc.org
SUMMARY:DIY Woodburning
DESCRIPTION:Create your own pyrography art! Sessions run every 30 minutes. Tickets are available in The Hive up to one hour before each session. For Makers 8+
URL:https://www.osc.org/event/diy-woodburning-30/
LOCATION:The Hive – Level 3
CATEGORIES:Science Live Schedule
ATTACH;FMTTYPE=image/png:https://www.osc.org/wp-content/uploads/2025/01/Origami_1080x608.png
GEO:28.57228;-81.368341
END:VEVENT
BEGIN:VEVENT
DTSTART;TZID=America/New_York:20260404T100000
DTEND;TZID=America/New_York:20260404T170000
DTSTAMP:20260422T053947
CREATED:20260329T131947Z
LAST-MODIFIED:20260331T145404Z
UID:10008792-1775296800-1775322000@www.osc.org
SUMMARY:Self-guided Maker Activities
DESCRIPTION:Utilize green screen technology to transport yourselves to any setting imaginable. Get hands-on with creativity as you design and craft your own props using your movie budget\, bringing your cinematic visions to life! For Makers 8+
URL:https://www.osc.org/event/self-guided-maker-activities-55/
LOCATION:The Hive – Level 3
CATEGORIES:Science Live Schedule
ATTACH;FMTTYPE=image/jpeg:https://www.osc.org/wp-content/uploads/2026/03/Untitled-design-3-3.jpg
GEO:28.57228;-81.368341
END:VEVENT
BEGIN:VEVENT
DTSTART;TZID=America/New_York:20260403T100000
DTEND;TZID=America/New_York:20260403T170000
DTSTAMP:20260422T053947
CREATED:20260329T131947Z
LAST-MODIFIED:20260331T145404Z
UID:10008791-1775210400-1775235600@www.osc.org
SUMMARY:Self-guided Maker Activities
DESCRIPTION:Utilize green screen technology to transport yourselves to any setting imaginable. Get hands-on with creativity as you design and craft your own props using your movie budget\, bringing your cinematic visions to life! For Makers 8+
URL:https://www.osc.org/event/self-guided-maker-activities-54/
LOCATION:The Hive – Level 3
CATEGORIES:Science Live Schedule
ATTACH;FMTTYPE=image/jpeg:https://www.osc.org/wp-content/uploads/2026/03/Untitled-design-3-3.jpg
GEO:28.57228;-81.368341
END:VEVENT
BEGIN:VEVENT
DTSTART;TZID=America/New_York:20260402T100000
DTEND;TZID=America/New_York:20260402T170000
DTSTAMP:20260422T053947
CREATED:20260329T131946Z
LAST-MODIFIED:20260331T145404Z
UID:10008790-1775124000-1775149200@www.osc.org
SUMMARY:Self-guided Maker Activities
DESCRIPTION:Utilize green screen technology to transport yourselves to any setting imaginable. Get hands-on with creativity as you design and craft your own props using your movie budget\, bringing your cinematic visions to life! For Makers 8+
URL:https://www.osc.org/event/self-guided-maker-activities-53/
LOCATION:The Hive – Level 3
CATEGORIES:Science Live Schedule
ATTACH;FMTTYPE=image/jpeg:https://www.osc.org/wp-content/uploads/2026/03/Untitled-design-3-3.jpg
GEO:28.57228;-81.368341
END:VEVENT
BEGIN:VEVENT
DTSTART;TZID=America/New_York:20260331T100000
DTEND;TZID=America/New_York:20260331T170000
DTSTAMP:20260422T053947
CREATED:20260328T155610Z
LAST-MODIFIED:20260328T174722Z
UID:10008575-1774951200-1774976400@www.osc.org
SUMMARY:Self-guided Maker Activities
DESCRIPTION:Go through the step-by-step process used to make real movies.
URL:https://www.osc.org/event/self-guided-maker-activities-52/
LOCATION:The Hive – Level 3
CATEGORIES:Science Live Schedule
ATTACH;FMTTYPE=image/jpeg:https://www.osc.org/wp-content/uploads/2020/04/diy-stop-motion-animation-movie-using-tablet.jpg
GEO:28.57228;-81.368341
END:VEVENT
BEGIN:VEVENT
DTSTART;TZID=America/New_York:20260330T100000
DTEND;TZID=America/New_York:20260330T170000
DTSTAMP:20260422T053947
CREATED:20260328T155608Z
LAST-MODIFIED:20260328T174720Z
UID:10008570-1774864800-1774890000@www.osc.org
SUMMARY:Self-guided Maker Activities
DESCRIPTION:Go through the step-by-step process used to make real movies.
URL:https://www.osc.org/event/self-guided-maker-activities-51/
LOCATION:The Hive – Level 3
CATEGORIES:Science Live Schedule
ATTACH;FMTTYPE=image/jpeg:https://www.osc.org/wp-content/uploads/2020/04/diy-stop-motion-animation-movie-using-tablet.jpg
GEO:28.57228;-81.368341
END:VEVENT
BEGIN:VEVENT
DTSTART;TZID=America/New_York:20260329T110000
DTEND;TZID=America/New_York:20260329T153000
DTSTAMP:20260422T053947
CREATED:20260307T163803Z
LAST-MODIFIED:20260307T163803Z
UID:10008277-1774782000-1774798200@www.osc.org
SUMMARY:DIY Woodburning
DESCRIPTION:Create your own pyrography art! Sessions run every 30 minutes. Tickets are available in The Hive up to one hour before each session. One ticket per project. For Makers 8+
URL:https://www.osc.org/event/diy-woodburning-18/
LOCATION:The Hive – Level 3
CATEGORIES:Science Live Schedule
ATTACH;FMTTYPE=image/png:https://www.osc.org/wp-content/uploads/2025/01/Origami_1080x608.png
GEO:28.57228;-81.368341
END:VEVENT
BEGIN:VEVENT
DTSTART;TZID=America/New_York:20260329T100000
DTEND;TZID=America/New_York:20260329T170000
DTSTAMP:20260422T053947
CREATED:20260307T163603Z
LAST-MODIFIED:20260307T163603Z
UID:10008276-1774778400-1774803600@www.osc.org
SUMMARY:Self-guided Maker Activities
DESCRIPTION:Go through the step-by-step process used to make real movies.
URL:https://www.osc.org/event/self-guided-maker-activities-46/
LOCATION:The Hive – Level 3
CATEGORIES:Science Live Schedule
ATTACH;FMTTYPE=image/jpeg:https://www.osc.org/wp-content/uploads/2020/04/diy-stop-motion-animation-movie-using-tablet.jpg
GEO:28.57228;-81.368341
END:VEVENT
BEGIN:VEVENT
DTSTART;TZID=America/New_York:20260328T110000
DTEND;TZID=America/New_York:20260328T153000
DTSTAMP:20260422T053947
CREATED:20260307T163200Z
LAST-MODIFIED:20260307T163200Z
UID:10008264-1774695600-1774711800@www.osc.org
SUMMARY:DIY Woodburning
DESCRIPTION:Create your own pyrography art! Sessions run every 30 minutes. Tickets are available in The Hive up to one hour before each session. One ticket per project. For Makers 8+
URL:https://www.osc.org/event/diy-woodburning-16/
LOCATION:The Hive – Level 3
CATEGORIES:Science Live Schedule
ATTACH;FMTTYPE=image/png:https://www.osc.org/wp-content/uploads/2025/01/Origami_1080x608.png
GEO:28.57228;-81.368341
END:VEVENT
BEGIN:VEVENT
DTSTART;TZID=America/New_York:20260328T100000
DTEND;TZID=America/New_York:20260328T170000
DTSTAMP:20260422T053947
CREATED:20260307T163200Z
LAST-MODIFIED:20260307T163200Z
UID:10008263-1774692000-1774717200@www.osc.org
SUMMARY:Self-guided Maker Activities
DESCRIPTION:Go through the step-by-step process used to make real movies.
URL:https://www.osc.org/event/self-guided-maker-activities-45/
LOCATION:The Hive – Level 3
CATEGORIES:Science Live Schedule
ATTACH;FMTTYPE=image/jpeg:https://www.osc.org/wp-content/uploads/2020/04/diy-stop-motion-animation-movie-using-tablet.jpg
GEO:28.57228;-81.368341
END:VEVENT
BEGIN:VEVENT
DTSTART;TZID=America/New_York:20260327T100000
DTEND;TZID=America/New_York:20260327T170000
DTSTAMP:20260422T053947
CREATED:20260307T162959Z
LAST-MODIFIED:20260307T162959Z
UID:10008258-1774605600-1774630800@www.osc.org
SUMMARY:Self-guided Maker Activities
DESCRIPTION:Go through the step-by-step process used to make real movies.
URL:https://www.osc.org/event/self-guided-maker-activities-44/
LOCATION:The Hive – Level 3
CATEGORIES:Science Live Schedule
ATTACH;FMTTYPE=image/jpeg:https://www.osc.org/wp-content/uploads/2020/04/diy-stop-motion-animation-movie-using-tablet.jpg
GEO:28.57228;-81.368341
END:VEVENT
BEGIN:VEVENT
DTSTART;TZID=America/New_York:20260326T100000
DTEND;TZID=America/New_York:20260326T170000
DTSTAMP:20260422T053947
CREATED:20260307T162929Z
LAST-MODIFIED:20260307T162929Z
UID:10008253-1774519200-1774544400@www.osc.org
SUMMARY:Self-guided Maker Activities
DESCRIPTION:Go through the step-by-step process used to make real movies.
URL:https://www.osc.org/event/self-guided-maker-activities-43/
LOCATION:The Hive – Level 3
CATEGORIES:Science Live Schedule
ATTACH;FMTTYPE=image/jpeg:https://www.osc.org/wp-content/uploads/2020/04/diy-stop-motion-animation-movie-using-tablet.jpg
GEO:28.57228;-81.368341
END:VEVENT
END:VCALENDAR