BEGIN:VCALENDAR
VERSION:2.0
PRODID:-//Orlando Science Center - ECPv6.15.20//NONSGML v1.0//EN
CALSCALE:GREGORIAN
METHOD:PUBLISH
X-WR-CALNAME:Orlando Science Center
X-ORIGINAL-URL:https://www.osc.org
X-WR-CALDESC:Events for Orlando Science Center
REFRESH-INTERVAL;VALUE=DURATION:PT1H
X-Robots-Tag:noindex
X-PUBLISHED-TTL:PT1H
BEGIN:VTIMEZONE
TZID:America/New_York
BEGIN:DAYLIGHT
TZOFFSETFROM:-0500
TZOFFSETTO:-0400
TZNAME:EDT
DTSTART:20250309T070000
END:DAYLIGHT
BEGIN:STANDARD
TZOFFSETFROM:-0400
TZOFFSETTO:-0500
TZNAME:EST
DTSTART:20251102T060000
END:STANDARD
BEGIN:DAYLIGHT
TZOFFSETFROM:-0500
TZOFFSETTO:-0400
TZNAME:EDT
DTSTART:20260308T070000
END:DAYLIGHT
BEGIN:STANDARD
TZOFFSETFROM:-0400
TZOFFSETTO:-0500
TZNAME:EST
DTSTART:20261101T060000
END:STANDARD
BEGIN:DAYLIGHT
TZOFFSETFROM:-0500
TZOFFSETTO:-0400
TZNAME:EDT
DTSTART:20270314T070000
END:DAYLIGHT
BEGIN:STANDARD
TZOFFSETFROM:-0400
TZOFFSETTO:-0500
TZNAME:EST
DTSTART:20271107T060000
END:STANDARD
END:VTIMEZONE
BEGIN:VEVENT
DTSTART;TZID=America/New_York:20260423T140000
DTEND;TZID=America/New_York:20260423T141500
DTSTAMP:20260422T050353
CREATED:20260113T162936Z
LAST-MODIFIED:20260113T162936Z
UID:10007184-1776952800-1776953700@www.osc.org
SUMMARY:Swamp Feeding
DESCRIPTION:Hungry? Find out what our alligators\, turtles\, and fish are fed for lunch\, and gain some ideas on how to help conserve these beautiful animals and their home.
URL:https://www.osc.org/event/swamp-feeding-101/
LOCATION:Life – Level 1
CATEGORIES:Life Schedule
ATTACH;FMTTYPE=image/png:https://www.osc.org/wp-content/uploads/2024/08/Swamp-Feeding_1080x608.png
END:VEVENT
BEGIN:VEVENT
DTSTART;TZID=America/New_York:20260424T140000
DTEND;TZID=America/New_York:20260424T141500
DTSTAMP:20260422T050353
CREATED:20260113T162936Z
LAST-MODIFIED:20260113T162936Z
UID:10007185-1777039200-1777040100@www.osc.org
SUMMARY:Swamp Feeding
DESCRIPTION:Hungry? Find out what our alligators\, turtles\, and fish are fed for lunch\, and gain some ideas on how to help conserve these beautiful animals and their home.
URL:https://www.osc.org/event/swamp-feeding-102/
LOCATION:Life – Level 1
CATEGORIES:Life Schedule
ATTACH;FMTTYPE=image/png:https://www.osc.org/wp-content/uploads/2024/08/Swamp-Feeding_1080x608.png
END:VEVENT
BEGIN:VEVENT
DTSTART;TZID=America/New_York:20260425T140000
DTEND;TZID=America/New_York:20260425T141500
DTSTAMP:20260422T050353
CREATED:20260113T162937Z
LAST-MODIFIED:20260113T162937Z
UID:10007186-1777125600-1777126500@www.osc.org
SUMMARY:Swamp Feeding
DESCRIPTION:Hungry? Find out what our alligators\, turtles\, and fish are fed for lunch\, and gain some ideas on how to help conserve these beautiful animals and their home.
URL:https://www.osc.org/event/swamp-feeding-103/
LOCATION:Life – Level 1
CATEGORIES:Life Schedule
ATTACH;FMTTYPE=image/png:https://www.osc.org/wp-content/uploads/2024/08/Swamp-Feeding_1080x608.png
END:VEVENT
BEGIN:VEVENT
DTSTART;TZID=America/New_York:20260426T140000
DTEND;TZID=America/New_York:20260426T141500
DTSTAMP:20260422T050353
CREATED:20260113T162937Z
LAST-MODIFIED:20260113T162937Z
UID:10007187-1777212000-1777212900@www.osc.org
SUMMARY:Swamp Feeding
DESCRIPTION:Hungry? Find out what our alligators\, turtles\, and fish are fed for lunch\, and gain some ideas on how to help conserve these beautiful animals and their home.
URL:https://www.osc.org/event/swamp-feeding-104/
LOCATION:Life – Level 1
CATEGORIES:Life Schedule
ATTACH;FMTTYPE=image/png:https://www.osc.org/wp-content/uploads/2024/08/Swamp-Feeding_1080x608.png
END:VEVENT
BEGIN:VEVENT
DTSTART;TZID=America/New_York:20260427T140000
DTEND;TZID=America/New_York:20260427T141500
DTSTAMP:20260422T050353
CREATED:20260113T162937Z
LAST-MODIFIED:20260113T162937Z
UID:10007188-1777298400-1777299300@www.osc.org
SUMMARY:Swamp Feeding
DESCRIPTION:Hungry? Find out what our alligators\, turtles\, and fish are fed for lunch\, and gain some ideas on how to help conserve these beautiful animals and their home.
URL:https://www.osc.org/event/swamp-feeding-105/
LOCATION:Life – Level 1
CATEGORIES:Life Schedule
ATTACH;FMTTYPE=image/png:https://www.osc.org/wp-content/uploads/2024/08/Swamp-Feeding_1080x608.png
END:VEVENT
BEGIN:VEVENT
DTSTART;TZID=America/New_York:20260428T140000
DTEND;TZID=America/New_York:20260428T141500
DTSTAMP:20260422T050353
CREATED:20260113T163006Z
LAST-MODIFIED:20260113T163006Z
UID:10007189-1777384800-1777385700@www.osc.org
SUMMARY:Swamp Feeding
DESCRIPTION:Hungry? Find out what our alligators\, turtles\, and fish are fed for lunch\, and gain some ideas on how to help conserve these beautiful animals and their home.
URL:https://www.osc.org/event/swamp-feeding-106/
LOCATION:Life – Level 1
CATEGORIES:Life Schedule
ATTACH;FMTTYPE=image/png:https://www.osc.org/wp-content/uploads/2024/08/Swamp-Feeding_1080x608.png
END:VEVENT
BEGIN:VEVENT
DTSTART;TZID=America/New_York:20260430T140000
DTEND;TZID=America/New_York:20260430T141500
DTSTAMP:20260422T050353
CREATED:20260113T163007Z
LAST-MODIFIED:20260113T163007Z
UID:10007191-1777557600-1777558500@www.osc.org
SUMMARY:Swamp Feeding
DESCRIPTION:Hungry? Find out what our alligators\, turtles\, and fish are fed for lunch\, and gain some ideas on how to help conserve these beautiful animals and their home.
URL:https://www.osc.org/event/swamp-feeding-108/
LOCATION:Life – Level 1
CATEGORIES:Life Schedule
ATTACH;FMTTYPE=image/png:https://www.osc.org/wp-content/uploads/2024/08/Swamp-Feeding_1080x608.png
END:VEVENT
BEGIN:VEVENT
DTSTART;TZID=America/New_York:20260501T140000
DTEND;TZID=America/New_York:20260501T141500
DTSTAMP:20260422T050353
CREATED:20260113T163007Z
LAST-MODIFIED:20260113T163007Z
UID:10007192-1777644000-1777644900@www.osc.org
SUMMARY:Swamp Feeding
DESCRIPTION:Hungry? Find out what our alligators\, turtles\, and fish are fed for lunch\, and gain some ideas on how to help conserve these beautiful animals and their home.
URL:https://www.osc.org/event/swamp-feeding-109/
LOCATION:Life – Level 1
CATEGORIES:Life Schedule
ATTACH;FMTTYPE=image/png:https://www.osc.org/wp-content/uploads/2024/08/Swamp-Feeding_1080x608.png
END:VEVENT
BEGIN:VEVENT
DTSTART;TZID=America/New_York:20260502T140000
DTEND;TZID=America/New_York:20260502T141500
DTSTAMP:20260422T050353
CREATED:20260113T163007Z
LAST-MODIFIED:20260113T163007Z
UID:10007193-1777730400-1777731300@www.osc.org
SUMMARY:Swamp Feeding
DESCRIPTION:Hungry? Find out what our alligators\, turtles\, and fish are fed for lunch\, and gain some ideas on how to help conserve these beautiful animals and their home.
URL:https://www.osc.org/event/swamp-feeding-110/
LOCATION:Life – Level 1
CATEGORIES:Life Schedule
ATTACH;FMTTYPE=image/png:https://www.osc.org/wp-content/uploads/2024/08/Swamp-Feeding_1080x608.png
END:VEVENT
BEGIN:VEVENT
DTSTART;TZID=America/New_York:20260503T140000
DTEND;TZID=America/New_York:20260503T141500
DTSTAMP:20260422T050353
CREATED:20260113T163206Z
LAST-MODIFIED:20260113T163206Z
UID:10007194-1777816800-1777817700@www.osc.org
SUMMARY:Swamp Feeding
DESCRIPTION:Hungry? Find out what our alligators\, turtles\, and fish are fed for lunch\, and gain some ideas on how to help conserve these beautiful animals and their home.
URL:https://www.osc.org/event/swamp-feeding-111/
LOCATION:Life – Level 1
CATEGORIES:Life Schedule
ATTACH;FMTTYPE=image/png:https://www.osc.org/wp-content/uploads/2024/08/Swamp-Feeding_1080x608.png
END:VEVENT
BEGIN:VEVENT
DTSTART;TZID=America/New_York:20260504T140000
DTEND;TZID=America/New_York:20260504T141500
DTSTAMP:20260422T050353
CREATED:20260113T163206Z
LAST-MODIFIED:20260113T163206Z
UID:10007195-1777903200-1777904100@www.osc.org
SUMMARY:Swamp Feeding
DESCRIPTION:Hungry? Find out what our alligators\, turtles\, and fish are fed for lunch\, and gain some ideas on how to help conserve these beautiful animals and their home.
URL:https://www.osc.org/event/swamp-feeding-112/
LOCATION:Life – Level 1
CATEGORIES:Life Schedule
ATTACH;FMTTYPE=image/png:https://www.osc.org/wp-content/uploads/2024/08/Swamp-Feeding_1080x608.png
END:VEVENT
BEGIN:VEVENT
DTSTART;TZID=America/New_York:20260505T140000
DTEND;TZID=America/New_York:20260505T141500
DTSTAMP:20260422T050353
CREATED:20260113T163207Z
LAST-MODIFIED:20260113T163207Z
UID:10007196-1777989600-1777990500@www.osc.org
SUMMARY:Swamp Feeding
DESCRIPTION:Hungry? Find out what our alligators\, turtles\, and fish are fed for lunch\, and gain some ideas on how to help conserve these beautiful animals and their home.
URL:https://www.osc.org/event/swamp-feeding-113/
LOCATION:Life – Level 1
CATEGORIES:Life Schedule
ATTACH;FMTTYPE=image/png:https://www.osc.org/wp-content/uploads/2024/08/Swamp-Feeding_1080x608.png
END:VEVENT
BEGIN:VEVENT
DTSTART;TZID=America/New_York:20260507T140000
DTEND;TZID=America/New_York:20260507T141500
DTSTAMP:20260422T050353
CREATED:20260113T163207Z
LAST-MODIFIED:20260113T163207Z
UID:10007198-1778162400-1778163300@www.osc.org
SUMMARY:Swamp Feeding
DESCRIPTION:Hungry? Find out what our alligators\, turtles\, and fish are fed for lunch\, and gain some ideas on how to help conserve these beautiful animals and their home.
URL:https://www.osc.org/event/swamp-feeding-115/
LOCATION:Life – Level 1
CATEGORIES:Life Schedule
ATTACH;FMTTYPE=image/png:https://www.osc.org/wp-content/uploads/2024/08/Swamp-Feeding_1080x608.png
END:VEVENT
BEGIN:VEVENT
DTSTART;TZID=America/New_York:20260508T140000
DTEND;TZID=America/New_York:20260508T141500
DTSTAMP:20260422T050353
CREATED:20260113T163406Z
LAST-MODIFIED:20260113T163406Z
UID:10007199-1778248800-1778249700@www.osc.org
SUMMARY:Swamp Feeding
DESCRIPTION:Hungry? Find out what our alligators\, turtles\, and fish are fed for lunch\, and gain some ideas on how to help conserve these beautiful animals and their home.
URL:https://www.osc.org/event/swamp-feeding-116/
LOCATION:Life – Level 1
CATEGORIES:Life Schedule
ATTACH;FMTTYPE=image/png:https://www.osc.org/wp-content/uploads/2024/08/Swamp-Feeding_1080x608.png
END:VEVENT
BEGIN:VEVENT
DTSTART;TZID=America/New_York:20260509T140000
DTEND;TZID=America/New_York:20260509T141500
DTSTAMP:20260422T050353
CREATED:20260113T163406Z
LAST-MODIFIED:20260113T163406Z
UID:10007200-1778335200-1778336100@www.osc.org
SUMMARY:Swamp Feeding
DESCRIPTION:Hungry? Find out what our alligators\, turtles\, and fish are fed for lunch\, and gain some ideas on how to help conserve these beautiful animals and their home.
URL:https://www.osc.org/event/swamp-feeding-117/
LOCATION:Life – Level 1
CATEGORIES:Life Schedule
ATTACH;FMTTYPE=image/png:https://www.osc.org/wp-content/uploads/2024/08/Swamp-Feeding_1080x608.png
END:VEVENT
BEGIN:VEVENT
DTSTART;TZID=America/New_York:20260510T140000
DTEND;TZID=America/New_York:20260510T141500
DTSTAMP:20260422T050353
CREATED:20260113T163407Z
LAST-MODIFIED:20260113T163407Z
UID:10007201-1778421600-1778422500@www.osc.org
SUMMARY:Swamp Feeding
DESCRIPTION:Hungry? Find out what our alligators\, turtles\, and fish are fed for lunch\, and gain some ideas on how to help conserve these beautiful animals and their home.
URL:https://www.osc.org/event/swamp-feeding-118/
LOCATION:Life – Level 1
CATEGORIES:Life Schedule
ATTACH;FMTTYPE=image/png:https://www.osc.org/wp-content/uploads/2024/08/Swamp-Feeding_1080x608.png
END:VEVENT
BEGIN:VEVENT
DTSTART;TZID=America/New_York:20260511T140000
DTEND;TZID=America/New_York:20260511T141500
DTSTAMP:20260422T050353
CREATED:20260113T163407Z
LAST-MODIFIED:20260113T163407Z
UID:10007202-1778508000-1778508900@www.osc.org
SUMMARY:Swamp Feeding
DESCRIPTION:Hungry? Find out what our alligators\, turtles\, and fish are fed for lunch\, and gain some ideas on how to help conserve these beautiful animals and their home.
URL:https://www.osc.org/event/swamp-feeding-119/
LOCATION:Life – Level 1
CATEGORIES:Life Schedule
ATTACH;FMTTYPE=image/png:https://www.osc.org/wp-content/uploads/2024/08/Swamp-Feeding_1080x608.png
END:VEVENT
BEGIN:VEVENT
DTSTART;TZID=America/New_York:20260512T140000
DTEND;TZID=America/New_York:20260512T141500
DTSTAMP:20260422T050353
CREATED:20260113T163407Z
LAST-MODIFIED:20260113T163407Z
UID:10007203-1778594400-1778595300@www.osc.org
SUMMARY:Swamp Feeding
DESCRIPTION:Hungry? Find out what our alligators\, turtles\, and fish are fed for lunch\, and gain some ideas on how to help conserve these beautiful animals and their home.
URL:https://www.osc.org/event/swamp-feeding-120/
LOCATION:Life – Level 1
CATEGORIES:Life Schedule
ATTACH;FMTTYPE=image/png:https://www.osc.org/wp-content/uploads/2024/08/Swamp-Feeding_1080x608.png
END:VEVENT
BEGIN:VEVENT
DTSTART;TZID=America/New_York:20260514T140000
DTEND;TZID=America/New_York:20260514T141500
DTSTAMP:20260422T050353
CREATED:20260113T163607Z
LAST-MODIFIED:20260113T163607Z
UID:10007205-1778767200-1778768100@www.osc.org
SUMMARY:Swamp Feeding
DESCRIPTION:Hungry? Find out what our alligators\, turtles\, and fish are fed for lunch\, and gain some ideas on how to help conserve these beautiful animals and their home.
URL:https://www.osc.org/event/swamp-feeding-122/
LOCATION:Life – Level 1
CATEGORIES:Life Schedule
ATTACH;FMTTYPE=image/png:https://www.osc.org/wp-content/uploads/2024/08/Swamp-Feeding_1080x608.png
END:VEVENT
BEGIN:VEVENT
DTSTART;TZID=America/New_York:20260515T140000
DTEND;TZID=America/New_York:20260515T141500
DTSTAMP:20260422T050353
CREATED:20260113T163607Z
LAST-MODIFIED:20260113T163607Z
UID:10007206-1778853600-1778854500@www.osc.org
SUMMARY:Swamp Feeding
DESCRIPTION:Hungry? Find out what our alligators\, turtles\, and fish are fed for lunch\, and gain some ideas on how to help conserve these beautiful animals and their home.
URL:https://www.osc.org/event/swamp-feeding-123/
LOCATION:Life – Level 1
CATEGORIES:Life Schedule
ATTACH;FMTTYPE=image/png:https://www.osc.org/wp-content/uploads/2024/08/Swamp-Feeding_1080x608.png
END:VEVENT
BEGIN:VEVENT
DTSTART;TZID=America/New_York:20260516T140000
DTEND;TZID=America/New_York:20260516T141500
DTSTAMP:20260422T050353
CREATED:20260113T163607Z
LAST-MODIFIED:20260113T163607Z
UID:10007207-1778940000-1778940900@www.osc.org
SUMMARY:Swamp Feeding
DESCRIPTION:Hungry? Find out what our alligators\, turtles\, and fish are fed for lunch\, and gain some ideas on how to help conserve these beautiful animals and their home.
URL:https://www.osc.org/event/swamp-feeding-124/
LOCATION:Life – Level 1
CATEGORIES:Life Schedule
ATTACH;FMTTYPE=image/png:https://www.osc.org/wp-content/uploads/2024/08/Swamp-Feeding_1080x608.png
END:VEVENT
BEGIN:VEVENT
DTSTART;TZID=America/New_York:20260517T140000
DTEND;TZID=America/New_York:20260517T141500
DTSTAMP:20260422T050353
CREATED:20260113T163607Z
LAST-MODIFIED:20260113T163607Z
UID:10007208-1779026400-1779027300@www.osc.org
SUMMARY:Swamp Feeding
DESCRIPTION:Hungry? Find out what our alligators\, turtles\, and fish are fed for lunch\, and gain some ideas on how to help conserve these beautiful animals and their home.
URL:https://www.osc.org/event/swamp-feeding-125/
LOCATION:Life – Level 1
CATEGORIES:Life Schedule
ATTACH;FMTTYPE=image/png:https://www.osc.org/wp-content/uploads/2024/08/Swamp-Feeding_1080x608.png
END:VEVENT
BEGIN:VEVENT
DTSTART;TZID=America/New_York:20260518T140000
DTEND;TZID=America/New_York:20260518T141500
DTSTAMP:20260422T050353
CREATED:20260113T163806Z
LAST-MODIFIED:20260113T163806Z
UID:10007209-1779112800-1779113700@www.osc.org
SUMMARY:Swamp Feeding
DESCRIPTION:Hungry? Find out what our alligators\, turtles\, and fish are fed for lunch\, and gain some ideas on how to help conserve these beautiful animals and their home.
URL:https://www.osc.org/event/swamp-feeding-126/
LOCATION:Life – Level 1
CATEGORIES:Life Schedule
ATTACH;FMTTYPE=image/png:https://www.osc.org/wp-content/uploads/2024/08/Swamp-Feeding_1080x608.png
END:VEVENT
BEGIN:VEVENT
DTSTART;TZID=America/New_York:20260519T140000
DTEND;TZID=America/New_York:20260519T141500
DTSTAMP:20260422T050353
CREATED:20260113T163807Z
LAST-MODIFIED:20260113T163807Z
UID:10007210-1779199200-1779200100@www.osc.org
SUMMARY:Swamp Feeding
DESCRIPTION:Hungry? Find out what our alligators\, turtles\, and fish are fed for lunch\, and gain some ideas on how to help conserve these beautiful animals and their home.
URL:https://www.osc.org/event/swamp-feeding-127/
LOCATION:Life – Level 1
CATEGORIES:Life Schedule
ATTACH;FMTTYPE=image/png:https://www.osc.org/wp-content/uploads/2024/08/Swamp-Feeding_1080x608.png
END:VEVENT
BEGIN:VEVENT
DTSTART;TZID=America/New_York:20260521T140000
DTEND;TZID=America/New_York:20260521T141500
DTSTAMP:20260422T050353
CREATED:20260113T163807Z
LAST-MODIFIED:20260113T163807Z
UID:10007212-1779372000-1779372900@www.osc.org
SUMMARY:Swamp Feeding
DESCRIPTION:Hungry? Find out what our alligators\, turtles\, and fish are fed for lunch\, and gain some ideas on how to help conserve these beautiful animals and their home.
URL:https://www.osc.org/event/swamp-feeding-129/
LOCATION:Life – Level 1
CATEGORIES:Life Schedule
ATTACH;FMTTYPE=image/png:https://www.osc.org/wp-content/uploads/2024/08/Swamp-Feeding_1080x608.png
END:VEVENT
BEGIN:VEVENT
DTSTART;TZID=America/New_York:20260522T140000
DTEND;TZID=America/New_York:20260522T141500
DTSTAMP:20260422T050353
CREATED:20260113T163807Z
LAST-MODIFIED:20260113T183536Z
UID:10007213-1779458400-1779459300@www.osc.org
SUMMARY:Swamp Feeding
DESCRIPTION:Hungry? Find out what our alligators\, turtles\, and fish are fed for lunch\, and gain some ideas on how to help conserve these beautiful animals and their home.
URL:https://www.osc.org/event/swamp-feeding-130/
LOCATION:Life – Level 1
CATEGORIES:Life Schedule
ATTACH;FMTTYPE=image/png:https://www.osc.org/wp-content/uploads/2024/08/Swamp-Feeding_1080x608.png
END:VEVENT
BEGIN:VEVENT
DTSTART;TZID=America/New_York:20260523T140000
DTEND;TZID=America/New_York:20260523T141500
DTSTAMP:20260422T050353
CREATED:20260113T183536Z
LAST-MODIFIED:20260113T183536Z
UID:10007214-1779544800-1779545700@www.osc.org
SUMMARY:Swamp Feeding
DESCRIPTION:Hungry? Find out what our alligators\, turtles\, and fish are fed for lunch\, and gain some ideas on how to help conserve these beautiful animals and their home.
URL:https://www.osc.org/event/swamp-feeding-131/
LOCATION:Life – Level 1
CATEGORIES:Life Schedule
ATTACH;FMTTYPE=image/png:https://www.osc.org/wp-content/uploads/2024/08/Swamp-Feeding_1080x608.png
END:VEVENT
BEGIN:VEVENT
DTSTART;TZID=America/New_York:20260524T140000
DTEND;TZID=America/New_York:20260524T141500
DTSTAMP:20260422T050353
CREATED:20260113T183536Z
LAST-MODIFIED:20260113T183536Z
UID:10007215-1779631200-1779632100@www.osc.org
SUMMARY:Swamp Feeding
DESCRIPTION:Hungry? Find out what our alligators\, turtles\, and fish are fed for lunch\, and gain some ideas on how to help conserve these beautiful animals and their home.
URL:https://www.osc.org/event/swamp-feeding-132/
LOCATION:Life – Level 1
CATEGORIES:Life Schedule
ATTACH;FMTTYPE=image/png:https://www.osc.org/wp-content/uploads/2024/08/Swamp-Feeding_1080x608.png
END:VEVENT
BEGIN:VEVENT
DTSTART;TZID=America/New_York:20260525T140000
DTEND;TZID=America/New_York:20260525T141500
DTSTAMP:20260422T050353
CREATED:20260113T183536Z
LAST-MODIFIED:20260113T183536Z
UID:10007216-1779717600-1779718500@www.osc.org
SUMMARY:Swamp Feeding
DESCRIPTION:Hungry? Find out what our alligators\, turtles\, and fish are fed for lunch\, and gain some ideas on how to help conserve these beautiful animals and their home.
URL:https://www.osc.org/event/swamp-feeding-133/
LOCATION:Life – Level 1
CATEGORIES:Life Schedule
ATTACH;FMTTYPE=image/png:https://www.osc.org/wp-content/uploads/2024/08/Swamp-Feeding_1080x608.png
END:VEVENT
BEGIN:VEVENT
DTSTART;TZID=America/New_York:20260526T140000
DTEND;TZID=America/New_York:20260526T141500
DTSTAMP:20260422T050353
CREATED:20260113T183537Z
LAST-MODIFIED:20260113T183537Z
UID:10007217-1779804000-1779804900@www.osc.org
SUMMARY:Swamp Feeding
DESCRIPTION:Hungry? Find out what our alligators\, turtles\, and fish are fed for lunch\, and gain some ideas on how to help conserve these beautiful animals and their home.
URL:https://www.osc.org/event/swamp-feeding-134/
LOCATION:Life – Level 1
CATEGORIES:Life Schedule
ATTACH;FMTTYPE=image/png:https://www.osc.org/wp-content/uploads/2024/08/Swamp-Feeding_1080x608.png
END:VEVENT
END:VCALENDAR