BEGIN:VCALENDAR
VERSION:2.0
PRODID:-//Orlando Science Center - ECPv6.15.20//NONSGML v1.0//EN
CALSCALE:GREGORIAN
METHOD:PUBLISH
X-ORIGINAL-URL:https://www.osc.org
X-WR-CALDESC:Events for Orlando Science Center
REFRESH-INTERVAL;VALUE=DURATION:PT1H
X-Robots-Tag:noindex
X-PUBLISHED-TTL:PT1H
BEGIN:VTIMEZONE
TZID:America/New_York
BEGIN:DAYLIGHT
TZOFFSETFROM:-0500
TZOFFSETTO:-0400
TZNAME:EDT
DTSTART:20250309T070000
END:DAYLIGHT
BEGIN:STANDARD
TZOFFSETFROM:-0400
TZOFFSETTO:-0500
TZNAME:EST
DTSTART:20251102T060000
END:STANDARD
BEGIN:DAYLIGHT
TZOFFSETFROM:-0500
TZOFFSETTO:-0400
TZNAME:EDT
DTSTART:20260308T070000
END:DAYLIGHT
BEGIN:STANDARD
TZOFFSETFROM:-0400
TZOFFSETTO:-0500
TZNAME:EST
DTSTART:20261101T060000
END:STANDARD
BEGIN:DAYLIGHT
TZOFFSETFROM:-0500
TZOFFSETTO:-0400
TZNAME:EDT
DTSTART:20270314T070000
END:DAYLIGHT
BEGIN:STANDARD
TZOFFSETFROM:-0400
TZOFFSETTO:-0500
TZNAME:EST
DTSTART:20271107T060000
END:STANDARD
END:VTIMEZONE
BEGIN:VEVENT
DTSTART;TZID=America/New_York:20260424T110000
DTEND;TZID=America/New_York:20260424T130000
DTSTAMP:20260422T120330
CREATED:20260328T173712Z
LAST-MODIFIED:20260402T175454Z
UID:10008720-1777028400-1777035600@www.osc.org
SUMMARY:Virtual Nature Trail
DESCRIPTION:Go on a scavenger hunt walking tour in the Virtual UCF Arboretum to learn more about our local flora!
URL:https://www.osc.org/event/nature-lab-7/
LOCATION:Flight Lab – Level 4
CATEGORIES:Science Live Schedule
ATTACH;FMTTYPE=image/png:https://www.osc.org/wp-content/uploads/2026/04/Nine-Years-of-Innovation-and-Research-through-the-Virtual-UCF-Arboretum-Nicholson-School-of-Communication-and-Media.png
END:VEVENT
BEGIN:VEVENT
DTSTART;TZID=America/New_York:20260424T133000
DTEND;TZID=America/New_York:20260424T143000
DTSTAMP:20260422T120330
CREATED:20260328T173742Z
LAST-MODIFIED:20260328T173742Z
UID:10008724-1777037400-1777041000@www.osc.org
SUMMARY:Coding Lab
DESCRIPTION:Grow your coding skills as a team member leads you through programming loops\, functions\, and more in a farming-based coding game.
URL:https://www.osc.org/event/coding-lab-28/
LOCATION:Flight Lab – Level 4
CATEGORIES:Science Live Schedule
ATTACH;FMTTYPE=image/png:https://www.osc.org/wp-content/uploads/2024/09/Coding-Lab_1080x608-1.png
END:VEVENT
BEGIN:VEVENT
DTSTART;TZID=America/New_York:20260424T150000
DTEND;TZID=America/New_York:20260424T170000
DTSTAMP:20260422T120330
CREATED:20260328T173742Z
LAST-MODIFIED:20260328T173742Z
UID:10008727-1777042800-1777050000@www.osc.org
SUMMARY:Space Flight
DESCRIPTION:Fly through the galaxy and explore stars\, planets\, asteroids\, and everything our universe has to offer! Recommended for ages 8+
URL:https://www.osc.org/event/space-flight-42/
LOCATION:Flight Lab – Level 4
CATEGORIES:Science Live Schedule
ATTACH;FMTTYPE=image/png:https://www.osc.org/wp-content/uploads/2022/12/Space-Flight_1080x608.png
END:VEVENT
BEGIN:VEVENT
DTSTART;TZID=America/New_York:20260426T110000
DTEND;TZID=America/New_York:20260426T130000
DTSTAMP:20260422T120330
CREATED:20260328T173912Z
LAST-MODIFIED:20260402T175444Z
UID:10008742-1777201200-1777208400@www.osc.org
SUMMARY:Virtual Nature Trail
DESCRIPTION:Go on a scavenger hunt walking tour in the Virtual UCF Arboretum to learn more about our local flora!
URL:https://www.osc.org/event/nature-lab-9/
LOCATION:Flight Lab – Level 4
CATEGORIES:Science Live Schedule
ATTACH;FMTTYPE=image/png:https://www.osc.org/wp-content/uploads/2026/04/Nine-Years-of-Innovation-and-Research-through-the-Virtual-UCF-Arboretum-Nicholson-School-of-Communication-and-Media.png
END:VEVENT
BEGIN:VEVENT
DTSTART;TZID=America/New_York:20260426T133000
DTEND;TZID=America/New_York:20260426T143000
DTSTAMP:20260422T120330
CREATED:20260328T173943Z
LAST-MODIFIED:20260328T173943Z
UID:10008746-1777210200-1777213800@www.osc.org
SUMMARY:Coding Lab
DESCRIPTION:Grow your coding skills as a team member leads you through programming loops\, functions\, and more in a farming-based coding game.
URL:https://www.osc.org/event/coding-lab-30/
LOCATION:Flight Lab – Level 4
CATEGORIES:Science Live Schedule
ATTACH;FMTTYPE=image/png:https://www.osc.org/wp-content/uploads/2024/09/Coding-Lab_1080x608-1.png
END:VEVENT
BEGIN:VEVENT
DTSTART;TZID=America/New_York:20260426T150000
DTEND;TZID=America/New_York:20260426T170000
DTSTAMP:20260422T120330
CREATED:20260328T174012Z
LAST-MODIFIED:20260328T174012Z
UID:10008749-1777215600-1777222800@www.osc.org
SUMMARY:Space Flight
DESCRIPTION:Fly through the galaxy and explore stars\, planets\, asteroids\, and everything our universe has to offer! Recommended for ages 8+
URL:https://www.osc.org/event/space-flight-44/
LOCATION:Flight Lab – Level 4
CATEGORIES:Science Live Schedule
ATTACH;FMTTYPE=image/png:https://www.osc.org/wp-content/uploads/2022/12/Space-Flight_1080x608.png
END:VEVENT
BEGIN:VEVENT
DTSTART;TZID=America/New_York:20260502T110000
DTEND;TZID=America/New_York:20260502T130000
DTSTAMP:20260422T120330
CREATED:20260328T174042Z
LAST-MODIFIED:20260402T175441Z
UID:10008753-1777719600-1777726800@www.osc.org
SUMMARY:Virtual Nature Trail
DESCRIPTION:Go on a scavenger hunt walking tour in the Virtual UCF Arboretum to learn more about our local flora!
URL:https://www.osc.org/event/nature-lab-10/
LOCATION:Flight Lab – Level 4
CATEGORIES:Science Live Schedule
ATTACH;FMTTYPE=image/png:https://www.osc.org/wp-content/uploads/2026/04/Nine-Years-of-Innovation-and-Research-through-the-Virtual-UCF-Arboretum-Nicholson-School-of-Communication-and-Media.png
END:VEVENT
BEGIN:VEVENT
DTSTART;TZID=America/New_York:20260502T133000
DTEND;TZID=America/New_York:20260502T143000
DTSTAMP:20260422T120330
CREATED:20260328T174043Z
LAST-MODIFIED:20260328T174043Z
UID:10008757-1777728600-1777732200@www.osc.org
SUMMARY:Coding Lab
DESCRIPTION:Grow your coding skills as a team member leads you through programming loops\, functions\, and more in a farming-based coding game.
URL:https://www.osc.org/event/coding-lab-31/
LOCATION:Flight Lab – Level 4
CATEGORIES:Science Live Schedule
ATTACH;FMTTYPE=image/png:https://www.osc.org/wp-content/uploads/2024/09/Coding-Lab_1080x608-1.png
END:VEVENT
BEGIN:VEVENT
DTSTART;TZID=America/New_York:20260502T150000
DTEND;TZID=America/New_York:20260502T170000
DTSTAMP:20260422T120330
CREATED:20260328T174113Z
LAST-MODIFIED:20260328T174113Z
UID:10008760-1777734000-1777741200@www.osc.org
SUMMARY:Space Flight
DESCRIPTION:Fly through the galaxy and explore stars\, planets\, asteroids\, and everything our universe has to offer! Recommended for ages 8+
URL:https://www.osc.org/event/space-flight-47/
LOCATION:Flight Lab – Level 4
CATEGORIES:Science Live Schedule
ATTACH;FMTTYPE=image/png:https://www.osc.org/wp-content/uploads/2022/12/Space-Flight_1080x608.png
END:VEVENT
BEGIN:VEVENT
DTSTART;TZID=America/New_York:20260503T110000
DTEND;TZID=America/New_York:20260503T130000
DTSTAMP:20260422T120330
CREATED:20260328T174143Z
LAST-MODIFIED:20260402T175437Z
UID:10008764-1777806000-1777813200@www.osc.org
SUMMARY:Virtual Nature Trail
DESCRIPTION:Go on a scavenger hunt walking tour in the Virtual UCF Arboretum to learn more about our local flora!
URL:https://www.osc.org/event/nature-lab-11/
LOCATION:Flight Lab – Level 4
CATEGORIES:Science Live Schedule
ATTACH;FMTTYPE=image/png:https://www.osc.org/wp-content/uploads/2026/04/Nine-Years-of-Innovation-and-Research-through-the-Virtual-UCF-Arboretum-Nicholson-School-of-Communication-and-Media.png
END:VEVENT
BEGIN:VEVENT
DTSTART;TZID=America/New_York:20260503T133000
DTEND;TZID=America/New_York:20260503T143000
DTSTAMP:20260422T120330
CREATED:20260328T174214Z
LAST-MODIFIED:20260328T174214Z
UID:10008768-1777815000-1777818600@www.osc.org
SUMMARY:Coding Lab
DESCRIPTION:Grow your coding skills as a team member leads you through programming loops\, functions\, and more in a farming-based coding game.
URL:https://www.osc.org/event/coding-lab-32/
LOCATION:Flight Lab – Level 4
CATEGORIES:Science Live Schedule
ATTACH;FMTTYPE=image/png:https://www.osc.org/wp-content/uploads/2024/09/Coding-Lab_1080x608-1.png
END:VEVENT
BEGIN:VEVENT
DTSTART;TZID=America/New_York:20260503T150000
DTEND;TZID=America/New_York:20260503T170000
DTSTAMP:20260422T120330
CREATED:20260328T174215Z
LAST-MODIFIED:20260328T174215Z
UID:10008771-1777820400-1777827600@www.osc.org
SUMMARY:Space Flight
DESCRIPTION:Fly through the galaxy and explore stars\, planets\, asteroids\, and everything our universe has to offer! Recommended for ages 8+
URL:https://www.osc.org/event/space-flight-48/
LOCATION:Flight Lab – Level 4
CATEGORIES:Science Live Schedule
ATTACH;FMTTYPE=image/png:https://www.osc.org/wp-content/uploads/2022/12/Space-Flight_1080x608.png
END:VEVENT
END:VCALENDAR