BEGIN:VCALENDAR
VERSION:2.0
PRODID:-//Orlando Science Center - ECPv6.15.20//NONSGML v1.0//EN
CALSCALE:GREGORIAN
METHOD:PUBLISH
X-ORIGINAL-URL:https://www.osc.org
X-WR-CALDESC:Events for Orlando Science Center
REFRESH-INTERVAL;VALUE=DURATION:PT1H
X-Robots-Tag:noindex
X-PUBLISHED-TTL:PT1H
BEGIN:VTIMEZONE
TZID:America/New_York
BEGIN:DAYLIGHT
TZOFFSETFROM:-0500
TZOFFSETTO:-0400
TZNAME:EDT
DTSTART:20250309T070000
END:DAYLIGHT
BEGIN:STANDARD
TZOFFSETFROM:-0400
TZOFFSETTO:-0500
TZNAME:EST
DTSTART:20251102T060000
END:STANDARD
BEGIN:DAYLIGHT
TZOFFSETFROM:-0500
TZOFFSETTO:-0400
TZNAME:EDT
DTSTART:20260308T070000
END:DAYLIGHT
BEGIN:STANDARD
TZOFFSETFROM:-0400
TZOFFSETTO:-0500
TZNAME:EST
DTSTART:20261101T060000
END:STANDARD
BEGIN:DAYLIGHT
TZOFFSETFROM:-0500
TZOFFSETTO:-0400
TZNAME:EDT
DTSTART:20270314T070000
END:DAYLIGHT
BEGIN:STANDARD
TZOFFSETFROM:-0400
TZOFFSETTO:-0500
TZNAME:EST
DTSTART:20271107T060000
END:STANDARD
END:VTIMEZONE
BEGIN:VEVENT
DTSTART;TZID=America/New_York:20260421T120000
DTEND;TZID=America/New_York:20260421T150000
DTSTAMP:20260422T104600
CREATED:20260421T135005Z
LAST-MODIFIED:20260421T135057Z
UID:10008869-1776772800-1776783600@www.osc.org
SUMMARY:Self-guided Experiments: Nature Experiments
DESCRIPTION:Investigate nature up close with wildlife and nature themed experiments.
URL:https://www.osc.org/event/self-guided-experiments-nature-experiments-24/
LOCATION:Dr. Dare’s Lab – Level 4
CATEGORIES:Science Live Schedule
ATTACH;FMTTYPE=image/png:https://www.osc.org/wp-content/uploads/2019/11/Dr.-Dares-Lab.png
END:VEVENT
BEGIN:VEVENT
DTSTART;TZID=America/New_York:20260419T110000
DTEND;TZID=America/New_York:20260419T170000
DTSTAMP:20260422T104600
CREATED:20260328T173611Z
LAST-MODIFIED:20260328T173611Z
UID:10008708-1776596400-1776618000@www.osc.org
SUMMARY:Self-guided Experiments: Nature Experiments
DESCRIPTION:Investigate nature up close with wildlife and nature themed experiments.
URL:https://www.osc.org/event/self-guided-experiments-nature-experiments-6/
LOCATION:Dr. Dare’s Lab – Level 4
CATEGORIES:Science Live Schedule
ATTACH;FMTTYPE=image/png:https://www.osc.org/wp-content/uploads/2019/11/Dr.-Dares-Lab.png
END:VEVENT
BEGIN:VEVENT
DTSTART;TZID=America/New_York:20260418T110000
DTEND;TZID=America/New_York:20260418T170000
DTSTAMP:20260422T104600
CREATED:20260328T173442Z
LAST-MODIFIED:20260328T173442Z
UID:10008702-1776510000-1776531600@www.osc.org
SUMMARY:Self-guided Experiments: Nature Experiments
DESCRIPTION:Investigate nature up close with wildlife and nature themed experiments.
URL:https://www.osc.org/event/self-guided-experiments-nature-experiments-5/
LOCATION:Dr. Dare’s Lab – Level 4
CATEGORIES:Science Live Schedule
ATTACH;FMTTYPE=image/png:https://www.osc.org/wp-content/uploads/2019/11/Dr.-Dares-Lab.png
END:VEVENT
BEGIN:VEVENT
DTSTART;TZID=America/New_York:20260417T120000
DTEND;TZID=America/New_York:20260417T150000
DTSTAMP:20260422T104600
CREATED:20260328T175726Z
LAST-MODIFIED:20260328T175726Z
UID:10008785-1776427200-1776438000@www.osc.org
SUMMARY:Self-guided Experiments: Nature Experiments
DESCRIPTION:Investigate nature up close with wildlife and nature themed experiments.
URL:https://www.osc.org/event/self-guided-experiments-nature-experiments-23/
LOCATION:Dr. Dare’s Lab – Level 4
CATEGORIES:Science Live Schedule
ATTACH;FMTTYPE=image/png:https://www.osc.org/wp-content/uploads/2019/11/Dr.-Dares-Lab.png
END:VEVENT
BEGIN:VEVENT
DTSTART;TZID=America/New_York:20260416T120000
DTEND;TZID=America/New_York:20260416T150000
DTSTAMP:20260422T104600
CREATED:20260328T175525Z
LAST-MODIFIED:20260328T175525Z
UID:10008784-1776340800-1776351600@www.osc.org
SUMMARY:Self-guided Experiments: Nature Experiments
DESCRIPTION:Investigate nature up close with wildlife and nature themed experiments.
URL:https://www.osc.org/event/self-guided-experiments-nature-experiments-22/
LOCATION:Dr. Dare’s Lab – Level 4
CATEGORIES:Science Live Schedule
END:VEVENT
BEGIN:VEVENT
DTSTART;TZID=America/New_York:20260414T120000
DTEND;TZID=America/New_York:20260414T150000
DTSTAMP:20260422T104600
CREATED:20260328T175325Z
LAST-MODIFIED:20260328T175325Z
UID:10008783-1776168000-1776178800@www.osc.org
SUMMARY:Self-guided Experiments: Nature Experiments
DESCRIPTION:Investigate nature up close with wildlife and nature themed experiments.
URL:https://www.osc.org/event/self-guided-experiments-nature-experiments-21/
LOCATION:Dr. Dare’s Lab – Level 4
CATEGORIES:Science Live Schedule
ATTACH;FMTTYPE=image/png:https://www.osc.org/wp-content/uploads/2019/11/Dr.-Dares-Lab.png
END:VEVENT
BEGIN:VEVENT
DTSTART;TZID=America/New_York:20260413T120000
DTEND;TZID=America/New_York:20260413T150000
DTSTAMP:20260422T104600
CREATED:20260328T175124Z
LAST-MODIFIED:20260328T175124Z
UID:10008782-1776081600-1776092400@www.osc.org
SUMMARY:Self-guided Experiments: Nature Experiments
DESCRIPTION:Investigate nature up close with wildlife and nature themed experiments.
URL:https://www.osc.org/event/self-guided-experiments-nature-experiments-20/
LOCATION:Dr. Dare’s Lab – Level 4
CATEGORIES:Science Live Schedule
ATTACH;FMTTYPE=image/png:https://www.osc.org/wp-content/uploads/2019/11/Dr.-Dares-Lab.png
END:VEVENT
BEGIN:VEVENT
DTSTART;TZID=America/New_York:20260412T110000
DTEND;TZID=America/New_York:20260412T170000
DTSTAMP:20260422T104600
CREATED:20260328T173342Z
LAST-MODIFIED:20260328T173342Z
UID:10008701-1775991600-1776013200@www.osc.org
SUMMARY:Self-guided Experiments: Nature Experiments
DESCRIPTION:Investigate nature up close with wildlife and nature themed experiments.
URL:https://www.osc.org/event/self-guided-experiments-nature-experiments-4/
LOCATION:Dr. Dare’s Lab – Level 4
CATEGORIES:Science Live Schedule
ATTACH;FMTTYPE=image/png:https://www.osc.org/wp-content/uploads/2019/11/Dr.-Dares-Lab.png
END:VEVENT
BEGIN:VEVENT
DTSTART;TZID=America/New_York:20260411T110000
DTEND;TZID=America/New_York:20260411T170000
DTSTAMP:20260422T104600
CREATED:20260328T173241Z
LAST-MODIFIED:20260328T173241Z
UID:10008700-1775905200-1775926800@www.osc.org
SUMMARY:Self-guided Experiments: Nature Experiments
DESCRIPTION:Investigate nature up close with wildlife and nature themed experiments.
URL:https://www.osc.org/event/self-guided-experiments-nature-experiments-3/
LOCATION:Dr. Dare’s Lab – Level 4
CATEGORIES:Science Live Schedule
ATTACH;FMTTYPE=image/png:https://www.osc.org/wp-content/uploads/2019/11/Dr.-Dares-Lab.png
END:VEVENT
BEGIN:VEVENT
DTSTART;TZID=America/New_York:20260410T120000
DTEND;TZID=America/New_York:20260410T150000
DTSTAMP:20260422T104600
CREATED:20260328T175123Z
LAST-MODIFIED:20260328T175123Z
UID:10008781-1775822400-1775833200@www.osc.org
SUMMARY:Self-guided Experiments: Nature Experiments
DESCRIPTION:Investigate nature up close with wildlife and nature themed experiments.
URL:https://www.osc.org/event/self-guided-experiments-nature-experiments-19/
LOCATION:Dr. Dare’s Lab – Level 4
CATEGORIES:Science Live Schedule
ATTACH;FMTTYPE=image/png:https://www.osc.org/wp-content/uploads/2019/11/Dr.-Dares-Lab.png
END:VEVENT
BEGIN:VEVENT
DTSTART;TZID=America/New_York:20260409T120000
DTEND;TZID=America/New_York:20260409T150000
DTSTAMP:20260422T104600
CREATED:20260328T174922Z
LAST-MODIFIED:20260328T174922Z
UID:10008780-1775736000-1775746800@www.osc.org
SUMMARY:Self-guided Experiments: Nature Experiments
DESCRIPTION:Investigate nature up close with wildlife and nature themed experiments.
URL:https://www.osc.org/event/self-guided-experiments-nature-experiments-18/
LOCATION:Dr. Dare’s Lab – Level 4
CATEGORIES:Science Live Schedule
ATTACH;FMTTYPE=image/png:https://www.osc.org/wp-content/uploads/2019/11/Dr.-Dares-Lab.png
END:VEVENT
BEGIN:VEVENT
DTSTART;TZID=America/New_York:20260407T120000
DTEND;TZID=America/New_York:20260407T150000
DTSTAMP:20260422T104600
CREATED:20260328T174852Z
LAST-MODIFIED:20260328T174852Z
UID:10008779-1775563200-1775574000@www.osc.org
SUMMARY:Self-guided Experiments: Nature Experiments
DESCRIPTION:Investigate nature up close with wildlife and nature themed experiments.
URL:https://www.osc.org/event/self-guided-experiments-nature-experiments-17/
LOCATION:Dr. Dare’s Lab – Level 4
CATEGORIES:Science Live Schedule
ATTACH;FMTTYPE=image/png:https://www.osc.org/wp-content/uploads/2019/11/Dr.-Dares-Lab.png
END:VEVENT
BEGIN:VEVENT
DTSTART;TZID=America/New_York:20260406T120000
DTEND;TZID=America/New_York:20260406T150000
DTSTAMP:20260422T104600
CREATED:20260328T174822Z
LAST-MODIFIED:20260328T174822Z
UID:10008778-1775476800-1775487600@www.osc.org
SUMMARY:Self-guided Experiments: Nature Experiments
DESCRIPTION:Investigate nature up close with wildlife and nature themed experiments.
URL:https://www.osc.org/event/self-guided-experiments-nature-experiments-16/
LOCATION:Dr. Dare’s Lab – Level 4
CATEGORIES:Science Live Schedule
ATTACH;FMTTYPE=image/png:https://www.osc.org/wp-content/uploads/2019/11/Dr.-Dares-Lab.png
END:VEVENT
BEGIN:VEVENT
DTSTART;TZID=America/New_York:20260404T110000
DTEND;TZID=America/New_York:20260404T170000
DTSTAMP:20260422T104600
CREATED:20260328T173109Z
LAST-MODIFIED:20260328T173109Z
UID:10008698-1775300400-1775322000@www.osc.org
SUMMARY:Self-guided Experiments: Nature Experiments
DESCRIPTION:Investigate nature up close with wildlife and nature themed experiments.
URL:https://www.osc.org/event/self-guided-experiments-nature-experiments/
LOCATION:Dr. Dare’s Lab – Level 4
CATEGORIES:Science Live Schedule
ATTACH;FMTTYPE=image/png:https://www.osc.org/wp-content/uploads/2019/11/Dr.-Dares-Lab.png
END:VEVENT
BEGIN:VEVENT
DTSTART;TZID=America/New_York:20260403T120000
DTEND;TZID=America/New_York:20260403T150000
DTSTAMP:20260422T104600
CREATED:20260328T174752Z
LAST-MODIFIED:20260328T174752Z
UID:10008777-1775217600-1775228400@www.osc.org
SUMMARY:Self-guided Experiments: Nature Experiments
DESCRIPTION:Investigate nature up close with wildlife and nature themed experiments.
URL:https://www.osc.org/event/self-guided-experiments-nature-experiments-15/
LOCATION:Dr. Dare’s Lab – Level 4
CATEGORIES:Science Live Schedule
ATTACH;FMTTYPE=image/png:https://www.osc.org/wp-content/uploads/2019/11/Dr.-Dares-Lab.png
END:VEVENT
BEGIN:VEVENT
DTSTART;TZID=America/New_York:20260402T120000
DTEND;TZID=America/New_York:20260402T150000
DTSTAMP:20260422T104600
CREATED:20260328T174752Z
LAST-MODIFIED:20260328T174752Z
UID:10008776-1775131200-1775142000@www.osc.org
SUMMARY:Self-guided Experiments: Nature Experiments
DESCRIPTION:Investigate nature up close with wildlife and nature themed experiments.
URL:https://www.osc.org/event/self-guided-experiments-nature-experiments-14/
LOCATION:Dr. Dare’s Lab – Level 4
CATEGORIES:Science Live Schedule
ATTACH;FMTTYPE=image/png:https://www.osc.org/wp-content/uploads/2019/11/Dr.-Dares-Lab.png
END:VEVENT
BEGIN:VEVENT
DTSTART;TZID=America/New_York:20260331T120000
DTEND;TZID=America/New_York:20260331T150000
DTSTAMP:20260422T104600
CREATED:20260328T155611Z
LAST-MODIFIED:20260328T155611Z
UID:10008576-1774958400-1774969200@www.osc.org
SUMMARY:Self-guided Experiments: Engineering Experiments
DESCRIPTION:Learn about the engineering design process with this month’s engineering themed experiments!
URL:https://www.osc.org/event/self-guided-experiments-engineering-experiments-28/
LOCATION:Dr. Dare’s Lab – Level 4
CATEGORIES:Science Live Schedule
ATTACH;FMTTYPE=image/jpeg:https://www.osc.org/wp-content/uploads/2026/02/DDL7_1920x1080-XsvM9H.jpg
END:VEVENT
BEGIN:VEVENT
DTSTART;TZID=America/New_York:20260330T120000
DTEND;TZID=America/New_York:20260330T140000
DTSTAMP:20260422T104600
CREATED:20260328T155609Z
LAST-MODIFIED:20260329T130303Z
UID:10008571-1774872000-1774879200@www.osc.org
SUMMARY:Self-guided Experiments: Engineering Experiments
DESCRIPTION:Learn about the engineering design process with this month’s engineering themed experiments!
URL:https://www.osc.org/event/self-guided-experiments-engineering-experiments-27/
LOCATION:Dr. Dare’s Lab – Level 4
CATEGORIES:Science Live Schedule
ATTACH;FMTTYPE=image/jpeg:https://www.osc.org/wp-content/uploads/2026/02/DDL7_1920x1080-XsvM9H.jpg
END:VEVENT
BEGIN:VEVENT
DTSTART;TZID=America/New_York:20260329T110000
DTEND;TZID=America/New_York:20260329T170000
DTSTAMP:20260422T104600
CREATED:20260307T163803Z
LAST-MODIFIED:20260328T195959Z
UID:10008278-1774782000-1774803600@www.osc.org
SUMMARY:Self-guided Experiments: Engineering Experiments
DESCRIPTION:Learn about the engineering design process with this month’s engineering themed experiments!
URL:https://www.osc.org/event/self-guided-experiments-engineering-experiments-22/
LOCATION:Dr. Dare’s Lab – Level 4
CATEGORIES:Science Live Schedule
ATTACH;FMTTYPE=image/jpeg:https://www.osc.org/wp-content/uploads/2026/02/DDL7_1920x1080-XsvM9H.jpg
END:VEVENT
BEGIN:VEVENT
DTSTART;TZID=America/New_York:20260328T110000
DTEND;TZID=America/New_York:20260328T170000
DTSTAMP:20260422T104600
CREATED:20260307T163201Z
LAST-MODIFIED:20260328T150048Z
UID:10008265-1774695600-1774717200@www.osc.org
SUMMARY:Self-guided Experiments: Engineering Experiments
DESCRIPTION:Learn about the engineering design process with this month’s engineering themed experiments!
URL:https://www.osc.org/event/self-guided-experiments-engineering-experiments-21/
LOCATION:Dr. Dare’s Lab – Level 4
CATEGORIES:Science Live Schedule
ATTACH;FMTTYPE=image/jpeg:https://www.osc.org/wp-content/uploads/2026/02/DDL7_1920x1080-XsvM9H.jpg
END:VEVENT
BEGIN:VEVENT
DTSTART;TZID=America/New_York:20260327T120000
DTEND;TZID=America/New_York:20260327T150000
DTSTAMP:20260422T104600
CREATED:20260307T162959Z
LAST-MODIFIED:20260307T162959Z
UID:10008259-1774612800-1774623600@www.osc.org
SUMMARY:Self-guided Experiments: Engineering Experiments
DESCRIPTION:Learn about the engineering design process with this month’s engineering themed experiments!
URL:https://www.osc.org/event/self-guided-experiments-engineering-experiments-20/
LOCATION:Dr. Dare’s Lab – Level 4
CATEGORIES:Science Live Schedule
ATTACH;FMTTYPE=image/jpeg:https://www.osc.org/wp-content/uploads/2026/02/DDL7_1920x1080-XsvM9H.jpg
END:VEVENT
BEGIN:VEVENT
DTSTART;TZID=America/New_York:20260326T120000
DTEND;TZID=America/New_York:20260326T150000
DTSTAMP:20260422T104600
CREATED:20260307T162929Z
LAST-MODIFIED:20260307T162929Z
UID:10008254-1774526400-1774537200@www.osc.org
SUMMARY:Self-guided Experiments: Engineering Experiments
DESCRIPTION:Learn about the engineering design process with this month’s engineering themed experiments!
URL:https://www.osc.org/event/self-guided-experiments-engineering-experiments-19/
LOCATION:Dr. Dare’s Lab – Level 4
CATEGORIES:Science Live Schedule
ATTACH;FMTTYPE=image/jpeg:https://www.osc.org/wp-content/uploads/2026/02/DDL7_1920x1080-XsvM9H.jpg
END:VEVENT
BEGIN:VEVENT
DTSTART;TZID=America/New_York:20260324T120000
DTEND;TZID=America/New_York:20260324T150000
DTSTAMP:20260422T104600
CREATED:20260307T162859Z
LAST-MODIFIED:20260307T162859Z
UID:10008249-1774353600-1774364400@www.osc.org
SUMMARY:Self-guided Experiments: Engineering Experiments
DESCRIPTION:Learn about the engineering design process with this month’s engineering themed experiments!
URL:https://www.osc.org/event/self-guided-experiments-engineering-experiments-18/
LOCATION:Dr. Dare’s Lab – Level 4
CATEGORIES:Science Live Schedule
ATTACH;FMTTYPE=image/jpeg:https://www.osc.org/wp-content/uploads/2026/02/DDL7_1920x1080-XsvM9H.jpg
END:VEVENT
BEGIN:VEVENT
DTSTART;TZID=America/New_York:20260323T120000
DTEND;TZID=America/New_York:20260323T150000
DTSTAMP:20260422T104600
CREATED:20260307T162830Z
LAST-MODIFIED:20260307T162830Z
UID:10008244-1774267200-1774278000@www.osc.org
SUMMARY:Self-guided Experiments: Engineering Experiments
DESCRIPTION:Learn about the engineering design process with this month’s engineering themed experiments!
URL:https://www.osc.org/event/self-guided-experiments-engineering-experiments-17/
LOCATION:Dr. Dare’s Lab – Level 4
CATEGORIES:Science Live Schedule
ATTACH;FMTTYPE=image/jpeg:https://www.osc.org/wp-content/uploads/2026/02/DDL7_1920x1080-XsvM9H.jpg
END:VEVENT
END:VCALENDAR