BEGIN:VCALENDAR
VERSION:2.0
PRODID:-//Orlando Science Center - ECPv6.15.20//NONSGML v1.0//EN
CALSCALE:GREGORIAN
METHOD:PUBLISH
X-ORIGINAL-URL:https://www.osc.org
X-WR-CALDESC:Events for Orlando Science Center
REFRESH-INTERVAL;VALUE=DURATION:PT1H
X-Robots-Tag:noindex
X-PUBLISHED-TTL:PT1H
BEGIN:VTIMEZONE
TZID:America/New_York
BEGIN:DAYLIGHT
TZOFFSETFROM:-0500
TZOFFSETTO:-0400
TZNAME:EDT
DTSTART:20250309T070000
END:DAYLIGHT
BEGIN:STANDARD
TZOFFSETFROM:-0400
TZOFFSETTO:-0500
TZNAME:EST
DTSTART:20251102T060000
END:STANDARD
BEGIN:DAYLIGHT
TZOFFSETFROM:-0500
TZOFFSETTO:-0400
TZNAME:EDT
DTSTART:20260308T070000
END:DAYLIGHT
BEGIN:STANDARD
TZOFFSETFROM:-0400
TZOFFSETTO:-0500
TZNAME:EST
DTSTART:20261101T060000
END:STANDARD
BEGIN:DAYLIGHT
TZOFFSETFROM:-0500
TZOFFSETTO:-0400
TZNAME:EDT
DTSTART:20270314T070000
END:DAYLIGHT
BEGIN:STANDARD
TZOFFSETFROM:-0400
TZOFFSETTO:-0500
TZNAME:EST
DTSTART:20271107T060000
END:STANDARD
END:VTIMEZONE
BEGIN:VEVENT
DTSTART;TZID=America/New_York:20260508T113000
DTEND;TZID=America/New_York:20260508T115500
DTSTAMP:20260422T105034
CREATED:20260421T201418Z
LAST-MODIFIED:20260421T205616Z
UID:10008897-1778239800-1778241300@www.osc.org
SUMMARY:Horse Power
DESCRIPTION:Embark on an epic and heartwarming journey across the globe celebrating the extraordinary abilities of horses and their inseparable bond with humanity.
URL:https://www.osc.org/event/horse-power-5/
LOCATION:Digital Adventure Theater – Level 2
CATEGORIES:Theater Schedule
ATTACH;FMTTYPE=image/jpeg:https://www.osc.org/wp-content/uploads/2026/04/Horse-Power1-1-scaled-e1776777472832-SWLmaU.jpg
GEO:28.57228;-81.368341
END:VEVENT
BEGIN:VEVENT
DTSTART;TZID=America/New_York:20260508T121500
DTEND;TZID=America/New_York:20260508T124000
DTSTAMP:20260422T105034
CREATED:20260421T201418Z
LAST-MODIFIED:20260421T205616Z
UID:10008898-1778242500-1778244000@www.osc.org
SUMMARY:Wild Rescue
DESCRIPTION:From the arrival of a fragile bobcat to the rehabilitation of a young fox\, explore hospital admissions\, groundbreaking medical treatments\, and the delicate balance of wildlife care.
URL:https://www.osc.org/event/wild-rescue-25/
LOCATION:Digital Adventure Theater – Level 2
CATEGORIES:Theater Schedule
ATTACH;FMTTYPE=image/jpeg:https://www.osc.org/wp-content/uploads/2026/03/Wild-Rescue-Movie13_1920x1080.jpg
GEO:28.57228;-81.368341
END:VEVENT
BEGIN:VEVENT
DTSTART;TZID=America/New_York:20260508T130000
DTEND;TZID=America/New_York:20260508T132500
DTSTAMP:20260422T105034
CREATED:20260421T201418Z
LAST-MODIFIED:20260421T205616Z
UID:10008899-1778245200-1778246700@www.osc.org
SUMMARY:Astronaut: Ocean to Orbit
DESCRIPTION:Join astronaut Chris Cassidy as he trains in his space suit alongside a full-sized mock-up the International Space Station in a giant underwater facility in Houston. Dive to the sea floor with NASA astronaut Jeanette Epps as she lives underwater with fellow astronauts for ten continuous days at Aquarius Reef Base in Florida. Find out what it takes to live and work in space.
URL:https://www.osc.org/event/astronaut-ocean-to-orbit-22/
LOCATION:Digital Adventure Theater – Level 2
CATEGORIES:Theater Schedule
ATTACH;FMTTYPE=image/jpeg:https://www.osc.org/wp-content/uploads/2026/01/Astronaut-Ocean-to-Orbit_1920x1080.jpg
GEO:28.57228;-81.368341
END:VEVENT
BEGIN:VEVENT
DTSTART;TZID=America/New_York:20260508T141500
DTEND;TZID=America/New_York:20260508T144000
DTSTAMP:20260422T105034
CREATED:20260421T201419Z
LAST-MODIFIED:20260421T205616Z
UID:10008900-1778249700-1778251200@www.osc.org
SUMMARY:Horse Power 3D
DESCRIPTION:Embark on an epic and heartwarming journey across the globe celebrating the extraordinary abilities of horses and their inseparable bond with humanity.
URL:https://www.osc.org/event/horse-power-3d-7/
LOCATION:Digital Adventure Theater – Level 2
CATEGORIES:Theater Schedule
ATTACH;FMTTYPE=image/jpeg:https://www.osc.org/wp-content/uploads/2026/04/Horse-Power1-1-scaled-e1776777472832-SWLmaU.jpg
GEO:28.57228;-81.368341
END:VEVENT
BEGIN:VEVENT
DTSTART;TZID=America/New_York:20260508T151500
DTEND;TZID=America/New_York:20260508T154000
DTSTAMP:20260422T105034
CREATED:20260421T201619Z
LAST-MODIFIED:20260421T205645Z
UID:10008901-1778253300-1778254800@www.osc.org
SUMMARY:Wild Rescue 3D
DESCRIPTION:From the arrival of a fragile bobcat to the rehabilitation of a young fox\, explore hospital admissions\, groundbreaking medical treatments\, and the delicate balance of wildlife care.
URL:https://www.osc.org/event/wild-rescue-3d-31/
LOCATION:Digital Adventure Theater – Level 2
CATEGORIES:Theater Schedule
ATTACH;FMTTYPE=image/jpeg:https://www.osc.org/wp-content/uploads/2026/03/Wild-Rescue-Movie13_1920x1080.jpg
GEO:28.57228;-81.368341
END:VEVENT
BEGIN:VEVENT
DTSTART;TZID=America/New_York:20260509T113000
DTEND;TZID=America/New_York:20260509T115500
DTSTAMP:20260422T105034
CREATED:20260421T201619Z
LAST-MODIFIED:20260421T205646Z
UID:10008902-1778326200-1778327700@www.osc.org
SUMMARY:Astronaut: Ocean to Orbit
DESCRIPTION:Join astronaut Chris Cassidy as he trains in his space suit alongside a full-sized mock-up the International Space Station in a giant underwater facility in Houston. Dive to the sea floor with NASA astronaut Jeanette Epps as she lives underwater with fellow astronauts for ten continuous days at Aquarius Reef Base in Florida. Find out what it takes to live and work in space.
URL:https://www.osc.org/event/astronaut-ocean-to-orbit-23/
LOCATION:Digital Adventure Theater – Level 2
CATEGORIES:Theater Schedule
ATTACH;FMTTYPE=image/jpeg:https://www.osc.org/wp-content/uploads/2026/01/Astronaut-Ocean-to-Orbit_1920x1080.jpg
GEO:28.57228;-81.368341
END:VEVENT
BEGIN:VEVENT
DTSTART;TZID=America/New_York:20260509T151500
DTEND;TZID=America/New_York:20260509T154000
DTSTAMP:20260422T105034
CREATED:20260421T201619Z
LAST-MODIFIED:20260421T205646Z
UID:10008903-1778339700-1778341200@www.osc.org
SUMMARY:Horse Power 3D
DESCRIPTION:Embark on an epic and heartwarming journey across the globe celebrating the extraordinary abilities of horses and their inseparable bond with humanity.
URL:https://www.osc.org/event/horse-power-3d-8/
LOCATION:Digital Adventure Theater – Level 2
CATEGORIES:Theater Schedule
ATTACH;FMTTYPE=image/jpeg:https://www.osc.org/wp-content/uploads/2026/04/Horse-Power1-1-scaled-e1776777472832-SWLmaU.jpg
GEO:28.57228;-81.368341
END:VEVENT
BEGIN:VEVENT
DTSTART;TZID=America/New_York:20260509T161500
DTEND;TZID=America/New_York:20260509T164000
DTSTAMP:20260422T105034
CREATED:20260421T201620Z
LAST-MODIFIED:20260421T205646Z
UID:10008904-1778343300-1778344800@www.osc.org
SUMMARY:Wild Rescue 3D
DESCRIPTION:From the arrival of a fragile bobcat to the rehabilitation of a young fox\, explore hospital admissions\, groundbreaking medical treatments\, and the delicate balance of wildlife care.
URL:https://www.osc.org/event/wild-rescue-3d-32/
LOCATION:Digital Adventure Theater – Level 2
CATEGORIES:Theater Schedule
ATTACH;FMTTYPE=image/jpeg:https://www.osc.org/wp-content/uploads/2026/03/Wild-Rescue-Movie13_1920x1080.jpg
GEO:28.57228;-81.368341
END:VEVENT
BEGIN:VEVENT
DTSTART;TZID=America/New_York:20260510T151500
DTEND;TZID=America/New_York:20260510T154000
DTSTAMP:20260422T105034
CREATED:20260421T201820Z
LAST-MODIFIED:20260421T205716Z
UID:10008905-1778426100-1778427600@www.osc.org
SUMMARY:Horse Power 3D
DESCRIPTION:Embark on an epic and heartwarming journey across the globe celebrating the extraordinary abilities of horses and their inseparable bond with humanity.
URL:https://www.osc.org/event/horse-power-3d-9/
LOCATION:Digital Adventure Theater – Level 2
CATEGORIES:Theater Schedule
ATTACH;FMTTYPE=image/jpeg:https://www.osc.org/wp-content/uploads/2026/04/Horse-Power1-1-scaled-e1776777472832-SWLmaU.jpg
GEO:28.57228;-81.368341
END:VEVENT
BEGIN:VEVENT
DTSTART;TZID=America/New_York:20260510T161500
DTEND;TZID=America/New_York:20260510T164000
DTSTAMP:20260422T105034
CREATED:20260421T201820Z
LAST-MODIFIED:20260421T205716Z
UID:10008906-1778429700-1778431200@www.osc.org
SUMMARY:Wild Rescue 3D
DESCRIPTION:From the arrival of a fragile bobcat to the rehabilitation of a young fox\, explore hospital admissions\, groundbreaking medical treatments\, and the delicate balance of wildlife care.
URL:https://www.osc.org/event/wild-rescue-3d-33/
LOCATION:Digital Adventure Theater – Level 2
CATEGORIES:Theater Schedule
ATTACH;FMTTYPE=image/jpeg:https://www.osc.org/wp-content/uploads/2026/03/Wild-Rescue-Movie13_1920x1080.jpg
GEO:28.57228;-81.368341
END:VEVENT
BEGIN:VEVENT
DTSTART;TZID=America/New_York:20260511T113000
DTEND;TZID=America/New_York:20260511T115500
DTSTAMP:20260422T105034
CREATED:20260421T201820Z
LAST-MODIFIED:20260421T205716Z
UID:10008907-1778499000-1778500500@www.osc.org
SUMMARY:Horse Power
DESCRIPTION:Embark on an epic and heartwarming journey across the globe celebrating the extraordinary abilities of horses and their inseparable bond with humanity.
URL:https://www.osc.org/event/horse-power-6/
LOCATION:Digital Adventure Theater – Level 2
CATEGORIES:Theater Schedule
ATTACH;FMTTYPE=image/jpeg:https://www.osc.org/wp-content/uploads/2026/04/Horse-Power1-1-scaled-e1776777472832-SWLmaU.jpg
GEO:28.57228;-81.368341
END:VEVENT
BEGIN:VEVENT
DTSTART;TZID=America/New_York:20260511T121500
DTEND;TZID=America/New_York:20260511T124000
DTSTAMP:20260422T105034
CREATED:20260421T204549Z
LAST-MODIFIED:20260421T205745Z
UID:10008908-1778501700-1778503200@www.osc.org
SUMMARY:Wild Rescue
DESCRIPTION:From the arrival of a fragile bobcat to the rehabilitation of a young fox\, explore hospital admissions\, groundbreaking medical treatments\, and the delicate balance of wildlife care.
URL:https://www.osc.org/event/wild-rescue-26/
LOCATION:Digital Adventure Theater – Level 2
CATEGORIES:Theater Schedule
ATTACH;FMTTYPE=image/jpeg:https://www.osc.org/wp-content/uploads/2026/03/Wild-Rescue-Movie13_1920x1080.jpg
GEO:28.57228;-81.368341
END:VEVENT
BEGIN:VEVENT
DTSTART;TZID=America/New_York:20260511T130000
DTEND;TZID=America/New_York:20260511T132500
DTSTAMP:20260422T105034
CREATED:20260421T204549Z
LAST-MODIFIED:20260421T205746Z
UID:10008909-1778504400-1778505900@www.osc.org
SUMMARY:Astronaut: Ocean to Orbit
DESCRIPTION:Join astronaut Chris Cassidy as he trains in his space suit alongside a full-sized mock-up the International Space Station in a giant underwater facility in Houston. Dive to the sea floor with NASA astronaut Jeanette Epps as she lives underwater with fellow astronauts for ten continuous days at Aquarius Reef Base in Florida. Find out what it takes to live and work in space.
URL:https://www.osc.org/event/astronaut-ocean-to-orbit-48/
LOCATION:Digital Adventure Theater – Level 2
CATEGORIES:Theater Schedule
ATTACH;FMTTYPE=image/jpeg:https://www.osc.org/wp-content/uploads/2026/01/Astronaut-Ocean-to-Orbit_1920x1080.jpg
GEO:28.57228;-81.368341
END:VEVENT
BEGIN:VEVENT
DTSTART;TZID=America/New_York:20260511T141500
DTEND;TZID=America/New_York:20260511T144000
DTSTAMP:20260422T105034
CREATED:20260421T204549Z
LAST-MODIFIED:20260421T205746Z
UID:10008910-1778508900-1778510400@www.osc.org
SUMMARY:Horse Power 3D
DESCRIPTION:Embark on an epic and heartwarming journey across the globe celebrating the extraordinary abilities of horses and their inseparable bond with humanity.
URL:https://www.osc.org/event/horse-power-3d-10/
LOCATION:Digital Adventure Theater – Level 2
CATEGORIES:Theater Schedule
ATTACH;FMTTYPE=image/jpeg:https://www.osc.org/wp-content/uploads/2026/04/Horse-Power1-1-scaled-e1776777472832-SWLmaU.jpg
GEO:28.57228;-81.368341
END:VEVENT
BEGIN:VEVENT
DTSTART;TZID=America/New_York:20260511T151500
DTEND;TZID=America/New_York:20260511T154000
DTSTAMP:20260422T105034
CREATED:20260421T204550Z
LAST-MODIFIED:20260421T205746Z
UID:10008911-1778512500-1778514000@www.osc.org
SUMMARY:Wild Rescue 3D
DESCRIPTION:From the arrival of a fragile bobcat to the rehabilitation of a young fox\, explore hospital admissions\, groundbreaking medical treatments\, and the delicate balance of wildlife care.
URL:https://www.osc.org/event/wild-rescue-3d-34/
LOCATION:Digital Adventure Theater – Level 2
CATEGORIES:Theater Schedule
ATTACH;FMTTYPE=image/jpeg:https://www.osc.org/wp-content/uploads/2026/03/Wild-Rescue-Movie13_1920x1080.jpg
GEO:28.57228;-81.368341
END:VEVENT
BEGIN:VEVENT
DTSTART;TZID=America/New_York:20260512T113000
DTEND;TZID=America/New_York:20260512T115500
DTSTAMP:20260422T105034
CREATED:20260421T204619Z
LAST-MODIFIED:20260421T205815Z
UID:10008912-1778585400-1778586900@www.osc.org
SUMMARY:Horse Power
DESCRIPTION:Embark on an epic and heartwarming journey across the globe celebrating the extraordinary abilities of horses and their inseparable bond with humanity.
URL:https://www.osc.org/event/horse-power-7/
LOCATION:Digital Adventure Theater – Level 2
CATEGORIES:Theater Schedule
ATTACH;FMTTYPE=image/jpeg:https://www.osc.org/wp-content/uploads/2026/04/Horse-Power1-1-scaled-e1776777472832-SWLmaU.jpg
GEO:28.57228;-81.368341
END:VEVENT
BEGIN:VEVENT
DTSTART;TZID=America/New_York:20260512T121500
DTEND;TZID=America/New_York:20260512T124000
DTSTAMP:20260422T105034
CREATED:20260421T204619Z
LAST-MODIFIED:20260421T205816Z
UID:10008913-1778588100-1778589600@www.osc.org
SUMMARY:Wild Rescue
DESCRIPTION:From the arrival of a fragile bobcat to the rehabilitation of a young fox\, explore hospital admissions\, groundbreaking medical treatments\, and the delicate balance of wildlife care.
URL:https://www.osc.org/event/wild-rescue-27/
LOCATION:Digital Adventure Theater – Level 2
CATEGORIES:Theater Schedule
ATTACH;FMTTYPE=image/jpeg:https://www.osc.org/wp-content/uploads/2026/03/Wild-Rescue-Movie13_1920x1080.jpg
GEO:28.57228;-81.368341
END:VEVENT
BEGIN:VEVENT
DTSTART;TZID=America/New_York:20260512T130000
DTEND;TZID=America/New_York:20260512T132500
DTSTAMP:20260422T105034
CREATED:20260421T204619Z
LAST-MODIFIED:20260421T205816Z
UID:10008914-1778590800-1778592300@www.osc.org
SUMMARY:Astronaut: Ocean to Orbit
DESCRIPTION:Join astronaut Chris Cassidy as he trains in his space suit alongside a full-sized mock-up the International Space Station in a giant underwater facility in Houston. Dive to the sea floor with NASA astronaut Jeanette Epps as she lives underwater with fellow astronauts for ten continuous days at Aquarius Reef Base in Florida. Find out what it takes to live and work in space.
URL:https://www.osc.org/event/astronaut-ocean-to-orbit-49/
LOCATION:Digital Adventure Theater – Level 2
CATEGORIES:Theater Schedule
ATTACH;FMTTYPE=image/jpeg:https://www.osc.org/wp-content/uploads/2026/01/Astronaut-Ocean-to-Orbit_1920x1080.jpg
GEO:28.57228;-81.368341
END:VEVENT
BEGIN:VEVENT
DTSTART;TZID=America/New_York:20260512T141500
DTEND;TZID=America/New_York:20260512T144000
DTSTAMP:20260422T105034
CREATED:20260421T204620Z
LAST-MODIFIED:20260421T205816Z
UID:10008915-1778595300-1778596800@www.osc.org
SUMMARY:Horse Power 3D
DESCRIPTION:Embark on an epic and heartwarming journey across the globe celebrating the extraordinary abilities of horses and their inseparable bond with humanity.
URL:https://www.osc.org/event/horse-power-3d-11/
LOCATION:Digital Adventure Theater – Level 2
CATEGORIES:Theater Schedule
ATTACH;FMTTYPE=image/jpeg:https://www.osc.org/wp-content/uploads/2026/04/Horse-Power1-1-scaled-e1776777472832-SWLmaU.jpg
GEO:28.57228;-81.368341
END:VEVENT
BEGIN:VEVENT
DTSTART;TZID=America/New_York:20260512T151500
DTEND;TZID=America/New_York:20260512T154000
DTSTAMP:20260422T105034
CREATED:20260421T204620Z
LAST-MODIFIED:20260421T205816Z
UID:10008916-1778598900-1778600400@www.osc.org
SUMMARY:Wild Rescue 3D
DESCRIPTION:From the arrival of a fragile bobcat to the rehabilitation of a young fox\, explore hospital admissions\, groundbreaking medical treatments\, and the delicate balance of wildlife care.
URL:https://www.osc.org/event/wild-rescue-3d-35/
LOCATION:Digital Adventure Theater – Level 2
CATEGORIES:Theater Schedule
ATTACH;FMTTYPE=image/jpeg:https://www.osc.org/wp-content/uploads/2026/03/Wild-Rescue-Movie13_1920x1080.jpg
GEO:28.57228;-81.368341
END:VEVENT
BEGIN:VEVENT
DTSTART;TZID=America/New_York:20260514T113000
DTEND;TZID=America/New_York:20260514T115500
DTSTAMP:20260422T105034
CREATED:20260421T204654Z
LAST-MODIFIED:20260421T205845Z
UID:10008917-1778758200-1778759700@www.osc.org
SUMMARY:Horse Power
DESCRIPTION:Embark on an epic and heartwarming journey across the globe celebrating the extraordinary abilities of horses and their inseparable bond with humanity.
URL:https://www.osc.org/event/horse-power-8/
LOCATION:Digital Adventure Theater – Level 2
CATEGORIES:Theater Schedule
ATTACH;FMTTYPE=image/jpeg:https://www.osc.org/wp-content/uploads/2026/04/Horse-Power1-1-scaled-e1776777472832-SWLmaU.jpg
GEO:28.57228;-81.368341
END:VEVENT
BEGIN:VEVENT
DTSTART;TZID=America/New_York:20260514T121500
DTEND;TZID=America/New_York:20260514T124000
DTSTAMP:20260422T105034
CREATED:20260421T204654Z
LAST-MODIFIED:20260421T205846Z
UID:10008918-1778760900-1778762400@www.osc.org
SUMMARY:Wild Rescue
DESCRIPTION:From the arrival of a fragile bobcat to the rehabilitation of a young fox\, explore hospital admissions\, groundbreaking medical treatments\, and the delicate balance of wildlife care.
URL:https://www.osc.org/event/wild-rescue-28/
LOCATION:Digital Adventure Theater – Level 2
CATEGORIES:Theater Schedule
ATTACH;FMTTYPE=image/jpeg:https://www.osc.org/wp-content/uploads/2026/03/Wild-Rescue-Movie13_1920x1080.jpg
GEO:28.57228;-81.368341
END:VEVENT
BEGIN:VEVENT
DTSTART;TZID=America/New_York:20260514T130000
DTEND;TZID=America/New_York:20260514T132500
DTSTAMP:20260422T105034
CREATED:20260421T204654Z
LAST-MODIFIED:20260421T205846Z
UID:10008919-1778763600-1778765100@www.osc.org
SUMMARY:Astronaut: Ocean to Orbit
DESCRIPTION:Join astronaut Chris Cassidy as he trains in his space suit alongside a full-sized mock-up the International Space Station in a giant underwater facility in Houston. Dive to the sea floor with NASA astronaut Jeanette Epps as she lives underwater with fellow astronauts for ten continuous days at Aquarius Reef Base in Florida. Find out what it takes to live and work in space.
URL:https://www.osc.org/event/astronaut-ocean-to-orbit-50/
LOCATION:Digital Adventure Theater – Level 2
CATEGORIES:Theater Schedule
ATTACH;FMTTYPE=image/jpeg:https://www.osc.org/wp-content/uploads/2026/01/Astronaut-Ocean-to-Orbit_1920x1080.jpg
GEO:28.57228;-81.368341
END:VEVENT
BEGIN:VEVENT
DTSTART;TZID=America/New_York:20260514T141500
DTEND;TZID=America/New_York:20260514T144000
DTSTAMP:20260422T105034
CREATED:20260421T204655Z
LAST-MODIFIED:20260421T205846Z
UID:10008920-1778768100-1778769600@www.osc.org
SUMMARY:Horse Power 3D
DESCRIPTION:Embark on an epic and heartwarming journey across the globe celebrating the extraordinary abilities of horses and their inseparable bond with humanity.
URL:https://www.osc.org/event/horse-power-3d-12/
LOCATION:Digital Adventure Theater – Level 2
CATEGORIES:Theater Schedule
ATTACH;FMTTYPE=image/jpeg:https://www.osc.org/wp-content/uploads/2026/04/Horse-Power1-1-scaled-e1776777472832-SWLmaU.jpg
GEO:28.57228;-81.368341
END:VEVENT
BEGIN:VEVENT
DTSTART;TZID=America/New_York:20260514T151500
DTEND;TZID=America/New_York:20260514T154000
DTSTAMP:20260422T105034
CREATED:20260421T204718Z
LAST-MODIFIED:20260421T205916Z
UID:10008921-1778771700-1778773200@www.osc.org
SUMMARY:Wild Rescue 3D
DESCRIPTION:From the arrival of a fragile bobcat to the rehabilitation of a young fox\, explore hospital admissions\, groundbreaking medical treatments\, and the delicate balance of wildlife care.
URL:https://www.osc.org/event/wild-rescue-3d-36/
LOCATION:Digital Adventure Theater – Level 2
CATEGORIES:Theater Schedule
ATTACH;FMTTYPE=image/jpeg:https://www.osc.org/wp-content/uploads/2026/03/Wild-Rescue-Movie13_1920x1080.jpg
GEO:28.57228;-81.368341
END:VEVENT
BEGIN:VEVENT
DTSTART;TZID=America/New_York:20260515T113000
DTEND;TZID=America/New_York:20260515T115500
DTSTAMP:20260422T105034
CREATED:20260421T204718Z
LAST-MODIFIED:20260421T205916Z
UID:10008922-1778844600-1778846100@www.osc.org
SUMMARY:Horse Power
DESCRIPTION:Embark on an epic and heartwarming journey across the globe celebrating the extraordinary abilities of horses and their inseparable bond with humanity.
URL:https://www.osc.org/event/horse-power-9/
LOCATION:Digital Adventure Theater – Level 2
CATEGORIES:Theater Schedule
ATTACH;FMTTYPE=image/jpeg:https://www.osc.org/wp-content/uploads/2026/04/Horse-Power1-1-scaled-e1776777472832-SWLmaU.jpg
GEO:28.57228;-81.368341
END:VEVENT
BEGIN:VEVENT
DTSTART;TZID=America/New_York:20260515T121500
DTEND;TZID=America/New_York:20260515T124000
DTSTAMP:20260422T105034
CREATED:20260421T204719Z
LAST-MODIFIED:20260421T205916Z
UID:10008923-1778847300-1778848800@www.osc.org
SUMMARY:Wild Rescue
DESCRIPTION:From the arrival of a fragile bobcat to the rehabilitation of a young fox\, explore hospital admissions\, groundbreaking medical treatments\, and the delicate balance of wildlife care.
URL:https://www.osc.org/event/wild-rescue-29/
LOCATION:Digital Adventure Theater – Level 2
CATEGORIES:Theater Schedule
ATTACH;FMTTYPE=image/jpeg:https://www.osc.org/wp-content/uploads/2026/03/Wild-Rescue-Movie13_1920x1080.jpg
GEO:28.57228;-81.368341
END:VEVENT
BEGIN:VEVENT
DTSTART;TZID=America/New_York:20260515T130000
DTEND;TZID=America/New_York:20260515T132500
DTSTAMP:20260422T105034
CREATED:20260421T204719Z
LAST-MODIFIED:20260421T205916Z
UID:10008924-1778850000-1778851500@www.osc.org
SUMMARY:Astronaut: Ocean to Orbit
DESCRIPTION:Join astronaut Chris Cassidy as he trains in his space suit alongside a full-sized mock-up the International Space Station in a giant underwater facility in Houston. Dive to the sea floor with NASA astronaut Jeanette Epps as she lives underwater with fellow astronauts for ten continuous days at Aquarius Reef Base in Florida. Find out what it takes to live and work in space.
URL:https://www.osc.org/event/astronaut-ocean-to-orbit-51/
LOCATION:Digital Adventure Theater – Level 2
CATEGORIES:Theater Schedule
ATTACH;FMTTYPE=image/jpeg:https://www.osc.org/wp-content/uploads/2026/01/Astronaut-Ocean-to-Orbit_1920x1080.jpg
GEO:28.57228;-81.368341
END:VEVENT
BEGIN:VEVENT
DTSTART;TZID=America/New_York:20260515T141500
DTEND;TZID=America/New_York:20260515T144000
DTSTAMP:20260422T105034
CREATED:20260421T204735Z
LAST-MODIFIED:20260421T205956Z
UID:10008925-1778854500-1778856000@www.osc.org
SUMMARY:Horse Power 3D
DESCRIPTION:Embark on an epic and heartwarming journey across the globe celebrating the extraordinary abilities of horses and their inseparable bond with humanity.
URL:https://www.osc.org/event/horse-power-3d-13/
LOCATION:Digital Adventure Theater – Level 2
CATEGORIES:Theater Schedule
ATTACH;FMTTYPE=image/jpeg:https://www.osc.org/wp-content/uploads/2026/04/Horse-Power1-1-scaled-e1776777472832-SWLmaU.jpg
GEO:28.57228;-81.368341
END:VEVENT
BEGIN:VEVENT
DTSTART;TZID=America/New_York:20260515T151500
DTEND;TZID=America/New_York:20260515T154000
DTSTAMP:20260422T105034
CREATED:20260421T204735Z
LAST-MODIFIED:20260421T205956Z
UID:10008926-1778858100-1778859600@www.osc.org
SUMMARY:Wild Rescue 3D
DESCRIPTION:From the arrival of a fragile bobcat to the rehabilitation of a young fox\, explore hospital admissions\, groundbreaking medical treatments\, and the delicate balance of wildlife care.
URL:https://www.osc.org/event/wild-rescue-3d-37/
LOCATION:Digital Adventure Theater – Level 2
CATEGORIES:Theater Schedule
ATTACH;FMTTYPE=image/jpeg:https://www.osc.org/wp-content/uploads/2026/03/Wild-Rescue-Movie13_1920x1080.jpg
GEO:28.57228;-81.368341
END:VEVENT
END:VCALENDAR