BEGIN:VCALENDAR
VERSION:2.0
PRODID:-//Orlando Science Center - ECPv6.15.20//NONSGML v1.0//EN
CALSCALE:GREGORIAN
METHOD:PUBLISH
X-WR-CALNAME:Orlando Science Center
X-ORIGINAL-URL:https://www.osc.org
X-WR-CALDESC:Events for Orlando Science Center
REFRESH-INTERVAL;VALUE=DURATION:PT1H
X-Robots-Tag:noindex
X-PUBLISHED-TTL:PT1H
BEGIN:VTIMEZONE
TZID:America/New_York
BEGIN:DAYLIGHT
TZOFFSETFROM:-0500
TZOFFSETTO:-0400
TZNAME:EDT
DTSTART:20250309T070000
END:DAYLIGHT
BEGIN:STANDARD
TZOFFSETFROM:-0400
TZOFFSETTO:-0500
TZNAME:EST
DTSTART:20251102T060000
END:STANDARD
BEGIN:DAYLIGHT
TZOFFSETFROM:-0500
TZOFFSETTO:-0400
TZNAME:EDT
DTSTART:20260308T070000
END:DAYLIGHT
BEGIN:STANDARD
TZOFFSETFROM:-0400
TZOFFSETTO:-0500
TZNAME:EST
DTSTART:20261101T060000
END:STANDARD
BEGIN:DAYLIGHT
TZOFFSETFROM:-0500
TZOFFSETTO:-0400
TZNAME:EDT
DTSTART:20270314T070000
END:DAYLIGHT
BEGIN:STANDARD
TZOFFSETFROM:-0400
TZOFFSETTO:-0500
TZNAME:EST
DTSTART:20271107T060000
END:STANDARD
END:VTIMEZONE
BEGIN:VEVENT
DTSTART;TZID=America/New_York:20260423T113000
DTEND;TZID=America/New_York:20260423T115500
DTSTAMP:20260421T230041
CREATED:20260326T150838Z
LAST-MODIFIED:20260331T165538Z
UID:10008517-1776943800-1776945300@www.osc.org
SUMMARY:Wild Rescue
DESCRIPTION:From the arrival of a fragile bobcat to the rehabilitation of a young fox\, explore hospital admissions\, groundbreaking medical treatments\, and the delicate balance of wildlife care.
URL:https://www.osc.org/event/wild-rescue-15/
LOCATION:Digital Adventure Theater – Level 2
CATEGORIES:Theater Schedule
ATTACH;FMTTYPE=image/jpeg:https://www.osc.org/wp-content/uploads/2026/03/Wild-Rescue-Movie13_1920x1080.jpg
GEO:28.57228;-81.368341
END:VEVENT
BEGIN:VEVENT
DTSTART;TZID=America/New_York:20260423T121500
DTEND;TZID=America/New_York:20260423T124000
DTSTAMP:20260421T230041
CREATED:20260326T150838Z
LAST-MODIFIED:20260326T154059Z
UID:10008518-1776946500-1776948000@www.osc.org
SUMMARY:Astronaut: Ocean to Orbit
DESCRIPTION:Join astronaut Chris Cassidy as he trains in his space suit alongside a full-sized mock-up the International Space Station in a giant underwater facility in Houston. Dive to the sea floor with NASA astronaut Jeanette Epps as she lives underwater with fellow astronauts for ten continuous days at Aquarius Reef Base in Florida. Find out what it takes to live and work in space.
URL:https://www.osc.org/event/astronaut-ocean-to-orbit-43/
LOCATION:Digital Adventure Theater – Level 2
CATEGORIES:Theater Schedule
ATTACH;FMTTYPE=image/jpeg:https://www.osc.org/wp-content/uploads/2026/01/Astronaut-Ocean-to-Orbit_1920x1080.jpg
GEO:28.57228;-81.368341
END:VEVENT
BEGIN:VEVENT
DTSTART;TZID=America/New_York:20260423T130000
DTEND;TZID=America/New_York:20260423T132500
DTSTAMP:20260421T230041
CREATED:20260326T150838Z
LAST-MODIFIED:20260326T154059Z
UID:10008519-1776949200-1776950700@www.osc.org
SUMMARY:Superhuman Body: World of Medical Marvels
DESCRIPTION:Explore the inner workings of the human body and the incredible breakthroughs in science that are allowing us to live longer\, healthier lives.
URL:https://www.osc.org/event/superhuman-body-world-of-medical-marvels-73/
LOCATION:Digital Adventure Theater – Level 2
CATEGORIES:Theater Schedule
ATTACH;FMTTYPE=image/jpeg:https://www.osc.org/wp-content/uploads/2025/08/Superhuman-Body-World-of-Medical-Marvels-Film_1920x1080.jpg
GEO:28.57228;-81.368341
END:VEVENT
BEGIN:VEVENT
DTSTART;TZID=America/New_York:20260423T141500
DTEND;TZID=America/New_York:20260423T144000
DTSTAMP:20260421T230041
CREATED:20260326T150838Z
LAST-MODIFIED:20260331T165538Z
UID:10008520-1776953700-1776955200@www.osc.org
SUMMARY:Wild Rescue 3D
DESCRIPTION:From the arrival of a fragile bobcat to the rehabilitation of a young fox\, explore hospital admissions\, groundbreaking medical treatments\, and the delicate balance of wildlife care.
URL:https://www.osc.org/event/wild-rescue-3d-17/
LOCATION:Digital Adventure Theater – Level 2
CATEGORIES:Theater Schedule
ATTACH;FMTTYPE=image/jpeg:https://www.osc.org/wp-content/uploads/2026/03/Wild-Rescue-Movie13_1920x1080.jpg
GEO:28.57228;-81.368341
END:VEVENT
BEGIN:VEVENT
DTSTART;TZID=America/New_York:20260424T113000
DTEND;TZID=America/New_York:20260424T115500
DTSTAMP:20260421T230041
CREATED:20260326T150908Z
LAST-MODIFIED:20260331T165538Z
UID:10008522-1777030200-1777031700@www.osc.org
SUMMARY:Wild Rescue
DESCRIPTION:From the arrival of a fragile bobcat to the rehabilitation of a young fox\, explore hospital admissions\, groundbreaking medical treatments\, and the delicate balance of wildlife care.
URL:https://www.osc.org/event/wild-rescue-16/
LOCATION:Digital Adventure Theater – Level 2
CATEGORIES:Theater Schedule
ATTACH;FMTTYPE=image/jpeg:https://www.osc.org/wp-content/uploads/2026/03/Wild-Rescue-Movie13_1920x1080.jpg
GEO:28.57228;-81.368341
END:VEVENT
BEGIN:VEVENT
DTSTART;TZID=America/New_York:20260424T130000
DTEND;TZID=America/New_York:20260424T133000
DTSTAMP:20260421T230041
CREATED:20260328T173712Z
LAST-MODIFIED:20260328T173712Z
UID:10008722-1777035600-1777037400@www.osc.org
SUMMARY:KABOOM
DESCRIPTION:Explore the science of combustion in this explosive live show featuring colorful chemistry! Recommended for ages 6+
URL:https://www.osc.org/event/kaboom-34/
LOCATION:Digital Adventure Theater – Level 2
CATEGORIES:Science Live Schedule
ATTACH;FMTTYPE=image/jpeg:https://www.osc.org/wp-content/uploads/2025/09/Untitled-design.jpg
GEO:28.57228;-81.368341
END:VEVENT
BEGIN:VEVENT
DTSTART;TZID=America/New_York:20260424T140000
DTEND;TZID=America/New_York:20260424T143000
DTSTAMP:20260421T230041
CREATED:20260328T173742Z
LAST-MODIFIED:20260328T173742Z
UID:10008725-1777039200-1777041000@www.osc.org
SUMMARY:Powers of Pokémon
DESCRIPTION:Who’s that Pokémon?? Dive into the science behind some of your favorite Pokémon powers with live demonstrations!
URL:https://www.osc.org/event/powers-of-pokemon-36/
LOCATION:Digital Adventure Theater – Level 2
CATEGORIES:Science Live Schedule
ATTACH;FMTTYPE=image/jpeg:https://www.osc.org/wp-content/uploads/2025/05/Powers-of-Pokemon_1080x608.jpg
GEO:28.57228;-81.368341
END:VEVENT
BEGIN:VEVENT
DTSTART;TZID=America/New_York:20260424T151500
DTEND;TZID=America/New_York:20260424T154000
DTSTAMP:20260421T230041
CREATED:20260326T154159Z
LAST-MODIFIED:20260326T154159Z
UID:10008563-1777043700-1777045200@www.osc.org
SUMMARY:Astronaut: Ocean to Orbit 3D
DESCRIPTION:Join astronaut Chris Cassidy as he trains in his space suit alongside a full-sized mock-up the International Space Station in a giant underwater facility in Houston. Dive to the sea floor with NASA astronaut Jeanette Epps as she lives underwater with fellow astronauts for ten continuous days at Aquarius Reef Base in Florida. Find out what it takes to live and work in space.
URL:https://www.osc.org/event/astronaut-ocean-to-orbit-3d-92/
LOCATION:Digital Adventure Theater – Level 2
CATEGORIES:Theater Schedule
ATTACH;FMTTYPE=image/jpeg:https://www.osc.org/wp-content/uploads/2026/01/Astronaut-Ocean-to-Orbit_1920x1080.jpg
GEO:28.57228;-81.368341
END:VEVENT
BEGIN:VEVENT
DTSTART;TZID=America/New_York:20260424T161500
DTEND;TZID=America/New_York:20260424T164000
DTSTAMP:20260421T230041
CREATED:20260326T150908Z
LAST-MODIFIED:20260415T151521Z
UID:10008525-1777047300-1777048800@www.osc.org
SUMMARY:Wild Rescue 3D
DESCRIPTION:From the arrival of a fragile bobcat to the rehabilitation of a young fox\, explore hospital admissions\, groundbreaking medical treatments\, and the delicate balance of wildlife care.
URL:https://www.osc.org/event/wild-rescue-3d-18/
LOCATION:Digital Adventure Theater – Level 2
CATEGORIES:Theater Schedule
ATTACH;FMTTYPE=image/jpeg:https://www.osc.org/wp-content/uploads/2026/03/Wild-Rescue-Movie13_1920x1080.jpg
GEO:28.57228;-81.368341
END:VEVENT
BEGIN:VEVENT
DTSTART;TZID=America/New_York:20260425T113000
DTEND;TZID=America/New_York:20260425T115500
DTSTAMP:20260421T230041
CREATED:20260326T150938Z
LAST-MODIFIED:20260331T165538Z
UID:10008527-1777116600-1777118100@www.osc.org
SUMMARY:Wild Rescue
DESCRIPTION:From the arrival of a fragile bobcat to the rehabilitation of a young fox\, explore hospital admissions\, groundbreaking medical treatments\, and the delicate balance of wildlife care.
URL:https://www.osc.org/event/wild-rescue-17/
LOCATION:Digital Adventure Theater – Level 2
CATEGORIES:Theater Schedule
ATTACH;FMTTYPE=image/jpeg:https://www.osc.org/wp-content/uploads/2026/03/Wild-Rescue-Movie13_1920x1080.jpg
GEO:28.57228;-81.368341
END:VEVENT
BEGIN:VEVENT
DTSTART;TZID=America/New_York:20260425T130000
DTEND;TZID=America/New_York:20260425T133000
DTSTAMP:20260421T230041
CREATED:20260328T173841Z
LAST-MODIFIED:20260328T173841Z
UID:10008733-1777122000-1777123800@www.osc.org
SUMMARY:KABOOM
DESCRIPTION:Explore the science of combustion in this explosive live show featuring colorful chemistry! Recommended for ages 6+
URL:https://www.osc.org/event/kaboom-35/
LOCATION:Digital Adventure Theater – Level 2
CATEGORIES:Science Live Schedule
ATTACH;FMTTYPE=image/jpeg:https://www.osc.org/wp-content/uploads/2025/09/Untitled-design.jpg
GEO:28.57228;-81.368341
END:VEVENT
BEGIN:VEVENT
DTSTART;TZID=America/New_York:20260425T140000
DTEND;TZID=America/New_York:20260425T143000
DTSTAMP:20260421T230041
CREATED:20260328T173842Z
LAST-MODIFIED:20260328T173842Z
UID:10008736-1777125600-1777127400@www.osc.org
SUMMARY:Powers of Pokémon
DESCRIPTION:Who’s that Pokémon?? Dive into the science behind some of your favorite Pokémon powers with live demonstrations!
URL:https://www.osc.org/event/powers-of-pokemon-37/
LOCATION:Digital Adventure Theater – Level 2
CATEGORIES:Science Live Schedule
ATTACH;FMTTYPE=image/jpeg:https://www.osc.org/wp-content/uploads/2025/05/Powers-of-Pokemon_1080x608.jpg
GEO:28.57228;-81.368341
END:VEVENT
BEGIN:VEVENT
DTSTART;TZID=America/New_York:20260426T130000
DTEND;TZID=America/New_York:20260426T133000
DTSTAMP:20260421T230041
CREATED:20260328T173942Z
LAST-MODIFIED:20260328T173942Z
UID:10008744-1777208400-1777210200@www.osc.org
SUMMARY:KABOOM
DESCRIPTION:Explore the science of combustion in this explosive live show featuring colorful chemistry! Recommended for ages 6+
URL:https://www.osc.org/event/kaboom-36/
LOCATION:Digital Adventure Theater – Level 2
CATEGORIES:Science Live Schedule
ATTACH;FMTTYPE=image/jpeg:https://www.osc.org/wp-content/uploads/2025/09/Untitled-design.jpg
GEO:28.57228;-81.368341
END:VEVENT
BEGIN:VEVENT
DTSTART;TZID=America/New_York:20260426T140000
DTEND;TZID=America/New_York:20260426T143000
DTSTAMP:20260421T230041
CREATED:20260328T173943Z
LAST-MODIFIED:20260328T173943Z
UID:10008747-1777212000-1777213800@www.osc.org
SUMMARY:Powers of Pokémon
DESCRIPTION:Who’s that Pokémon?? Dive into the science behind some of your favorite Pokémon powers with live demonstrations!
URL:https://www.osc.org/event/powers-of-pokemon-38/
LOCATION:Digital Adventure Theater – Level 2
CATEGORIES:Science Live Schedule
ATTACH;FMTTYPE=image/jpeg:https://www.osc.org/wp-content/uploads/2025/05/Powers-of-Pokemon_1080x608.jpg
GEO:28.57228;-81.368341
END:VEVENT
BEGIN:VEVENT
DTSTART;TZID=America/New_York:20260426T151500
DTEND;TZID=America/New_York:20260426T154000
DTSTAMP:20260421T230041
CREATED:20260326T154229Z
LAST-MODIFIED:20260326T154229Z
UID:10008565-1777216500-1777218000@www.osc.org
SUMMARY:Astronaut: Ocean to Orbit 3D
DESCRIPTION:Join astronaut Chris Cassidy as he trains in his space suit alongside a full-sized mock-up the International Space Station in a giant underwater facility in Houston. Dive to the sea floor with NASA astronaut Jeanette Epps as she lives underwater with fellow astronauts for ten continuous days at Aquarius Reef Base in Florida. Find out what it takes to live and work in space.
URL:https://www.osc.org/event/astronaut-ocean-to-orbit-3d-94/
LOCATION:Digital Adventure Theater – Level 2
CATEGORIES:Theater Schedule
ATTACH;FMTTYPE=image/jpeg:https://www.osc.org/wp-content/uploads/2026/01/Astronaut-Ocean-to-Orbit_1920x1080.jpg
GEO:28.57228;-81.368341
END:VEVENT
BEGIN:VEVENT
DTSTART;TZID=America/New_York:20260426T161500
DTEND;TZID=America/New_York:20260426T164000
DTSTAMP:20260421T230041
CREATED:20260326T151008Z
LAST-MODIFIED:20260331T165608Z
UID:10008531-1777220100-1777221600@www.osc.org
SUMMARY:Wild Rescue 3D
DESCRIPTION:From the arrival of a fragile bobcat to the rehabilitation of a young fox\, explore hospital admissions\, groundbreaking medical treatments\, and the delicate balance of wildlife care.
URL:https://www.osc.org/event/wild-rescue-3d-20/
LOCATION:Digital Adventure Theater – Level 2
CATEGORIES:Theater Schedule
ATTACH;FMTTYPE=image/jpeg:https://www.osc.org/wp-content/uploads/2026/03/Wild-Rescue-Movie13_1920x1080.jpg
GEO:28.57228;-81.368341
END:VEVENT
BEGIN:VEVENT
DTSTART;TZID=America/New_York:20260427T113000
DTEND;TZID=America/New_York:20260427T115500
DTSTAMP:20260421T230041
CREATED:20260326T151008Z
LAST-MODIFIED:20260331T165608Z
UID:10008532-1777289400-1777290900@www.osc.org
SUMMARY:Wild Rescue
DESCRIPTION:From the arrival of a fragile bobcat to the rehabilitation of a young fox\, explore hospital admissions\, groundbreaking medical treatments\, and the delicate balance of wildlife care.
URL:https://www.osc.org/event/wild-rescue-18/
LOCATION:Digital Adventure Theater – Level 2
CATEGORIES:Theater Schedule
ATTACH;FMTTYPE=image/jpeg:https://www.osc.org/wp-content/uploads/2026/03/Wild-Rescue-Movie13_1920x1080.jpg
GEO:28.57228;-81.368341
END:VEVENT
BEGIN:VEVENT
DTSTART;TZID=America/New_York:20260427T121500
DTEND;TZID=America/New_York:20260427T124000
DTSTAMP:20260421T230041
CREATED:20260326T151037Z
LAST-MODIFIED:20260326T154259Z
UID:10008533-1777292100-1777293600@www.osc.org
SUMMARY:Astronaut: Ocean to Orbit
DESCRIPTION:Join astronaut Chris Cassidy as he trains in his space suit alongside a full-sized mock-up the International Space Station in a giant underwater facility in Houston. Dive to the sea floor with NASA astronaut Jeanette Epps as she lives underwater with fellow astronauts for ten continuous days at Aquarius Reef Base in Florida. Find out what it takes to live and work in space.
URL:https://www.osc.org/event/astronaut-ocean-to-orbit-45/
LOCATION:Digital Adventure Theater – Level 2
CATEGORIES:Theater Schedule
ATTACH;FMTTYPE=image/jpeg:https://www.osc.org/wp-content/uploads/2026/01/Astronaut-Ocean-to-Orbit_1920x1080.jpg
GEO:28.57228;-81.368341
END:VEVENT
BEGIN:VEVENT
DTSTART;TZID=America/New_York:20260427T130000
DTEND;TZID=America/New_York:20260427T132500
DTSTAMP:20260421T230041
CREATED:20260326T151038Z
LAST-MODIFIED:20260326T154259Z
UID:10008534-1777294800-1777296300@www.osc.org
SUMMARY:Superhuman Body: World of Medical Marvels
DESCRIPTION:Explore the inner workings of the human body and the incredible breakthroughs in science that are allowing us to live longer\, healthier lives.
URL:https://www.osc.org/event/superhuman-body-world-of-medical-marvels-75/
LOCATION:Digital Adventure Theater – Level 2
CATEGORIES:Theater Schedule
ATTACH;FMTTYPE=image/jpeg:https://www.osc.org/wp-content/uploads/2025/08/Superhuman-Body-World-of-Medical-Marvels-Film_1920x1080.jpg
GEO:28.57228;-81.368341
END:VEVENT
BEGIN:VEVENT
DTSTART;TZID=America/New_York:20260427T141500
DTEND;TZID=America/New_York:20260427T144000
DTSTAMP:20260421T230041
CREATED:20260326T151038Z
LAST-MODIFIED:20260331T165608Z
UID:10008535-1777299300-1777300800@www.osc.org
SUMMARY:Wild Rescue 3D
DESCRIPTION:From the arrival of a fragile bobcat to the rehabilitation of a young fox\, explore hospital admissions\, groundbreaking medical treatments\, and the delicate balance of wildlife care.
URL:https://www.osc.org/event/wild-rescue-3d-21/
LOCATION:Digital Adventure Theater – Level 2
CATEGORIES:Theater Schedule
ATTACH;FMTTYPE=image/jpeg:https://www.osc.org/wp-content/uploads/2026/03/Wild-Rescue-Movie13_1920x1080.jpg
GEO:28.57228;-81.368341
END:VEVENT
BEGIN:VEVENT
DTSTART;TZID=America/New_York:20260427T151500
DTEND;TZID=America/New_York:20260427T154000
DTSTAMP:20260421T230041
CREATED:20260326T154259Z
LAST-MODIFIED:20260326T154259Z
UID:10008566-1777302900-1777304400@www.osc.org
SUMMARY:Astronaut: Ocean to Orbit 3D
DESCRIPTION:Join astronaut Chris Cassidy as he trains in his space suit alongside a full-sized mock-up the International Space Station in a giant underwater facility in Houston. Dive to the sea floor with NASA astronaut Jeanette Epps as she lives underwater with fellow astronauts for ten continuous days at Aquarius Reef Base in Florida. Find out what it takes to live and work in space.
URL:https://www.osc.org/event/astronaut-ocean-to-orbit-3d-95/
LOCATION:Digital Adventure Theater – Level 2
CATEGORIES:Theater Schedule
ATTACH;FMTTYPE=image/jpeg:https://www.osc.org/wp-content/uploads/2026/01/Astronaut-Ocean-to-Orbit_1920x1080.jpg
GEO:28.57228;-81.368341
END:VEVENT
BEGIN:VEVENT
DTSTART;TZID=America/New_York:20260428T113000
DTEND;TZID=America/New_York:20260428T115500
DTSTAMP:20260421T230041
CREATED:20260326T151107Z
LAST-MODIFIED:20260331T165608Z
UID:10008537-1777375800-1777377300@www.osc.org
SUMMARY:Wild Rescue
DESCRIPTION:From the arrival of a fragile bobcat to the rehabilitation of a young fox\, explore hospital admissions\, groundbreaking medical treatments\, and the delicate balance of wildlife care.
URL:https://www.osc.org/event/wild-rescue-19/
LOCATION:Digital Adventure Theater – Level 2
CATEGORIES:Theater Schedule
ATTACH;FMTTYPE=image/jpeg:https://www.osc.org/wp-content/uploads/2026/03/Wild-Rescue-Movie13_1920x1080.jpg
GEO:28.57228;-81.368341
END:VEVENT
BEGIN:VEVENT
DTSTART;TZID=America/New_York:20260428T121500
DTEND;TZID=America/New_York:20260428T124000
DTSTAMP:20260421T230041
CREATED:20260326T151108Z
LAST-MODIFIED:20260326T154329Z
UID:10008538-1777378500-1777380000@www.osc.org
SUMMARY:Astronaut: Ocean to Orbit
DESCRIPTION:Join astronaut Chris Cassidy as he trains in his space suit alongside a full-sized mock-up the International Space Station in a giant underwater facility in Houston. Dive to the sea floor with NASA astronaut Jeanette Epps as she lives underwater with fellow astronauts for ten continuous days at Aquarius Reef Base in Florida. Find out what it takes to live and work in space.
URL:https://www.osc.org/event/astronaut-ocean-to-orbit-46/
LOCATION:Digital Adventure Theater – Level 2
CATEGORIES:Theater Schedule
ATTACH;FMTTYPE=image/jpeg:https://www.osc.org/wp-content/uploads/2026/01/Astronaut-Ocean-to-Orbit_1920x1080.jpg
GEO:28.57228;-81.368341
END:VEVENT
BEGIN:VEVENT
DTSTART;TZID=America/New_York:20260428T130000
DTEND;TZID=America/New_York:20260428T132500
DTSTAMP:20260421T230041
CREATED:20260326T151108Z
LAST-MODIFIED:20260326T154329Z
UID:10008539-1777381200-1777382700@www.osc.org
SUMMARY:Superhuman Body: World of Medical Marvels
DESCRIPTION:Explore the inner workings of the human body and the incredible breakthroughs in science that are allowing us to live longer\, healthier lives.
URL:https://www.osc.org/event/superhuman-body-world-of-medical-marvels-76/
LOCATION:Digital Adventure Theater – Level 2
CATEGORIES:Theater Schedule
ATTACH;FMTTYPE=image/jpeg:https://www.osc.org/wp-content/uploads/2025/08/Superhuman-Body-World-of-Medical-Marvels-Film_1920x1080.jpg
GEO:28.57228;-81.368341
END:VEVENT
BEGIN:VEVENT
DTSTART;TZID=America/New_York:20260428T141500
DTEND;TZID=America/New_York:20260428T144000
DTSTAMP:20260421T230041
CREATED:20260326T151108Z
LAST-MODIFIED:20260331T165638Z
UID:10008540-1777385700-1777387200@www.osc.org
SUMMARY:Wild Rescue 3D
DESCRIPTION:From the arrival of a fragile bobcat to the rehabilitation of a young fox\, explore hospital admissions\, groundbreaking medical treatments\, and the delicate balance of wildlife care.
URL:https://www.osc.org/event/wild-rescue-3d-22/
LOCATION:Digital Adventure Theater – Level 2
CATEGORIES:Theater Schedule
ATTACH;FMTTYPE=image/jpeg:https://www.osc.org/wp-content/uploads/2026/03/Wild-Rescue-Movie13_1920x1080.jpg
GEO:28.57228;-81.368341
END:VEVENT
BEGIN:VEVENT
DTSTART;TZID=America/New_York:20260428T151500
DTEND;TZID=America/New_York:20260428T154000
DTSTAMP:20260421T230041
CREATED:20260326T154329Z
LAST-MODIFIED:20260326T154329Z
UID:10008567-1777389300-1777390800@www.osc.org
SUMMARY:Astronaut: Ocean to Orbit 3D
DESCRIPTION:Join astronaut Chris Cassidy as he trains in his space suit alongside a full-sized mock-up the International Space Station in a giant underwater facility in Houston. Dive to the sea floor with NASA astronaut Jeanette Epps as she lives underwater with fellow astronauts for ten continuous days at Aquarius Reef Base in Florida. Find out what it takes to live and work in space.
URL:https://www.osc.org/event/astronaut-ocean-to-orbit-3d-96/
LOCATION:Digital Adventure Theater – Level 2
CATEGORIES:Theater Schedule
ATTACH;FMTTYPE=image/jpeg:https://www.osc.org/wp-content/uploads/2026/01/Astronaut-Ocean-to-Orbit_1920x1080.jpg
GEO:28.57228;-81.368341
END:VEVENT
BEGIN:VEVENT
DTSTART;TZID=America/New_York:20260430T113000
DTEND;TZID=America/New_York:20260430T115500
DTSTAMP:20260421T230041
CREATED:20260326T151137Z
LAST-MODIFIED:20260331T165638Z
UID:10008542-1777548600-1777550100@www.osc.org
SUMMARY:Wild Rescue
DESCRIPTION:From the arrival of a fragile bobcat to the rehabilitation of a young fox\, explore hospital admissions\, groundbreaking medical treatments\, and the delicate balance of wildlife care.
URL:https://www.osc.org/event/wild-rescue-20/
LOCATION:Digital Adventure Theater – Level 2
CATEGORIES:Theater Schedule
ATTACH;FMTTYPE=image/jpeg:https://www.osc.org/wp-content/uploads/2026/03/Wild-Rescue-Movie13_1920x1080.jpg
GEO:28.57228;-81.368341
END:VEVENT
BEGIN:VEVENT
DTSTART;TZID=America/New_York:20260430T121500
DTEND;TZID=America/New_York:20260430T124000
DTSTAMP:20260421T230041
CREATED:20260326T151138Z
LAST-MODIFIED:20260326T154359Z
UID:10008543-1777551300-1777552800@www.osc.org
SUMMARY:Astronaut: Ocean to Orbit
DESCRIPTION:Join astronaut Chris Cassidy as he trains in his space suit alongside a full-sized mock-up the International Space Station in a giant underwater facility in Houston. Dive to the sea floor with NASA astronaut Jeanette Epps as she lives underwater with fellow astronauts for ten continuous days at Aquarius Reef Base in Florida. Find out what it takes to live and work in space.
URL:https://www.osc.org/event/astronaut-ocean-to-orbit-47/
LOCATION:Digital Adventure Theater – Level 2
CATEGORIES:Theater Schedule
ATTACH;FMTTYPE=image/jpeg:https://www.osc.org/wp-content/uploads/2026/01/Astronaut-Ocean-to-Orbit_1920x1080.jpg
GEO:28.57228;-81.368341
END:VEVENT
BEGIN:VEVENT
DTSTART;TZID=America/New_York:20260430T130000
DTEND;TZID=America/New_York:20260430T132500
DTSTAMP:20260421T230041
CREATED:20260326T151138Z
LAST-MODIFIED:20260326T154359Z
UID:10008544-1777554000-1777555500@www.osc.org
SUMMARY:Superhuman Body: World of Medical Marvels
DESCRIPTION:Explore the inner workings of the human body and the incredible breakthroughs in science that are allowing us to live longer\, healthier lives.
URL:https://www.osc.org/event/superhuman-body-world-of-medical-marvels-77/
LOCATION:Digital Adventure Theater – Level 2
CATEGORIES:Theater Schedule
ATTACH;FMTTYPE=image/jpeg:https://www.osc.org/wp-content/uploads/2025/08/Superhuman-Body-World-of-Medical-Marvels-Film_1920x1080.jpg
GEO:28.57228;-81.368341
END:VEVENT
BEGIN:VEVENT
DTSTART;TZID=America/New_York:20260430T141500
DTEND;TZID=America/New_York:20260430T144000
DTSTAMP:20260421T230041
CREATED:20260326T151138Z
LAST-MODIFIED:20260331T165638Z
UID:10008545-1777558500-1777560000@www.osc.org
SUMMARY:Wild Rescue 3D
DESCRIPTION:From the arrival of a fragile bobcat to the rehabilitation of a young fox\, explore hospital admissions\, groundbreaking medical treatments\, and the delicate balance of wildlife care.
URL:https://www.osc.org/event/wild-rescue-3d-23/
LOCATION:Digital Adventure Theater – Level 2
CATEGORIES:Theater Schedule
ATTACH;FMTTYPE=image/jpeg:https://www.osc.org/wp-content/uploads/2026/03/Wild-Rescue-Movie13_1920x1080.jpg
GEO:28.57228;-81.368341
END:VEVENT
END:VCALENDAR