BEGIN:VCALENDAR
VERSION:2.0
PRODID:-//Orlando Science Center - ECPv6.15.20//NONSGML v1.0//EN
CALSCALE:GREGORIAN
METHOD:PUBLISH
X-WR-CALNAME:Orlando Science Center
X-ORIGINAL-URL:https://www.osc.org
X-WR-CALDESC:Events for Orlando Science Center
REFRESH-INTERVAL;VALUE=DURATION:PT1H
X-Robots-Tag:noindex
X-PUBLISHED-TTL:PT1H
BEGIN:VTIMEZONE
TZID:America/New_York
BEGIN:DAYLIGHT
TZOFFSETFROM:-0500
TZOFFSETTO:-0400
TZNAME:EDT
DTSTART:20250309T070000
END:DAYLIGHT
BEGIN:STANDARD
TZOFFSETFROM:-0400
TZOFFSETTO:-0500
TZNAME:EST
DTSTART:20251102T060000
END:STANDARD
BEGIN:DAYLIGHT
TZOFFSETFROM:-0500
TZOFFSETTO:-0400
TZNAME:EDT
DTSTART:20260308T070000
END:DAYLIGHT
BEGIN:STANDARD
TZOFFSETFROM:-0400
TZOFFSETTO:-0500
TZNAME:EST
DTSTART:20261101T060000
END:STANDARD
BEGIN:DAYLIGHT
TZOFFSETFROM:-0500
TZOFFSETTO:-0400
TZNAME:EDT
DTSTART:20270314T070000
END:DAYLIGHT
BEGIN:STANDARD
TZOFFSETFROM:-0400
TZOFFSETTO:-0500
TZNAME:EST
DTSTART:20271107T060000
END:STANDARD
END:VTIMEZONE
BEGIN:VEVENT
DTSTART;TZID=America/New_York:20260421T151500
DTEND;TZID=America/New_York:20260421T154000
DTSTAMP:20260422T052753
CREATED:20260326T154029Z
LAST-MODIFIED:20260326T154029Z
UID:10008561-1776784500-1776786000@www.osc.org
SUMMARY:Astronaut: Ocean to Orbit 3D
DESCRIPTION:Join astronaut Chris Cassidy as he trains in his space suit alongside a full-sized mock-up the International Space Station in a giant underwater facility in Houston. Dive to the sea floor with NASA astronaut Jeanette Epps as she lives underwater with fellow astronauts for ten continuous days at Aquarius Reef Base in Florida. Find out what it takes to live and work in space.
URL:https://www.osc.org/event/astronaut-ocean-to-orbit-3d-90/
LOCATION:Digital Adventure Theater – Level 2
CATEGORIES:Theater Schedule
ATTACH;FMTTYPE=image/jpeg:https://www.osc.org/wp-content/uploads/2026/01/Astronaut-Ocean-to-Orbit_1920x1080.jpg
GEO:28.57228;-81.368341
END:VEVENT
BEGIN:VEVENT
DTSTART;TZID=America/New_York:20260421T141500
DTEND;TZID=America/New_York:20260421T144000
DTSTAMP:20260422T052753
CREATED:20260326T150808Z
LAST-MODIFIED:20260331T165450Z
UID:10008515-1776780900-1776782400@www.osc.org
SUMMARY:Wild Rescue 3D
DESCRIPTION:From the arrival of a fragile bobcat to the rehabilitation of a young fox\, explore hospital admissions\, groundbreaking medical treatments\, and the delicate balance of wildlife care.
URL:https://www.osc.org/event/wild-rescue-3d-16/
LOCATION:Digital Adventure Theater – Level 2
CATEGORIES:Theater Schedule
ATTACH;FMTTYPE=image/jpeg:https://www.osc.org/wp-content/uploads/2026/03/Wild-Rescue-Movie13_1920x1080.jpg
GEO:28.57228;-81.368341
END:VEVENT
BEGIN:VEVENT
DTSTART;TZID=America/New_York:20260421T130000
DTEND;TZID=America/New_York:20260421T132500
DTSTAMP:20260422T052753
CREATED:20260326T150808Z
LAST-MODIFIED:20260326T154029Z
UID:10008514-1776776400-1776777900@www.osc.org
SUMMARY:Superhuman Body: World of Medical Marvels
DESCRIPTION:Explore the inner workings of the human body and the incredible breakthroughs in science that are allowing us to live longer\, healthier lives.
URL:https://www.osc.org/event/superhuman-body-world-of-medical-marvels-72/
LOCATION:Digital Adventure Theater – Level 2
CATEGORIES:Theater Schedule
ATTACH;FMTTYPE=image/jpeg:https://www.osc.org/wp-content/uploads/2025/08/Superhuman-Body-World-of-Medical-Marvels-Film_1920x1080.jpg
GEO:28.57228;-81.368341
END:VEVENT
BEGIN:VEVENT
DTSTART;TZID=America/New_York:20260421T121500
DTEND;TZID=America/New_York:20260421T124000
DTSTAMP:20260422T052753
CREATED:20260326T150808Z
LAST-MODIFIED:20260326T154029Z
UID:10008513-1776773700-1776775200@www.osc.org
SUMMARY:Astronaut: Ocean to Orbit
DESCRIPTION:Join astronaut Chris Cassidy as he trains in his space suit alongside a full-sized mock-up the International Space Station in a giant underwater facility in Houston. Dive to the sea floor with NASA astronaut Jeanette Epps as she lives underwater with fellow astronauts for ten continuous days at Aquarius Reef Base in Florida. Find out what it takes to live and work in space.
URL:https://www.osc.org/event/astronaut-ocean-to-orbit-42/
LOCATION:Digital Adventure Theater – Level 2
CATEGORIES:Theater Schedule
ATTACH;FMTTYPE=image/jpeg:https://www.osc.org/wp-content/uploads/2026/01/Astronaut-Ocean-to-Orbit_1920x1080.jpg
GEO:28.57228;-81.368341
END:VEVENT
BEGIN:VEVENT
DTSTART;TZID=America/New_York:20260421T113000
DTEND;TZID=America/New_York:20260421T115500
DTSTAMP:20260422T052753
CREATED:20260326T150738Z
LAST-MODIFIED:20260331T165450Z
UID:10008512-1776771000-1776772500@www.osc.org
SUMMARY:Wild Rescue
DESCRIPTION:From the arrival of a fragile bobcat to the rehabilitation of a young fox\, explore hospital admissions\, groundbreaking medical treatments\, and the delicate balance of wildlife care.
URL:https://www.osc.org/event/wild-rescue-14/
LOCATION:Digital Adventure Theater – Level 2
CATEGORIES:Theater Schedule
ATTACH;FMTTYPE=image/jpeg:https://www.osc.org/wp-content/uploads/2026/03/Wild-Rescue-Movie13_1920x1080.jpg
GEO:28.57228;-81.368341
END:VEVENT
BEGIN:VEVENT
DTSTART;TZID=America/New_York:20260420T151500
DTEND;TZID=America/New_York:20260420T154000
DTSTAMP:20260422T052753
CREATED:20260326T153959Z
LAST-MODIFIED:20260326T153959Z
UID:10008560-1776698100-1776699600@www.osc.org
SUMMARY:Astronaut: Ocean to Orbit 3D
DESCRIPTION:Join astronaut Chris Cassidy as he trains in his space suit alongside a full-sized mock-up the International Space Station in a giant underwater facility in Houston. Dive to the sea floor with NASA astronaut Jeanette Epps as she lives underwater with fellow astronauts for ten continuous days at Aquarius Reef Base in Florida. Find out what it takes to live and work in space.
URL:https://www.osc.org/event/astronaut-ocean-to-orbit-3d-89/
LOCATION:Digital Adventure Theater – Level 2
CATEGORIES:Theater Schedule
ATTACH;FMTTYPE=image/jpeg:https://www.osc.org/wp-content/uploads/2026/01/Astronaut-Ocean-to-Orbit_1920x1080.jpg
GEO:28.57228;-81.368341
END:VEVENT
BEGIN:VEVENT
DTSTART;TZID=America/New_York:20260420T141500
DTEND;TZID=America/New_York:20260420T144000
DTSTAMP:20260422T052753
CREATED:20260326T150738Z
LAST-MODIFIED:20260331T165450Z
UID:10008510-1776694500-1776696000@www.osc.org
SUMMARY:Wild Rescue 3D
DESCRIPTION:From the arrival of a fragile bobcat to the rehabilitation of a young fox\, explore hospital admissions\, groundbreaking medical treatments\, and the delicate balance of wildlife care.
URL:https://www.osc.org/event/wild-rescue-3d-15/
LOCATION:Digital Adventure Theater – Level 2
CATEGORIES:Theater Schedule
ATTACH;FMTTYPE=image/jpeg:https://www.osc.org/wp-content/uploads/2026/03/Wild-Rescue-Movie13_1920x1080.jpg
GEO:28.57228;-81.368341
END:VEVENT
BEGIN:VEVENT
DTSTART;TZID=America/New_York:20260420T130000
DTEND;TZID=America/New_York:20260420T132500
DTSTAMP:20260422T052753
CREATED:20260326T150738Z
LAST-MODIFIED:20260326T153959Z
UID:10008509-1776690000-1776691500@www.osc.org
SUMMARY:Superhuman Body: World of Medical Marvels
DESCRIPTION:Explore the inner workings of the human body and the incredible breakthroughs in science that are allowing us to live longer\, healthier lives.
URL:https://www.osc.org/event/superhuman-body-world-of-medical-marvels-71/
LOCATION:Digital Adventure Theater – Level 2
CATEGORIES:Theater Schedule
ATTACH;FMTTYPE=image/jpeg:https://www.osc.org/wp-content/uploads/2025/08/Superhuman-Body-World-of-Medical-Marvels-Film_1920x1080.jpg
GEO:28.57228;-81.368341
END:VEVENT
BEGIN:VEVENT
DTSTART;TZID=America/New_York:20260420T121500
DTEND;TZID=America/New_York:20260420T124000
DTSTAMP:20260422T052753
CREATED:20260326T150708Z
LAST-MODIFIED:20260326T153929Z
UID:10008508-1776687300-1776688800@www.osc.org
SUMMARY:Astronaut: Ocean to Orbit
DESCRIPTION:Join astronaut Chris Cassidy as he trains in his space suit alongside a full-sized mock-up the International Space Station in a giant underwater facility in Houston. Dive to the sea floor with NASA astronaut Jeanette Epps as she lives underwater with fellow astronauts for ten continuous days at Aquarius Reef Base in Florida. Find out what it takes to live and work in space.
URL:https://www.osc.org/event/astronaut-ocean-to-orbit-41/
LOCATION:Digital Adventure Theater – Level 2
CATEGORIES:Theater Schedule
ATTACH;FMTTYPE=image/jpeg:https://www.osc.org/wp-content/uploads/2026/01/Astronaut-Ocean-to-Orbit_1920x1080.jpg
GEO:28.57228;-81.368341
END:VEVENT
BEGIN:VEVENT
DTSTART;TZID=America/New_York:20260420T113000
DTEND;TZID=America/New_York:20260420T115500
DTSTAMP:20260422T052753
CREATED:20260326T150708Z
LAST-MODIFIED:20260331T165450Z
UID:10008507-1776684600-1776686100@www.osc.org
SUMMARY:Wild Rescue
DESCRIPTION:From the arrival of a fragile bobcat to the rehabilitation of a young fox\, explore hospital admissions\, groundbreaking medical treatments\, and the delicate balance of wildlife care.
URL:https://www.osc.org/event/wild-rescue-13/
LOCATION:Digital Adventure Theater – Level 2
CATEGORIES:Theater Schedule
ATTACH;FMTTYPE=image/jpeg:https://www.osc.org/wp-content/uploads/2026/03/Wild-Rescue-Movie13_1920x1080.jpg
GEO:28.57228;-81.368341
END:VEVENT
BEGIN:VEVENT
DTSTART;TZID=America/New_York:20260419T161500
DTEND;TZID=America/New_York:20260419T164000
DTSTAMP:20260422T052753
CREATED:20260419T131011Z
LAST-MODIFIED:20260419T131011Z
UID:10008832-1776615300-1776616800@www.osc.org
SUMMARY:Wild Rescue 3D
DESCRIPTION:From the arrival of a fragile bobcat to the rehabilitation of a young fox\, explore hospital admissions\, groundbreaking medical treatments\, and the delicate balance of wildlife care.
URL:https://www.osc.org/event/wild-rescue-3d-24/
LOCATION:Digital Adventure Theater – Level 2
CATEGORIES:Theater Schedule
ATTACH;FMTTYPE=image/jpeg:https://www.osc.org/wp-content/uploads/2026/03/Wild-Rescue-Movie13_1920x1080.jpg
GEO:28.57228;-81.368341
END:VEVENT
BEGIN:VEVENT
DTSTART;TZID=America/New_York:20260419T151500
DTEND;TZID=America/New_York:20260419T154000
DTSTAMP:20260422T052753
CREATED:20260419T130940Z
LAST-MODIFIED:20260419T130940Z
UID:10008831-1776611700-1776613200@www.osc.org
SUMMARY:Astronaut: Ocean to Orbit 3D
DESCRIPTION:Join astronaut Chris Cassidy as he trains in his space suit alongside a full-sized mock-up the International Space Station in a giant underwater facility in Houston. Dive to the sea floor with NASA astronaut Jeanette Epps as she lives underwater with fellow astronauts for ten continuous days at Aquarius Reef Base in Florida. Find out what it takes to live and work in space.
URL:https://www.osc.org/event/astronaut-ocean-to-orbit-3d-24/
LOCATION:Digital Adventure Theater – Level 2
CATEGORIES:Theater Schedule
ATTACH;FMTTYPE=image/jpeg:https://www.osc.org/wp-content/uploads/2026/01/Astronaut-Ocean-to-Orbit_1920x1080.jpg
GEO:28.57228;-81.368341
END:VEVENT
BEGIN:VEVENT
DTSTART;TZID=America/New_York:20260419T140000
DTEND;TZID=America/New_York:20260419T143000
DTSTAMP:20260422T052753
CREATED:20260419T131113Z
LAST-MODIFIED:20260419T131113Z
UID:10008833-1776607200-1776609000@www.osc.org
SUMMARY:KABOOM
DESCRIPTION:Explore the science of combustion in this explosive live show featuring colorful chemistry! Recommended for ages 6+
URL:https://www.osc.org/event/kaboom-3/
LOCATION:Digital Adventure Theater – Level 2
CATEGORIES:Science Live Schedule
ATTACH;FMTTYPE=image/jpeg:https://www.osc.org/wp-content/uploads/2025/09/Untitled-design.jpg
GEO:28.57228;-81.368341
END:VEVENT
BEGIN:VEVENT
DTSTART;TZID=America/New_York:20260419T130000
DTEND;TZID=America/New_York:20260419T133000
DTSTAMP:20260422T052753
CREATED:20260328T173612Z
LAST-MODIFIED:20260328T173612Z
UID:10008711-1776603600-1776605400@www.osc.org
SUMMARY:KABOOM
DESCRIPTION:Explore the science of combustion in this explosive live show featuring colorful chemistry! Recommended for ages 6+
URL:https://www.osc.org/event/kaboom-33/
LOCATION:Digital Adventure Theater – Level 2
CATEGORIES:Science Live Schedule
ATTACH;FMTTYPE=image/jpeg:https://www.osc.org/wp-content/uploads/2025/09/Untitled-design.jpg
GEO:28.57228;-81.368341
END:VEVENT
BEGIN:VEVENT
DTSTART;TZID=America/New_York:20260418T161500
DTEND;TZID=America/New_York:20260418T164000
DTSTAMP:20260422T052753
CREATED:20260326T150708Z
LAST-MODIFIED:20260331T165450Z
UID:10008506-1776528900-1776530400@www.osc.org
SUMMARY:Wild Rescue 3D
DESCRIPTION:From the arrival of a fragile bobcat to the rehabilitation of a young fox\, explore hospital admissions\, groundbreaking medical treatments\, and the delicate balance of wildlife care.
URL:https://www.osc.org/event/wild-rescue-3d-14/
LOCATION:Digital Adventure Theater – Level 2
CATEGORIES:Theater Schedule
ATTACH;FMTTYPE=image/jpeg:https://www.osc.org/wp-content/uploads/2026/03/Wild-Rescue-Movie13_1920x1080.jpg
GEO:28.57228;-81.368341
END:VEVENT
BEGIN:VEVENT
DTSTART;TZID=America/New_York:20260418T151500
DTEND;TZID=America/New_York:20260418T154000
DTSTAMP:20260422T052753
CREATED:20260326T153929Z
LAST-MODIFIED:20260326T153929Z
UID:10008559-1776525300-1776526800@www.osc.org
SUMMARY:Astronaut: Ocean to Orbit 3D
DESCRIPTION:Join astronaut Chris Cassidy as he trains in his space suit alongside a full-sized mock-up the International Space Station in a giant underwater facility in Houston. Dive to the sea floor with NASA astronaut Jeanette Epps as she lives underwater with fellow astronauts for ten continuous days at Aquarius Reef Base in Florida. Find out what it takes to live and work in space.
URL:https://www.osc.org/event/astronaut-ocean-to-orbit-3d-88/
LOCATION:Digital Adventure Theater – Level 2
CATEGORIES:Theater Schedule
ATTACH;FMTTYPE=image/jpeg:https://www.osc.org/wp-content/uploads/2026/01/Astronaut-Ocean-to-Orbit_1920x1080.jpg
GEO:28.57228;-81.368341
END:VEVENT
BEGIN:VEVENT
DTSTART;TZID=America/New_York:20260418T140000
DTEND;TZID=America/New_York:20260418T143000
DTSTAMP:20260422T052753
CREATED:20260328T173541Z
LAST-MODIFIED:20260328T173541Z
UID:10008703-1776520800-1776522600@www.osc.org
SUMMARY:Powers of Pokémon
DESCRIPTION:Who’s that Pokémon?? Dive into the science behind some of your favorite Pokémon powers with live demonstrations!
URL:https://www.osc.org/event/powers-of-pokemon-34/
LOCATION:Digital Adventure Theater – Level 2
CATEGORIES:Science Live Schedule
ATTACH;FMTTYPE=image/jpeg:https://www.osc.org/wp-content/uploads/2025/05/Powers-of-Pokemon_1080x608.jpg
GEO:28.57228;-81.368341
END:VEVENT
BEGIN:VEVENT
DTSTART;TZID=America/New_York:20260418T130000
DTEND;TZID=America/New_York:20260418T133000
DTSTAMP:20260422T052753
CREATED:20260328T162016Z
LAST-MODIFIED:20260328T173512Z
UID:10008695-1776517200-1776519000@www.osc.org
SUMMARY:KABOOM
DESCRIPTION:Explore the science of combustion in this explosive live show featuring colorful chemistry! Recommended for ages 6+
URL:https://www.osc.org/event/kaboom-32/
LOCATION:Digital Adventure Theater – Level 2
CATEGORIES:Science Live Schedule
ATTACH;FMTTYPE=image/jpeg:https://www.osc.org/wp-content/uploads/2025/09/Untitled-design.jpg
GEO:28.57228;-81.368341
END:VEVENT
BEGIN:VEVENT
DTSTART;TZID=America/New_York:20260418T113000
DTEND;TZID=America/New_York:20260418T115500
DTSTAMP:20260422T052753
CREATED:20260326T150638Z
LAST-MODIFIED:20260331T165420Z
UID:10008504-1776511800-1776513300@www.osc.org
SUMMARY:Wild Rescue
DESCRIPTION:From the arrival of a fragile bobcat to the rehabilitation of a young fox\, explore hospital admissions\, groundbreaking medical treatments\, and the delicate balance of wildlife care.
URL:https://www.osc.org/event/wild-rescue-12/
LOCATION:Digital Adventure Theater – Level 2
CATEGORIES:Theater Schedule
ATTACH;FMTTYPE=image/jpeg:https://www.osc.org/wp-content/uploads/2026/03/Wild-Rescue-Movie13_1920x1080.jpg
GEO:28.57228;-81.368341
END:VEVENT
BEGIN:VEVENT
DTSTART;TZID=America/New_York:20260417T151500
DTEND;TZID=America/New_York:20260417T154000
DTSTAMP:20260422T052753
CREATED:20260326T153859Z
LAST-MODIFIED:20260326T153859Z
UID:10008558-1776438900-1776440400@www.osc.org
SUMMARY:Astronaut: Ocean to Orbit 3D
DESCRIPTION:Join astronaut Chris Cassidy as he trains in his space suit alongside a full-sized mock-up the International Space Station in a giant underwater facility in Houston. Dive to the sea floor with NASA astronaut Jeanette Epps as she lives underwater with fellow astronauts for ten continuous days at Aquarius Reef Base in Florida. Find out what it takes to live and work in space.
URL:https://www.osc.org/event/astronaut-ocean-to-orbit-3d-87/
LOCATION:Digital Adventure Theater – Level 2
CATEGORIES:Theater Schedule
ATTACH;FMTTYPE=image/jpeg:https://www.osc.org/wp-content/uploads/2026/01/Astronaut-Ocean-to-Orbit_1920x1080.jpg
GEO:28.57228;-81.368341
END:VEVENT
BEGIN:VEVENT
DTSTART;TZID=America/New_York:20260417T141500
DTEND;TZID=America/New_York:20260417T144000
DTSTAMP:20260422T052753
CREATED:20260326T150638Z
LAST-MODIFIED:20260331T165420Z
UID:10008502-1776435300-1776436800@www.osc.org
SUMMARY:Wild Rescue 3D
DESCRIPTION:From the arrival of a fragile bobcat to the rehabilitation of a young fox\, explore hospital admissions\, groundbreaking medical treatments\, and the delicate balance of wildlife care.
URL:https://www.osc.org/event/wild-rescue-3d-13/
LOCATION:Digital Adventure Theater – Level 2
CATEGORIES:Theater Schedule
ATTACH;FMTTYPE=image/jpeg:https://www.osc.org/wp-content/uploads/2026/03/Wild-Rescue-Movie13_1920x1080.jpg
GEO:28.57228;-81.368341
END:VEVENT
BEGIN:VEVENT
DTSTART;TZID=America/New_York:20260417T130000
DTEND;TZID=America/New_York:20260417T132500
DTSTAMP:20260422T052753
CREATED:20260326T150638Z
LAST-MODIFIED:20260326T153859Z
UID:10008501-1776430800-1776432300@www.osc.org
SUMMARY:Superhuman Body: World of Medical Marvels
DESCRIPTION:Explore the inner workings of the human body and the incredible breakthroughs in science that are allowing us to live longer\, healthier lives.
URL:https://www.osc.org/event/superhuman-body-world-of-medical-marvels-70/
LOCATION:Digital Adventure Theater – Level 2
CATEGORIES:Theater Schedule
ATTACH;FMTTYPE=image/jpeg:https://www.osc.org/wp-content/uploads/2025/08/Superhuman-Body-World-of-Medical-Marvels-Film_1920x1080.jpg
GEO:28.57228;-81.368341
END:VEVENT
BEGIN:VEVENT
DTSTART;TZID=America/New_York:20260417T121500
DTEND;TZID=America/New_York:20260417T124000
DTSTAMP:20260422T052753
CREATED:20260326T150608Z
LAST-MODIFIED:20260326T153829Z
UID:10008500-1776428100-1776429600@www.osc.org
SUMMARY:Astronaut: Ocean to Orbit
DESCRIPTION:Join astronaut Chris Cassidy as he trains in his space suit alongside a full-sized mock-up the International Space Station in a giant underwater facility in Houston. Dive to the sea floor with NASA astronaut Jeanette Epps as she lives underwater with fellow astronauts for ten continuous days at Aquarius Reef Base in Florida. Find out what it takes to live and work in space.
URL:https://www.osc.org/event/astronaut-ocean-to-orbit-40/
LOCATION:Digital Adventure Theater – Level 2
CATEGORIES:Theater Schedule
ATTACH;FMTTYPE=image/jpeg:https://www.osc.org/wp-content/uploads/2026/01/Astronaut-Ocean-to-Orbit_1920x1080.jpg
GEO:28.57228;-81.368341
END:VEVENT
BEGIN:VEVENT
DTSTART;TZID=America/New_York:20260417T113000
DTEND;TZID=America/New_York:20260417T115500
DTSTAMP:20260422T052753
CREATED:20260326T150608Z
LAST-MODIFIED:20260331T165420Z
UID:10008499-1776425400-1776426900@www.osc.org
SUMMARY:Wild Rescue
DESCRIPTION:From the arrival of a fragile bobcat to the rehabilitation of a young fox\, explore hospital admissions\, groundbreaking medical treatments\, and the delicate balance of wildlife care.
URL:https://www.osc.org/event/wild-rescue-11/
LOCATION:Digital Adventure Theater – Level 2
CATEGORIES:Theater Schedule
ATTACH;FMTTYPE=image/jpeg:https://www.osc.org/wp-content/uploads/2026/03/Wild-Rescue-Movie13_1920x1080.jpg
GEO:28.57228;-81.368341
END:VEVENT
BEGIN:VEVENT
DTSTART;TZID=America/New_York:20260416T151500
DTEND;TZID=America/New_York:20260416T154000
DTSTAMP:20260422T052753
CREATED:20260326T153829Z
LAST-MODIFIED:20260326T153829Z
UID:10008557-1776352500-1776354000@www.osc.org
SUMMARY:Astronaut: Ocean to Orbit 3D
DESCRIPTION:Join astronaut Chris Cassidy as he trains in his space suit alongside a full-sized mock-up the International Space Station in a giant underwater facility in Houston. Dive to the sea floor with NASA astronaut Jeanette Epps as she lives underwater with fellow astronauts for ten continuous days at Aquarius Reef Base in Florida. Find out what it takes to live and work in space.
URL:https://www.osc.org/event/astronaut-ocean-to-orbit-3d-86/
LOCATION:Digital Adventure Theater – Level 2
CATEGORIES:Theater Schedule
ATTACH;FMTTYPE=image/jpeg:https://www.osc.org/wp-content/uploads/2026/01/Astronaut-Ocean-to-Orbit_1920x1080.jpg
GEO:28.57228;-81.368341
END:VEVENT
BEGIN:VEVENT
DTSTART;TZID=America/New_York:20260416T141500
DTEND;TZID=America/New_York:20260416T144000
DTSTAMP:20260422T052753
CREATED:20260326T150607Z
LAST-MODIFIED:20260331T165420Z
UID:10008497-1776348900-1776350400@www.osc.org
SUMMARY:Wild Rescue 3D
DESCRIPTION:From the arrival of a fragile bobcat to the rehabilitation of a young fox\, explore hospital admissions\, groundbreaking medical treatments\, and the delicate balance of wildlife care.
URL:https://www.osc.org/event/wild-rescue-3d-12/
LOCATION:Digital Adventure Theater – Level 2
CATEGORIES:Theater Schedule
ATTACH;FMTTYPE=image/jpeg:https://www.osc.org/wp-content/uploads/2026/03/Wild-Rescue-Movie13_1920x1080.jpg
GEO:28.57228;-81.368341
END:VEVENT
BEGIN:VEVENT
DTSTART;TZID=America/New_York:20260416T130000
DTEND;TZID=America/New_York:20260416T132500
DTSTAMP:20260422T052753
CREATED:20260326T150538Z
LAST-MODIFIED:20260326T153759Z
UID:10008496-1776344400-1776345900@www.osc.org
SUMMARY:Superhuman Body: World of Medical Marvels
DESCRIPTION:Explore the inner workings of the human body and the incredible breakthroughs in science that are allowing us to live longer\, healthier lives.
URL:https://www.osc.org/event/superhuman-body-world-of-medical-marvels-69/
LOCATION:Digital Adventure Theater – Level 2
CATEGORIES:Theater Schedule
ATTACH;FMTTYPE=image/jpeg:https://www.osc.org/wp-content/uploads/2025/08/Superhuman-Body-World-of-Medical-Marvels-Film_1920x1080.jpg
GEO:28.57228;-81.368341
END:VEVENT
BEGIN:VEVENT
DTSTART;TZID=America/New_York:20260416T121500
DTEND;TZID=America/New_York:20260416T124000
DTSTAMP:20260422T052753
CREATED:20260326T150538Z
LAST-MODIFIED:20260326T153759Z
UID:10008495-1776341700-1776343200@www.osc.org
SUMMARY:Astronaut: Ocean to Orbit
DESCRIPTION:Join astronaut Chris Cassidy as he trains in his space suit alongside a full-sized mock-up the International Space Station in a giant underwater facility in Houston. Dive to the sea floor with NASA astronaut Jeanette Epps as she lives underwater with fellow astronauts for ten continuous days at Aquarius Reef Base in Florida. Find out what it takes to live and work in space.
URL:https://www.osc.org/event/astronaut-ocean-to-orbit-39/
LOCATION:Digital Adventure Theater – Level 2
CATEGORIES:Theater Schedule
ATTACH;FMTTYPE=image/jpeg:https://www.osc.org/wp-content/uploads/2026/01/Astronaut-Ocean-to-Orbit_1920x1080.jpg
GEO:28.57228;-81.368341
END:VEVENT
BEGIN:VEVENT
DTSTART;TZID=America/New_York:20260416T113000
DTEND;TZID=America/New_York:20260416T115500
DTSTAMP:20260422T052753
CREATED:20260326T150538Z
LAST-MODIFIED:20260331T165420Z
UID:10008494-1776339000-1776340500@www.osc.org
SUMMARY:Wild Rescue
DESCRIPTION:From the arrival of a fragile bobcat to the rehabilitation of a young fox\, explore hospital admissions\, groundbreaking medical treatments\, and the delicate balance of wildlife care.
URL:https://www.osc.org/event/wild-rescue-10/
LOCATION:Digital Adventure Theater – Level 2
CATEGORIES:Theater Schedule
ATTACH;FMTTYPE=image/jpeg:https://www.osc.org/wp-content/uploads/2026/03/Wild-Rescue-Movie13_1920x1080.jpg
GEO:28.57228;-81.368341
END:VEVENT
BEGIN:VEVENT
DTSTART;TZID=America/New_York:20260414T151500
DTEND;TZID=America/New_York:20260414T154000
DTSTAMP:20260422T052753
CREATED:20260326T153759Z
LAST-MODIFIED:20260326T153759Z
UID:10008556-1776179700-1776181200@www.osc.org
SUMMARY:Astronaut: Ocean to Orbit 3D
DESCRIPTION:Join astronaut Chris Cassidy as he trains in his space suit alongside a full-sized mock-up the International Space Station in a giant underwater facility in Houston. Dive to the sea floor with NASA astronaut Jeanette Epps as she lives underwater with fellow astronauts for ten continuous days at Aquarius Reef Base in Florida. Find out what it takes to live and work in space.
URL:https://www.osc.org/event/astronaut-ocean-to-orbit-3d-85/
LOCATION:Digital Adventure Theater – Level 2
CATEGORIES:Theater Schedule
ATTACH;FMTTYPE=image/jpeg:https://www.osc.org/wp-content/uploads/2026/01/Astronaut-Ocean-to-Orbit_1920x1080.jpg
GEO:28.57228;-81.368341
END:VEVENT
END:VCALENDAR