BEGIN:VCALENDAR
VERSION:2.0
PRODID:-//Orlando Science Center - ECPv6.15.20//NONSGML v1.0//EN
CALSCALE:GREGORIAN
METHOD:PUBLISH
X-ORIGINAL-URL:https://www.osc.org
X-WR-CALDESC:Events for Orlando Science Center
REFRESH-INTERVAL;VALUE=DURATION:PT1H
X-Robots-Tag:noindex
X-PUBLISHED-TTL:PT1H
BEGIN:VTIMEZONE
TZID:America/New_York
BEGIN:DAYLIGHT
TZOFFSETFROM:-0500
TZOFFSETTO:-0400
TZNAME:EDT
DTSTART:20250309T070000
END:DAYLIGHT
BEGIN:STANDARD
TZOFFSETFROM:-0400
TZOFFSETTO:-0500
TZNAME:EST
DTSTART:20251102T060000
END:STANDARD
BEGIN:DAYLIGHT
TZOFFSETFROM:-0500
TZOFFSETTO:-0400
TZNAME:EDT
DTSTART:20260308T070000
END:DAYLIGHT
BEGIN:STANDARD
TZOFFSETFROM:-0400
TZOFFSETTO:-0500
TZNAME:EST
DTSTART:20261101T060000
END:STANDARD
BEGIN:DAYLIGHT
TZOFFSETFROM:-0500
TZOFFSETTO:-0400
TZNAME:EDT
DTSTART:20270314T070000
END:DAYLIGHT
BEGIN:STANDARD
TZOFFSETFROM:-0400
TZOFFSETTO:-0500
TZNAME:EST
DTSTART:20271107T060000
END:STANDARD
END:VTIMEZONE
BEGIN:VEVENT
DTSTART;TZID=America/New_York:20260326T150000
DTEND;TZID=America/New_York:20260326T153000
DTSTAMP:20260423T100845
CREATED:20260307T162959Z
LAST-MODIFIED:20260307T162959Z
UID:10008257-1774537200-1774539000@www.osc.org
SUMMARY:Mindboggling Science
DESCRIPTION:Is it magic or science? Either way\, your mind is sure to be boggled in this ever-changing stage show!
URL:https://www.osc.org/event/mindboggling-science-80/
LOCATION:Discovery Stage – Level 4
CATEGORIES:Science Live Schedule
ATTACH;FMTTYPE=image/jpeg:https://www.osc.org/wp-content/uploads/2025/05/Mindboggling-Science_1080x608.jpg
END:VEVENT
BEGIN:VEVENT
DTSTART;TZID=America/New_York:20260326T133000
DTEND;TZID=America/New_York:20260326T140000
DTSTAMP:20260423T100845
CREATED:20260307T162930Z
LAST-MODIFIED:20260307T162930Z
UID:10008256-1774531800-1774533600@www.osc.org
SUMMARY:Mummies Unwrapped
DESCRIPTION:Join our royal embalmer on a journey through the mummification processes used in Ancient Egypt! In this show\, we will learn about how chemistry was used to preserve mummies for centuries to come. Recommended for ages 6+
URL:https://www.osc.org/event/mummies-unwrapped-54/
LOCATION:Discovery Stage – Level 4
CATEGORIES:Science Live Schedule
ATTACH;FMTTYPE=image/jpeg:https://www.osc.org/wp-content/uploads/2026/02/Image-20-scaled-e1770302411699-A0jPcU.jpg
END:VEVENT
BEGIN:VEVENT
DTSTART;TZID=America/New_York:20260326T120000
DTEND;TZID=America/New_York:20260326T150000
DTSTAMP:20260423T100845
CREATED:20260307T162929Z
LAST-MODIFIED:20260307T162929Z
UID:10008254-1774526400-1774537200@www.osc.org
SUMMARY:Self-guided Experiments: Engineering Experiments
DESCRIPTION:Learn about the engineering design process with this month’s engineering themed experiments!
URL:https://www.osc.org/event/self-guided-experiments-engineering-experiments-19/
LOCATION:Dr. Dare’s Lab – Level 4
CATEGORIES:Science Live Schedule
ATTACH;FMTTYPE=image/jpeg:https://www.osc.org/wp-content/uploads/2026/02/DDL7_1920x1080-XsvM9H.jpg
END:VEVENT
BEGIN:VEVENT
DTSTART;TZID=America/New_York:20260326T120000
DTEND;TZID=America/New_York:20260326T123000
DTSTAMP:20260423T100845
CREATED:20260307T162930Z
LAST-MODIFIED:20260307T162930Z
UID:10008255-1774526400-1774528200@www.osc.org
SUMMARY:Superpowered Science
DESCRIPTION:Uncover the secrets behind some of your favorite superpowers through the antics of a supervillain in training!
URL:https://www.osc.org/event/superpowered-science-74/
LOCATION:Discovery Stage – Level 4
CATEGORIES:Science Live Schedule
ATTACH;FMTTYPE=image/jpeg:https://www.osc.org/wp-content/uploads/2025/05/Superpowered-Science_1080x608.jpg
END:VEVENT
BEGIN:VEVENT
DTSTART;TZID=America/New_York:20260326T100000
DTEND;TZID=America/New_York:20260326T170000
DTSTAMP:20260423T100845
CREATED:20260307T162929Z
LAST-MODIFIED:20260307T162929Z
UID:10008253-1774519200-1774544400@www.osc.org
SUMMARY:Self-guided Maker Activities
DESCRIPTION:Go through the step-by-step process used to make real movies.
URL:https://www.osc.org/event/self-guided-maker-activities-43/
LOCATION:The Hive – Level 3
CATEGORIES:Science Live Schedule
ATTACH;FMTTYPE=image/jpeg:https://www.osc.org/wp-content/uploads/2020/04/diy-stop-motion-animation-movie-using-tablet.jpg
GEO:28.57228;-81.368341
END:VEVENT
BEGIN:VEVENT
DTSTART;TZID=America/New_York:20260324T150000
DTEND;TZID=America/New_York:20260324T153000
DTSTAMP:20260423T100845
CREATED:20260307T162929Z
LAST-MODIFIED:20260307T162929Z
UID:10008252-1774364400-1774366200@www.osc.org
SUMMARY:Mindboggling Science
DESCRIPTION:Is it magic or science? Either way\, your mind is sure to be boggled in this ever-changing stage show!
URL:https://www.osc.org/event/mindboggling-science-77/
LOCATION:Discovery Stage – Level 4
CATEGORIES:Science Live Schedule
ATTACH;FMTTYPE=image/jpeg:https://www.osc.org/wp-content/uploads/2025/05/Mindboggling-Science_1080x608.jpg
END:VEVENT
BEGIN:VEVENT
DTSTART;TZID=America/New_York:20260324T133000
DTEND;TZID=America/New_York:20260324T140000
DTSTAMP:20260423T100845
CREATED:20260307T162900Z
LAST-MODIFIED:20260307T162900Z
UID:10008251-1774359000-1774360800@www.osc.org
SUMMARY:Mummies Unwrapped
DESCRIPTION:Join our royal embalmer on a journey through the mummification processes used in Ancient Egypt! In this show\, we will learn about how chemistry was used to preserve mummies for centuries to come. Recommended for ages 6+
URL:https://www.osc.org/event/mummies-unwrapped-53/
LOCATION:Discovery Stage – Level 4
CATEGORIES:Science Live Schedule
ATTACH;FMTTYPE=image/jpeg:https://www.osc.org/wp-content/uploads/2026/02/Image-20-scaled-e1770302411699-A0jPcU.jpg
END:VEVENT
BEGIN:VEVENT
DTSTART;TZID=America/New_York:20260324T120000
DTEND;TZID=America/New_York:20260324T150000
DTSTAMP:20260423T100845
CREATED:20260307T162859Z
LAST-MODIFIED:20260307T162859Z
UID:10008249-1774353600-1774364400@www.osc.org
SUMMARY:Self-guided Experiments: Engineering Experiments
DESCRIPTION:Learn about the engineering design process with this month’s engineering themed experiments!
URL:https://www.osc.org/event/self-guided-experiments-engineering-experiments-18/
LOCATION:Dr. Dare’s Lab – Level 4
CATEGORIES:Science Live Schedule
ATTACH;FMTTYPE=image/jpeg:https://www.osc.org/wp-content/uploads/2026/02/DDL7_1920x1080-XsvM9H.jpg
END:VEVENT
BEGIN:VEVENT
DTSTART;TZID=America/New_York:20260324T120000
DTEND;TZID=America/New_York:20260324T123000
DTSTAMP:20260423T100845
CREATED:20260307T162900Z
LAST-MODIFIED:20260307T162900Z
UID:10008250-1774353600-1774355400@www.osc.org
SUMMARY:Superpowered Science
DESCRIPTION:Uncover the secrets behind some of your favorite superpowers through the antics of a supervillain in training!
URL:https://www.osc.org/event/superpowered-science-73/
LOCATION:Discovery Stage – Level 4
CATEGORIES:Science Live Schedule
ATTACH;FMTTYPE=image/jpeg:https://www.osc.org/wp-content/uploads/2025/05/Superpowered-Science_1080x608.jpg
END:VEVENT
BEGIN:VEVENT
DTSTART;TZID=America/New_York:20260324T100000
DTEND;TZID=America/New_York:20260324T170000
DTSTAMP:20260423T100845
CREATED:20260307T162859Z
LAST-MODIFIED:20260307T162859Z
UID:10008248-1774346400-1774371600@www.osc.org
SUMMARY:Self-guided Maker Activities
DESCRIPTION:Go through the step-by-step process used to make real movies.
URL:https://www.osc.org/event/self-guided-maker-activities-42/
LOCATION:The Hive – Level 3
CATEGORIES:Science Live Schedule
ATTACH;FMTTYPE=image/jpeg:https://www.osc.org/wp-content/uploads/2020/04/diy-stop-motion-animation-movie-using-tablet.jpg
GEO:28.57228;-81.368341
END:VEVENT
END:VCALENDAR