BEGIN:VCALENDAR
VERSION:2.0
PRODID:-//Orlando Science Center - ECPv6.15.20//NONSGML v1.0//EN
CALSCALE:GREGORIAN
METHOD:PUBLISH
X-WR-CALNAME:Orlando Science Center
X-ORIGINAL-URL:https://www.osc.org
X-WR-CALDESC:Events for Orlando Science Center
REFRESH-INTERVAL;VALUE=DURATION:PT1H
X-Robots-Tag:noindex
X-PUBLISHED-TTL:PT1H
BEGIN:VTIMEZONE
TZID:America/New_York
BEGIN:DAYLIGHT
TZOFFSETFROM:-0500
TZOFFSETTO:-0400
TZNAME:EDT
DTSTART:20250309T070000
END:DAYLIGHT
BEGIN:STANDARD
TZOFFSETFROM:-0400
TZOFFSETTO:-0500
TZNAME:EST
DTSTART:20251102T060000
END:STANDARD
BEGIN:DAYLIGHT
TZOFFSETFROM:-0500
TZOFFSETTO:-0400
TZNAME:EDT
DTSTART:20260308T070000
END:DAYLIGHT
BEGIN:STANDARD
TZOFFSETFROM:-0400
TZOFFSETTO:-0500
TZNAME:EST
DTSTART:20261101T060000
END:STANDARD
BEGIN:DAYLIGHT
TZOFFSETFROM:-0500
TZOFFSETTO:-0400
TZNAME:EDT
DTSTART:20270314T070000
END:DAYLIGHT
BEGIN:STANDARD
TZOFFSETFROM:-0400
TZOFFSETTO:-0500
TZNAME:EST
DTSTART:20271107T060000
END:STANDARD
END:VTIMEZONE
BEGIN:VEVENT
DTSTART;TZID=America/New_York:20260412T160000
DTEND;TZID=America/New_York:20260412T163000
DTSTAMP:20260423T100051
CREATED:20260328T161815Z
LAST-MODIFIED:20260328T173442Z
UID:10008691-1776009600-1776011400@www.osc.org
SUMMARY:Mummies Unwrapped
DESCRIPTION:Join our royal embalmer on a journey through the mummification processes used in Ancient Egypt! In this show\, we will learn about how chemistry was used to preserve mummies for centuries to come. Recommended for ages 6+
URL:https://www.osc.org/event/mummies-unwrapped-93/
LOCATION:Discovery Stage – Level 4
CATEGORIES:Science Live Schedule
ATTACH;FMTTYPE=image/jpeg:https://www.osc.org/wp-content/uploads/2026/02/Image-20-scaled-e1770302411699-A0jPcU.jpg
END:VEVENT
BEGIN:VEVENT
DTSTART;TZID=America/New_York:20260413T100000
DTEND;TZID=America/New_York:20260413T170000
DTSTAMP:20260423T100051
CREATED:20260329T132020Z
LAST-MODIFIED:20260331T145437Z
UID:10008802-1776074400-1776099600@www.osc.org
SUMMARY:Self-guided Maker Activities
DESCRIPTION:Utilize green screen technology to transport yourselves to any setting imaginable. Get hands-on with creativity as you design and craft your own props using your movie budget\, bringing your cinematic visions to life! For Makers 8+
URL:https://www.osc.org/event/self-guided-maker-activities-62/
LOCATION:The Hive – Level 3
CATEGORIES:Science Live Schedule
ATTACH;FMTTYPE=image/jpeg:https://www.osc.org/wp-content/uploads/2026/03/Untitled-design-3-3.jpg
GEO:28.57228;-81.368341
END:VEVENT
BEGIN:VEVENT
DTSTART;TZID=America/New_York:20260413T120000
DTEND;TZID=America/New_York:20260413T123000
DTSTAMP:20260423T100051
CREATED:20260328T155911Z
LAST-MODIFIED:20260328T175324Z
UID:10008605-1776081600-1776083400@www.osc.org
SUMMARY:Cool Science
DESCRIPTION:Learn about the science of extreme cold with liquid nitrogen demonstrations!
URL:https://www.osc.org/event/cool-science-19/
LOCATION:Discovery Stage – Level 4
CATEGORIES:Science Live Schedule
ATTACH;FMTTYPE=image/png:https://www.osc.org/wp-content/uploads/2025/06/Cool-Science.png
END:VEVENT
BEGIN:VEVENT
DTSTART;TZID=America/New_York:20260413T120000
DTEND;TZID=America/New_York:20260413T150000
DTSTAMP:20260423T100051
CREATED:20260328T175124Z
LAST-MODIFIED:20260328T175124Z
UID:10008782-1776081600-1776092400@www.osc.org
SUMMARY:Self-guided Experiments: Nature Experiments
DESCRIPTION:Investigate nature up close with wildlife and nature themed experiments.
URL:https://www.osc.org/event/self-guided-experiments-nature-experiments-20/
LOCATION:Dr. Dare’s Lab – Level 4
CATEGORIES:Science Live Schedule
ATTACH;FMTTYPE=image/png:https://www.osc.org/wp-content/uploads/2019/11/Dr.-Dares-Lab.png
END:VEVENT
BEGIN:VEVENT
DTSTART;TZID=America/New_York:20260413T133000
DTEND;TZID=America/New_York:20260413T140000
DTSTAMP:20260423T100051
CREATED:20260328T155911Z
LAST-MODIFIED:20260328T175324Z
UID:10008606-1776087000-1776088800@www.osc.org
SUMMARY:Mummies Unwrapped
DESCRIPTION:Join our royal embalmer on a journey through the mummification processes used in Ancient Egypt! In this show\, we will learn about how chemistry was used to preserve mummies for centuries to come. Recommended for ages 6+
URL:https://www.osc.org/event/mummies-unwrapped-75/
LOCATION:Discovery Stage – Level 4
CATEGORIES:Science Live Schedule
ATTACH;FMTTYPE=image/jpeg:https://www.osc.org/wp-content/uploads/2026/02/Image-20-scaled-e1770302411699-A0jPcU.jpg
END:VEVENT
BEGIN:VEVENT
DTSTART;TZID=America/New_York:20260413T150000
DTEND;TZID=America/New_York:20260413T153000
DTSTAMP:20260423T100051
CREATED:20260328T155911Z
LAST-MODIFIED:20260330T132827Z
UID:10008607-1776092400-1776094200@www.osc.org
SUMMARY:Superpowered Science
DESCRIPTION:Uncover the secrets behind some of your favorite superpowers through the antics of a supervillain in training!
URL:https://www.osc.org/event/superpowered-science-98/
LOCATION:Discovery Stage – Level 4
CATEGORIES:Science Live Schedule
ATTACH;FMTTYPE=image/jpeg:https://www.osc.org/wp-content/uploads/2025/05/Superpowered-Science_1080x608.jpg
END:VEVENT
BEGIN:VEVENT
DTSTART;TZID=America/New_York:20260414T100000
DTEND;TZID=America/New_York:20260414T170000
DTSTAMP:20260423T100051
CREATED:20260329T132020Z
LAST-MODIFIED:20260331T145437Z
UID:10008803-1776160800-1776186000@www.osc.org
SUMMARY:Self-guided Maker Activities
DESCRIPTION:Utilize green screen technology to transport yourselves to any setting imaginable. Get hands-on with creativity as you design and craft your own props using your movie budget\, bringing your cinematic visions to life! For Makers 8+
URL:https://www.osc.org/event/self-guided-maker-activities-63/
LOCATION:The Hive – Level 3
CATEGORIES:Science Live Schedule
ATTACH;FMTTYPE=image/jpeg:https://www.osc.org/wp-content/uploads/2026/03/Untitled-design-3-3.jpg
GEO:28.57228;-81.368341
END:VEVENT
BEGIN:VEVENT
DTSTART;TZID=America/New_York:20260414T120000
DTEND;TZID=America/New_York:20260414T123000
DTSTAMP:20260423T100051
CREATED:20260328T155911Z
LAST-MODIFIED:20260328T175325Z
UID:10008609-1776168000-1776169800@www.osc.org
SUMMARY:Cool Science
DESCRIPTION:Learn about the science of extreme cold with liquid nitrogen demonstrations!
URL:https://www.osc.org/event/cool-science-21/
LOCATION:Discovery Stage – Level 4
CATEGORIES:Science Live Schedule
ATTACH;FMTTYPE=image/png:https://www.osc.org/wp-content/uploads/2025/06/Cool-Science.png
END:VEVENT
BEGIN:VEVENT
DTSTART;TZID=America/New_York:20260414T120000
DTEND;TZID=America/New_York:20260414T150000
DTSTAMP:20260423T100051
CREATED:20260328T175325Z
LAST-MODIFIED:20260328T175325Z
UID:10008783-1776168000-1776178800@www.osc.org
SUMMARY:Self-guided Experiments: Nature Experiments
DESCRIPTION:Investigate nature up close with wildlife and nature themed experiments.
URL:https://www.osc.org/event/self-guided-experiments-nature-experiments-21/
LOCATION:Dr. Dare’s Lab – Level 4
CATEGORIES:Science Live Schedule
ATTACH;FMTTYPE=image/png:https://www.osc.org/wp-content/uploads/2019/11/Dr.-Dares-Lab.png
END:VEVENT
BEGIN:VEVENT
DTSTART;TZID=America/New_York:20260414T150000
DTEND;TZID=America/New_York:20260414T153000
DTSTAMP:20260423T100051
CREATED:20260328T155941Z
LAST-MODIFIED:20260330T132833Z
UID:10008611-1776178800-1776180600@www.osc.org
SUMMARY:Superpowered Science
DESCRIPTION:Uncover the secrets behind some of your favorite superpowers through the antics of a supervillain in training!
URL:https://www.osc.org/event/superpowered-science-99/
LOCATION:Discovery Stage – Level 4
CATEGORIES:Science Live Schedule
ATTACH;FMTTYPE=image/jpeg:https://www.osc.org/wp-content/uploads/2025/05/Superpowered-Science_1080x608.jpg
END:VEVENT
BEGIN:VEVENT
DTSTART;TZID=America/New_York:20260416T100000
DTEND;TZID=America/New_York:20260416T170000
DTSTAMP:20260423T100051
CREATED:20260329T132021Z
LAST-MODIFIED:20260331T145437Z
UID:10008804-1776333600-1776358800@www.osc.org
SUMMARY:Self-guided Maker Activities
DESCRIPTION:Utilize green screen technology to transport yourselves to any setting imaginable. Get hands-on with creativity as you design and craft your own props using your movie budget\, bringing your cinematic visions to life! For Makers 8+
URL:https://www.osc.org/event/self-guided-maker-activities-64/
LOCATION:The Hive – Level 3
CATEGORIES:Science Live Schedule
ATTACH;FMTTYPE=image/jpeg:https://www.osc.org/wp-content/uploads/2026/03/Untitled-design-3-3.jpg
GEO:28.57228;-81.368341
END:VEVENT
BEGIN:VEVENT
DTSTART;TZID=America/New_York:20260416T120000
DTEND;TZID=America/New_York:20260416T123000
DTSTAMP:20260423T100051
CREATED:20260328T155941Z
LAST-MODIFIED:20260328T175526Z
UID:10008613-1776340800-1776342600@www.osc.org
SUMMARY:Cool Science
DESCRIPTION:Learn about the science of extreme cold with liquid nitrogen demonstrations!
URL:https://www.osc.org/event/cool-science-25/
LOCATION:Discovery Stage – Level 4
CATEGORIES:Science Live Schedule
ATTACH;FMTTYPE=image/png:https://www.osc.org/wp-content/uploads/2025/06/Cool-Science.png
END:VEVENT
BEGIN:VEVENT
DTSTART;TZID=America/New_York:20260416T120000
DTEND;TZID=America/New_York:20260416T150000
DTSTAMP:20260423T100051
CREATED:20260328T175525Z
LAST-MODIFIED:20260328T175525Z
UID:10008784-1776340800-1776351600@www.osc.org
SUMMARY:Self-guided Experiments: Nature Experiments
DESCRIPTION:Investigate nature up close with wildlife and nature themed experiments.
URL:https://www.osc.org/event/self-guided-experiments-nature-experiments-22/
LOCATION:Dr. Dare’s Lab – Level 4
CATEGORIES:Science Live Schedule
END:VEVENT
BEGIN:VEVENT
DTSTART;TZID=America/New_York:20260416T133000
DTEND;TZID=America/New_York:20260416T140000
DTSTAMP:20260423T100051
CREATED:20260328T155941Z
LAST-MODIFIED:20260328T175526Z
UID:10008614-1776346200-1776348000@www.osc.org
SUMMARY:Mummies Unwrapped
DESCRIPTION:Join our royal embalmer on a journey through the mummification processes used in Ancient Egypt! In this show\, we will learn about how chemistry was used to preserve mummies for centuries to come. Recommended for ages 6+
URL:https://www.osc.org/event/mummies-unwrapped-77/
LOCATION:Discovery Stage – Level 4
CATEGORIES:Science Live Schedule
ATTACH;FMTTYPE=image/jpeg:https://www.osc.org/wp-content/uploads/2026/02/Image-20-scaled-e1770302411699-A0jPcU.jpg
END:VEVENT
BEGIN:VEVENT
DTSTART;TZID=America/New_York:20260416T150000
DTEND;TZID=America/New_York:20260416T153000
DTSTAMP:20260423T100051
CREATED:20260328T160011Z
LAST-MODIFIED:20260330T132840Z
UID:10008615-1776351600-1776353400@www.osc.org
SUMMARY:Superpowered Science
DESCRIPTION:Uncover the secrets behind some of your favorite superpowers through the antics of a supervillain in training!
URL:https://www.osc.org/event/superpowered-science-100/
LOCATION:Discovery Stage – Level 4
CATEGORIES:Science Live Schedule
ATTACH;FMTTYPE=image/jpeg:https://www.osc.org/wp-content/uploads/2025/05/Superpowered-Science_1080x608.jpg
END:VEVENT
BEGIN:VEVENT
DTSTART;TZID=America/New_York:20260417T100000
DTEND;TZID=America/New_York:20260417T170000
DTSTAMP:20260423T100051
CREATED:20260329T132050Z
LAST-MODIFIED:20260331T145507Z
UID:10008805-1776420000-1776445200@www.osc.org
SUMMARY:Self-guided Maker Activities
DESCRIPTION:Utilize green screen technology to transport yourselves to any setting imaginable. Get hands-on with creativity as you design and craft your own props using your movie budget\, bringing your cinematic visions to life! For Makers 8+
URL:https://www.osc.org/event/self-guided-maker-activities-65/
LOCATION:The Hive – Level 3
CATEGORIES:Science Live Schedule
ATTACH;FMTTYPE=image/jpeg:https://www.osc.org/wp-content/uploads/2026/03/Untitled-design-3-3.jpg
GEO:28.57228;-81.368341
END:VEVENT
BEGIN:VEVENT
DTSTART;TZID=America/New_York:20260417T120000
DTEND;TZID=America/New_York:20260417T123000
DTSTAMP:20260423T100051
CREATED:20260328T160011Z
LAST-MODIFIED:20260328T175727Z
UID:10008617-1776427200-1776429000@www.osc.org
SUMMARY:Cool Science
DESCRIPTION:Learn about the science of extreme cold with liquid nitrogen demonstrations!
URL:https://www.osc.org/event/cool-science-26/
LOCATION:Discovery Stage – Level 4
CATEGORIES:Science Live Schedule
ATTACH;FMTTYPE=image/png:https://www.osc.org/wp-content/uploads/2025/06/Cool-Science.png
END:VEVENT
BEGIN:VEVENT
DTSTART;TZID=America/New_York:20260417T120000
DTEND;TZID=America/New_York:20260417T150000
DTSTAMP:20260423T100051
CREATED:20260328T175726Z
LAST-MODIFIED:20260328T175726Z
UID:10008785-1776427200-1776438000@www.osc.org
SUMMARY:Self-guided Experiments: Nature Experiments
DESCRIPTION:Investigate nature up close with wildlife and nature themed experiments.
URL:https://www.osc.org/event/self-guided-experiments-nature-experiments-23/
LOCATION:Dr. Dare’s Lab – Level 4
CATEGORIES:Science Live Schedule
ATTACH;FMTTYPE=image/png:https://www.osc.org/wp-content/uploads/2019/11/Dr.-Dares-Lab.png
END:VEVENT
BEGIN:VEVENT
DTSTART;TZID=America/New_York:20260417T133000
DTEND;TZID=America/New_York:20260417T140000
DTSTAMP:20260423T100051
CREATED:20260328T160011Z
LAST-MODIFIED:20260328T175727Z
UID:10008618-1776432600-1776434400@www.osc.org
SUMMARY:Mummies Unwrapped
DESCRIPTION:Join our royal embalmer on a journey through the mummification processes used in Ancient Egypt! In this show\, we will learn about how chemistry was used to preserve mummies for centuries to come. Recommended for ages 6+
URL:https://www.osc.org/event/mummies-unwrapped-78/
LOCATION:Discovery Stage – Level 4
CATEGORIES:Science Live Schedule
ATTACH;FMTTYPE=image/jpeg:https://www.osc.org/wp-content/uploads/2026/02/Image-20-scaled-e1770302411699-A0jPcU.jpg
END:VEVENT
BEGIN:VEVENT
DTSTART;TZID=America/New_York:20260417T150000
DTEND;TZID=America/New_York:20260417T153000
DTSTAMP:20260423T100051
CREATED:20260328T160012Z
LAST-MODIFIED:20260330T132846Z
UID:10008619-1776438000-1776439800@www.osc.org
SUMMARY:Superpowered Science
DESCRIPTION:Uncover the secrets behind some of your favorite superpowers through the antics of a supervillain in training!
URL:https://www.osc.org/event/superpowered-science-101/
LOCATION:Discovery Stage – Level 4
CATEGORIES:Science Live Schedule
ATTACH;FMTTYPE=image/jpeg:https://www.osc.org/wp-content/uploads/2025/05/Superpowered-Science_1080x608.jpg
END:VEVENT
BEGIN:VEVENT
DTSTART;TZID=America/New_York:20260418T100000
DTEND;TZID=America/New_York:20260418T170000
DTSTAMP:20260423T100051
CREATED:20260329T132050Z
LAST-MODIFIED:20260331T145507Z
UID:10008806-1776506400-1776531600@www.osc.org
SUMMARY:Self-guided Maker Activities
DESCRIPTION:Utilize green screen technology to transport yourselves to any setting imaginable. Get hands-on with creativity as you design and craft your own props using your movie budget\, bringing your cinematic visions to life! For Makers 8+
URL:https://www.osc.org/event/self-guided-maker-activities-66/
LOCATION:The Hive – Level 3
CATEGORIES:Science Live Schedule
ATTACH;FMTTYPE=image/jpeg:https://www.osc.org/wp-content/uploads/2026/03/Untitled-design-3-3.jpg
GEO:28.57228;-81.368341
END:VEVENT
BEGIN:VEVENT
DTSTART;TZID=America/New_York:20260418T110000
DTEND;TZID=America/New_York:20260418T120000
DTSTAMP:20260423T100051
CREATED:20260328T162015Z
LAST-MODIFIED:20260418T130444Z
UID:10008693-1776510000-1776513600@www.osc.org
SUMMARY:Virtual Nature Trail
DESCRIPTION:Go on a scavenger hunt walking tour in the Virtual UCF Arboretum to learn more about our local flora!
URL:https://www.osc.org/event/nature-lab-5/
LOCATION:Flight Lab – Level 4
CATEGORIES:Science Live Schedule
ATTACH;FMTTYPE=image/png:https://www.osc.org/wp-content/uploads/2026/04/Nine-Years-of-Innovation-and-Research-through-the-Virtual-UCF-Arboretum-Nicholson-School-of-Communication-and-Media.png
END:VEVENT
BEGIN:VEVENT
DTSTART;TZID=America/New_York:20260418T110000
DTEND;TZID=America/New_York:20260418T153000
DTSTAMP:20260423T100051
CREATED:20260329T132050Z
LAST-MODIFIED:20260331T145507Z
UID:10008807-1776510000-1776526200@www.osc.org
SUMMARY:DIY Woodburning
DESCRIPTION:Create your own pyrography art! Sessions run every 30 minutes. Tickets are available in The Hive up to one hour before each session. For Makers 8+
URL:https://www.osc.org/event/diy-woodburning-33/
LOCATION:The Hive – Level 3
CATEGORIES:Science Live Schedule
ATTACH;FMTTYPE=image/png:https://www.osc.org/wp-content/uploads/2025/01/Origami_1080x608.png
GEO:28.57228;-81.368341
END:VEVENT
BEGIN:VEVENT
DTSTART;TZID=America/New_York:20260418T110000
DTEND;TZID=America/New_York:20260418T170000
DTSTAMP:20260423T100051
CREATED:20260328T173442Z
LAST-MODIFIED:20260328T173442Z
UID:10008702-1776510000-1776531600@www.osc.org
SUMMARY:Self-guided Experiments: Nature Experiments
DESCRIPTION:Investigate nature up close with wildlife and nature themed experiments.
URL:https://www.osc.org/event/self-guided-experiments-nature-experiments-5/
LOCATION:Dr. Dare’s Lab – Level 4
CATEGORIES:Science Live Schedule
ATTACH;FMTTYPE=image/png:https://www.osc.org/wp-content/uploads/2019/11/Dr.-Dares-Lab.png
END:VEVENT
BEGIN:VEVENT
DTSTART;TZID=America/New_York:20260418T120000
DTEND;TZID=America/New_York:20260418T123000
DTSTAMP:20260423T100051
CREATED:20260328T162015Z
LAST-MODIFIED:20260328T173511Z
UID:10008694-1776513600-1776515400@www.osc.org
SUMMARY:Cool Science
DESCRIPTION:Learn about the science of extreme cold with liquid nitrogen demonstrations!
URL:https://www.osc.org/event/cool-science-55/
LOCATION:Discovery Stage – Level 4
CATEGORIES:Science Live Schedule
ATTACH;FMTTYPE=image/png:https://www.osc.org/wp-content/uploads/2025/06/Cool-Science.png
END:VEVENT
BEGIN:VEVENT
DTSTART;TZID=America/New_York:20260418T130000
DTEND;TZID=America/New_York:20260418T133000
DTSTAMP:20260423T100051
CREATED:20260328T162016Z
LAST-MODIFIED:20260328T173512Z
UID:10008695-1776517200-1776519000@www.osc.org
SUMMARY:KABOOM
DESCRIPTION:Explore the science of combustion in this explosive live show featuring colorful chemistry! Recommended for ages 6+
URL:https://www.osc.org/event/kaboom-32/
LOCATION:Digital Adventure Theater – Level 2
CATEGORIES:Science Live Schedule
ATTACH;FMTTYPE=image/jpeg:https://www.osc.org/wp-content/uploads/2025/09/Untitled-design.jpg
GEO:28.57228;-81.368341
END:VEVENT
BEGIN:VEVENT
DTSTART;TZID=America/New_York:20260418T130000
DTEND;TZID=America/New_York:20260418T133000
DTSTAMP:20260423T100051
CREATED:20260328T162016Z
LAST-MODIFIED:20260328T173512Z
UID:10008696-1776517200-1776519000@www.osc.org
SUMMARY:Mummies Unwrapped
DESCRIPTION:Join our royal embalmer on a journey through the mummification processes used in Ancient Egypt! In this show\, we will learn about how chemistry was used to preserve mummies for centuries to come. Recommended for ages 6+
URL:https://www.osc.org/event/mummies-unwrapped-94/
LOCATION:Discovery Stage – Level 4
CATEGORIES:Science Live Schedule
ATTACH;FMTTYPE=image/jpeg:https://www.osc.org/wp-content/uploads/2026/02/Image-20-scaled-e1770302411699-A0jPcU.jpg
END:VEVENT
BEGIN:VEVENT
DTSTART;TZID=America/New_York:20260418T140000
DTEND;TZID=America/New_York:20260418T143000
DTSTAMP:20260423T100051
CREATED:20260328T173541Z
LAST-MODIFIED:20260328T173541Z
UID:10008703-1776520800-1776522600@www.osc.org
SUMMARY:Powers of Pokémon
DESCRIPTION:Who’s that Pokémon?? Dive into the science behind some of your favorite Pokémon powers with live demonstrations!
URL:https://www.osc.org/event/powers-of-pokemon-34/
LOCATION:Digital Adventure Theater – Level 2
CATEGORIES:Science Live Schedule
ATTACH;FMTTYPE=image/jpeg:https://www.osc.org/wp-content/uploads/2025/05/Powers-of-Pokemon_1080x608.jpg
GEO:28.57228;-81.368341
END:VEVENT
BEGIN:VEVENT
DTSTART;TZID=America/New_York:20260418T140000
DTEND;TZID=America/New_York:20260418T143000
DTSTAMP:20260423T100051
CREATED:20260328T173542Z
LAST-MODIFIED:20260328T173542Z
UID:10008704-1776520800-1776522600@www.osc.org
SUMMARY:Superpowered Science
DESCRIPTION:Uncover the secrets behind some of your favorite superpowers through the antics of a supervillain in training!
URL:https://www.osc.org/event/superpowered-science-113/
LOCATION:Discovery Stage – Level 4
CATEGORIES:Science Live Schedule
ATTACH;FMTTYPE=image/jpeg:https://www.osc.org/wp-content/uploads/2025/05/Superpowered-Science_1080x608.jpg
END:VEVENT
BEGIN:VEVENT
DTSTART;TZID=America/New_York:20260418T150000
DTEND;TZID=America/New_York:20260418T153000
DTSTAMP:20260423T100051
CREATED:20260328T173542Z
LAST-MODIFIED:20260328T173542Z
UID:10008706-1776524400-1776526200@www.osc.org
SUMMARY:Cool Science
DESCRIPTION:Learn about the science of extreme cold with liquid nitrogen demonstrations!
URL:https://www.osc.org/event/cool-science-56/
LOCATION:Discovery Stage – Level 4
CATEGORIES:Science Live Schedule
ATTACH;FMTTYPE=image/png:https://www.osc.org/wp-content/uploads/2025/06/Cool-Science.png
END:VEVENT
END:VCALENDAR