BEGIN:VCALENDAR
VERSION:2.0
PRODID:-//Orlando Science Center - ECPv6.15.20//NONSGML v1.0//EN
CALSCALE:GREGORIAN
METHOD:PUBLISH
X-ORIGINAL-URL:https://www.osc.org
X-WR-CALDESC:Events for Orlando Science Center
REFRESH-INTERVAL;VALUE=DURATION:PT1H
X-Robots-Tag:noindex
X-PUBLISHED-TTL:PT1H
BEGIN:VTIMEZONE
TZID:America/New_York
BEGIN:DAYLIGHT
TZOFFSETFROM:-0500
TZOFFSETTO:-0400
TZNAME:EDT
DTSTART:20250309T070000
END:DAYLIGHT
BEGIN:STANDARD
TZOFFSETFROM:-0400
TZOFFSETTO:-0500
TZNAME:EST
DTSTART:20251102T060000
END:STANDARD
BEGIN:DAYLIGHT
TZOFFSETFROM:-0500
TZOFFSETTO:-0400
TZNAME:EDT
DTSTART:20260308T070000
END:DAYLIGHT
BEGIN:STANDARD
TZOFFSETFROM:-0400
TZOFFSETTO:-0500
TZNAME:EST
DTSTART:20261101T060000
END:STANDARD
BEGIN:DAYLIGHT
TZOFFSETFROM:-0500
TZOFFSETTO:-0400
TZNAME:EDT
DTSTART:20270314T070000
END:DAYLIGHT
BEGIN:STANDARD
TZOFFSETFROM:-0400
TZOFFSETTO:-0500
TZNAME:EST
DTSTART:20271107T060000
END:STANDARD
END:VTIMEZONE
BEGIN:VEVENT
DTSTART;TZID=America/New_York:20260504T100000
DTEND;TZID=America/New_York:20260504T170000
DTSTAMP:20260422T225129
CREATED:20260329T132250Z
LAST-MODIFIED:20260331T145820Z
UID:10008826-1777888800-1777914000@www.osc.org
SUMMARY:Self-guided Maker Activities
DESCRIPTION:Utilize green screen technology to transport yourselves to any setting imaginable. Get hands-on with creativity as you design and craft your own props using your movie budget\, bringing your cinematic visions to life! For Makers 8+
URL:https://www.osc.org/event/self-guided-maker-activities-80/
LOCATION:The Hive – Level 3
CATEGORIES:Science Live Schedule
ATTACH;FMTTYPE=image/jpeg:https://www.osc.org/wp-content/uploads/2026/03/Untitled-design-3-3.jpg
GEO:28.57228;-81.368341
END:VEVENT
BEGIN:VEVENT
DTSTART;TZID=America/New_York:20260505T100000
DTEND;TZID=America/New_York:20260505T170000
DTSTAMP:20260422T225129
CREATED:20260329T132250Z
LAST-MODIFIED:20260331T145820Z
UID:10008827-1777975200-1778000400@www.osc.org
SUMMARY:Self-guided Maker Activities
DESCRIPTION:Utilize green screen technology to transport yourselves to any setting imaginable. Get hands-on with creativity as you design and craft your own props using your movie budget\, bringing your cinematic visions to life! For Makers 8+
URL:https://www.osc.org/event/self-guided-maker-activities-81/
LOCATION:The Hive – Level 3
CATEGORIES:Science Live Schedule
ATTACH;FMTTYPE=image/jpeg:https://www.osc.org/wp-content/uploads/2026/03/Untitled-design-3-3.jpg
GEO:28.57228;-81.368341
END:VEVENT
END:VCALENDAR