BEGIN:VCALENDAR
VERSION:2.0
PRODID:-//Orlando Science Center - ECPv6.15.20//NONSGML v1.0//EN
CALSCALE:GREGORIAN
METHOD:PUBLISH
X-WR-CALNAME:Orlando Science Center
X-ORIGINAL-URL:https://www.osc.org
X-WR-CALDESC:Events for Orlando Science Center
REFRESH-INTERVAL;VALUE=DURATION:PT1H
X-Robots-Tag:noindex
X-PUBLISHED-TTL:PT1H
BEGIN:VTIMEZONE
TZID:America/New_York
BEGIN:DAYLIGHT
TZOFFSETFROM:-0500
TZOFFSETTO:-0400
TZNAME:EDT
DTSTART:20250309T070000
END:DAYLIGHT
BEGIN:STANDARD
TZOFFSETFROM:-0400
TZOFFSETTO:-0500
TZNAME:EST
DTSTART:20251102T060000
END:STANDARD
BEGIN:DAYLIGHT
TZOFFSETFROM:-0500
TZOFFSETTO:-0400
TZNAME:EDT
DTSTART:20260308T070000
END:DAYLIGHT
BEGIN:STANDARD
TZOFFSETFROM:-0400
TZOFFSETTO:-0500
TZNAME:EST
DTSTART:20261101T060000
END:STANDARD
BEGIN:DAYLIGHT
TZOFFSETFROM:-0500
TZOFFSETTO:-0400
TZNAME:EDT
DTSTART:20270314T070000
END:DAYLIGHT
BEGIN:STANDARD
TZOFFSETFROM:-0400
TZOFFSETTO:-0500
TZNAME:EST
DTSTART:20271107T060000
END:STANDARD
END:VTIMEZONE
BEGIN:VEVENT
DTSTART;TZID=America/New_York:20260407T150000
DTEND;TZID=America/New_York:20260407T153000
DTSTAMP:20260423T043012
CREATED:20260328T155811Z
LAST-MODIFIED:20260330T132810Z
UID:10008595-1775574000-1775575800@www.osc.org
SUMMARY:Superpowered Science
DESCRIPTION:Uncover the secrets behind some of your favorite superpowers through the antics of a supervillain in training!
URL:https://www.osc.org/event/superpowered-science-95/
LOCATION:Discovery Stage – Level 4
CATEGORIES:Science Live Schedule
ATTACH;FMTTYPE=image/jpeg:https://www.osc.org/wp-content/uploads/2025/05/Superpowered-Science_1080x608.jpg
END:VEVENT
BEGIN:VEVENT
DTSTART;TZID=America/New_York:20260409T100000
DTEND;TZID=America/New_York:20260409T170000
DTSTAMP:20260423T043012
CREATED:20260329T131949Z
LAST-MODIFIED:20260331T145406Z
UID:10008796-1775728800-1775754000@www.osc.org
SUMMARY:Self-guided Maker Activities
DESCRIPTION:Utilize green screen technology to transport yourselves to any setting imaginable. Get hands-on with creativity as you design and craft your own props using your movie budget\, bringing your cinematic visions to life! For Makers 8+
URL:https://www.osc.org/event/self-guided-maker-activities-58/
LOCATION:The Hive – Level 3
CATEGORIES:Science Live Schedule
ATTACH;FMTTYPE=image/jpeg:https://www.osc.org/wp-content/uploads/2026/03/Untitled-design-3-3.jpg
GEO:28.57228;-81.368341
END:VEVENT
BEGIN:VEVENT
DTSTART;TZID=America/New_York:20260409T120000
DTEND;TZID=America/New_York:20260409T123000
DTSTAMP:20260423T043012
CREATED:20260328T155811Z
LAST-MODIFIED:20260328T174922Z
UID:10008597-1775736000-1775737800@www.osc.org
SUMMARY:Cool Science
DESCRIPTION:Learn about the science of extreme cold with liquid nitrogen demonstrations!
URL:https://www.osc.org/event/cool-science-13/
LOCATION:Discovery Stage – Level 4
CATEGORIES:Science Live Schedule
ATTACH;FMTTYPE=image/png:https://www.osc.org/wp-content/uploads/2025/06/Cool-Science.png
END:VEVENT
BEGIN:VEVENT
DTSTART;TZID=America/New_York:20260409T120000
DTEND;TZID=America/New_York:20260409T150000
DTSTAMP:20260423T043012
CREATED:20260328T174922Z
LAST-MODIFIED:20260328T174922Z
UID:10008780-1775736000-1775746800@www.osc.org
SUMMARY:Self-guided Experiments: Nature Experiments
DESCRIPTION:Investigate nature up close with wildlife and nature themed experiments.
URL:https://www.osc.org/event/self-guided-experiments-nature-experiments-18/
LOCATION:Dr. Dare’s Lab – Level 4
CATEGORIES:Science Live Schedule
ATTACH;FMTTYPE=image/png:https://www.osc.org/wp-content/uploads/2019/11/Dr.-Dares-Lab.png
END:VEVENT
BEGIN:VEVENT
DTSTART;TZID=America/New_York:20260409T133000
DTEND;TZID=America/New_York:20260409T140000
DTSTAMP:20260423T043012
CREATED:20260328T155811Z
LAST-MODIFIED:20260328T174923Z
UID:10008598-1775741400-1775743200@www.osc.org
SUMMARY:Mummies Unwrapped
DESCRIPTION:Join our royal embalmer on a journey through the mummification processes used in Ancient Egypt! In this show\, we will learn about how chemistry was used to preserve mummies for centuries to come. Recommended for ages 6+
URL:https://www.osc.org/event/mummies-unwrapped-73/
LOCATION:Discovery Stage – Level 4
CATEGORIES:Science Live Schedule
ATTACH;FMTTYPE=image/jpeg:https://www.osc.org/wp-content/uploads/2026/02/Image-20-scaled-e1770302411699-A0jPcU.jpg
END:VEVENT
BEGIN:VEVENT
DTSTART;TZID=America/New_York:20260409T150000
DTEND;TZID=America/New_York:20260409T153000
DTSTAMP:20260423T043012
CREATED:20260328T155811Z
LAST-MODIFIED:20260330T132815Z
UID:10008599-1775746800-1775748600@www.osc.org
SUMMARY:Superpowered Science
DESCRIPTION:Uncover the secrets behind some of your favorite superpowers through the antics of a supervillain in training!
URL:https://www.osc.org/event/superpowered-science-96/
LOCATION:Discovery Stage – Level 4
CATEGORIES:Science Live Schedule
ATTACH;FMTTYPE=image/jpeg:https://www.osc.org/wp-content/uploads/2025/05/Superpowered-Science_1080x608.jpg
END:VEVENT
BEGIN:VEVENT
DTSTART;TZID=America/New_York:20260410T100000
DTEND;TZID=America/New_York:20260410T170000
DTSTAMP:20260423T043012
CREATED:20260329T131950Z
LAST-MODIFIED:20260331T145407Z
UID:10008797-1775815200-1775840400@www.osc.org
SUMMARY:Self-guided Maker Activities
DESCRIPTION:Utilize green screen technology to transport yourselves to any setting imaginable. Get hands-on with creativity as you design and craft your own props using your movie budget\, bringing your cinematic visions to life! For Makers 8+
URL:https://www.osc.org/event/self-guided-maker-activities-59/
LOCATION:The Hive – Level 3
CATEGORIES:Science Live Schedule
ATTACH;FMTTYPE=image/jpeg:https://www.osc.org/wp-content/uploads/2026/03/Untitled-design-3-3.jpg
GEO:28.57228;-81.368341
END:VEVENT
BEGIN:VEVENT
DTSTART;TZID=America/New_York:20260410T120000
DTEND;TZID=America/New_York:20260410T123000
DTSTAMP:20260423T043012
CREATED:20260328T155841Z
LAST-MODIFIED:20260328T175123Z
UID:10008601-1775822400-1775824200@www.osc.org
SUMMARY:Cool Science
DESCRIPTION:Learn about the science of extreme cold with liquid nitrogen demonstrations!
URL:https://www.osc.org/event/cool-science-18/
LOCATION:Discovery Stage – Level 4
CATEGORIES:Science Live Schedule
ATTACH;FMTTYPE=image/png:https://www.osc.org/wp-content/uploads/2025/06/Cool-Science.png
END:VEVENT
BEGIN:VEVENT
DTSTART;TZID=America/New_York:20260410T120000
DTEND;TZID=America/New_York:20260410T150000
DTSTAMP:20260423T043012
CREATED:20260328T175123Z
LAST-MODIFIED:20260328T175123Z
UID:10008781-1775822400-1775833200@www.osc.org
SUMMARY:Self-guided Experiments: Nature Experiments
DESCRIPTION:Investigate nature up close with wildlife and nature themed experiments.
URL:https://www.osc.org/event/self-guided-experiments-nature-experiments-19/
LOCATION:Dr. Dare’s Lab – Level 4
CATEGORIES:Science Live Schedule
ATTACH;FMTTYPE=image/png:https://www.osc.org/wp-content/uploads/2019/11/Dr.-Dares-Lab.png
END:VEVENT
BEGIN:VEVENT
DTSTART;TZID=America/New_York:20260410T133000
DTEND;TZID=America/New_York:20260410T140000
DTSTAMP:20260423T043012
CREATED:20260328T155841Z
LAST-MODIFIED:20260328T175124Z
UID:10008602-1775827800-1775829600@www.osc.org
SUMMARY:Mummies Unwrapped
DESCRIPTION:Join our royal embalmer on a journey through the mummification processes used in Ancient Egypt! In this show\, we will learn about how chemistry was used to preserve mummies for centuries to come. Recommended for ages 6+
URL:https://www.osc.org/event/mummies-unwrapped-74/
LOCATION:Discovery Stage – Level 4
CATEGORIES:Science Live Schedule
ATTACH;FMTTYPE=image/jpeg:https://www.osc.org/wp-content/uploads/2026/02/Image-20-scaled-e1770302411699-A0jPcU.jpg
END:VEVENT
BEGIN:VEVENT
DTSTART;TZID=America/New_York:20260410T150000
DTEND;TZID=America/New_York:20260410T153000
DTSTAMP:20260423T043012
CREATED:20260328T155841Z
LAST-MODIFIED:20260330T132822Z
UID:10008603-1775833200-1775835000@www.osc.org
SUMMARY:Superpowered Science
DESCRIPTION:Uncover the secrets behind some of your favorite superpowers through the antics of a supervillain in training!
URL:https://www.osc.org/event/superpowered-science-97/
LOCATION:Discovery Stage – Level 4
CATEGORIES:Science Live Schedule
ATTACH;FMTTYPE=image/jpeg:https://www.osc.org/wp-content/uploads/2025/05/Superpowered-Science_1080x608.jpg
END:VEVENT
BEGIN:VEVENT
DTSTART;TZID=America/New_York:20260411T100000
DTEND;TZID=America/New_York:20260411T170000
DTSTAMP:20260423T043012
CREATED:20260329T131950Z
LAST-MODIFIED:20260331T145407Z
UID:10008798-1775901600-1775926800@www.osc.org
SUMMARY:Self-guided Maker Activities
DESCRIPTION:Utilize green screen technology to transport yourselves to any setting imaginable. Get hands-on with creativity as you design and craft your own props using your movie budget\, bringing your cinematic visions to life! For Makers 8+
URL:https://www.osc.org/event/self-guided-maker-activities-60/
LOCATION:The Hive – Level 3
CATEGORIES:Science Live Schedule
ATTACH;FMTTYPE=image/jpeg:https://www.osc.org/wp-content/uploads/2026/03/Untitled-design-3-3.jpg
GEO:28.57228;-81.368341
END:VEVENT
BEGIN:VEVENT
DTSTART;TZID=America/New_York:20260411T110000
DTEND;TZID=America/New_York:20260411T120000
DTSTAMP:20260423T043012
CREATED:20260328T161141Z
LAST-MODIFIED:20260411T130203Z
UID:10008671-1775905200-1775908800@www.osc.org
SUMMARY:Virtual Nature Trail
DESCRIPTION:Go on a scavenger hunt walking tour in the Virtual UCF Arboretum to learn more about our local flora!
URL:https://www.osc.org/event/nature-lab-3/
LOCATION:Flight Lab – Level 4
CATEGORIES:Science Live Schedule
ATTACH;FMTTYPE=image/png:https://www.osc.org/wp-content/uploads/2026/04/Nine-Years-of-Innovation-and-Research-through-the-Virtual-UCF-Arboretum-Nicholson-School-of-Communication-and-Media.png
END:VEVENT
BEGIN:VEVENT
DTSTART;TZID=America/New_York:20260411T110000
DTEND;TZID=America/New_York:20260411T153000
DTSTAMP:20260423T043012
CREATED:20260410T130213Z
LAST-MODIFIED:20260410T130213Z
UID:10008830-1775905200-1775921400@www.osc.org
SUMMARY:DIY Woodburning
DESCRIPTION:Create your own pyrography art! Sessions run every 30 minutes. Tickets are available in The Hive up to one hour before each session. For Makers 8+
URL:https://www.osc.org/event/diy-woodburning/
LOCATION:The Hive – Level 3
CATEGORIES:Science Live Schedule
ATTACH;FMTTYPE=image/png:https://www.osc.org/wp-content/uploads/2025/01/Origami_1080x608.png
GEO:28.57228;-81.368341
END:VEVENT
BEGIN:VEVENT
DTSTART;TZID=America/New_York:20260411T110000
DTEND;TZID=America/New_York:20260411T170000
DTSTAMP:20260423T043012
CREATED:20260328T173241Z
LAST-MODIFIED:20260328T173241Z
UID:10008700-1775905200-1775926800@www.osc.org
SUMMARY:Self-guided Experiments: Nature Experiments
DESCRIPTION:Investigate nature up close with wildlife and nature themed experiments.
URL:https://www.osc.org/event/self-guided-experiments-nature-experiments-3/
LOCATION:Dr. Dare’s Lab – Level 4
CATEGORIES:Science Live Schedule
ATTACH;FMTTYPE=image/png:https://www.osc.org/wp-content/uploads/2019/11/Dr.-Dares-Lab.png
END:VEVENT
BEGIN:VEVENT
DTSTART;TZID=America/New_York:20260411T120000
DTEND;TZID=America/New_York:20260411T123000
DTSTAMP:20260423T043012
CREATED:20260328T161141Z
LAST-MODIFIED:20260328T173242Z
UID:10008672-1775908800-1775910600@www.osc.org
SUMMARY:Cool Science
DESCRIPTION:Learn about the science of extreme cold with liquid nitrogen demonstrations!
URL:https://www.osc.org/event/cool-science-51/
LOCATION:Discovery Stage – Level 4
CATEGORIES:Science Live Schedule
ATTACH;FMTTYPE=image/png:https://www.osc.org/wp-content/uploads/2025/06/Cool-Science.png
END:VEVENT
BEGIN:VEVENT
DTSTART;TZID=America/New_York:20260411T130000
DTEND;TZID=America/New_York:20260411T133000
DTSTAMP:20260423T043012
CREATED:20260328T161211Z
LAST-MODIFIED:20260328T173311Z
UID:10008674-1775912400-1775914200@www.osc.org
SUMMARY:Mummies Unwrapped
DESCRIPTION:Join our royal embalmer on a journey through the mummification processes used in Ancient Egypt! In this show\, we will learn about how chemistry was used to preserve mummies for centuries to come. Recommended for ages 6+
URL:https://www.osc.org/event/mummies-unwrapped-90/
LOCATION:Discovery Stage – Level 4
CATEGORIES:Science Live Schedule
ATTACH;FMTTYPE=image/jpeg:https://www.osc.org/wp-content/uploads/2026/02/Image-20-scaled-e1770302411699-A0jPcU.jpg
END:VEVENT
BEGIN:VEVENT
DTSTART;TZID=America/New_York:20260411T140000
DTEND;TZID=America/New_York:20260411T143000
DTSTAMP:20260423T043012
CREATED:20260328T161212Z
LAST-MODIFIED:20260328T173312Z
UID:10008677-1775916000-1775917800@www.osc.org
SUMMARY:Superpowered Science
DESCRIPTION:Uncover the secrets behind some of your favorite superpowers through the antics of a supervillain in training!
URL:https://www.osc.org/event/superpowered-science-111/
LOCATION:Discovery Stage – Level 4
CATEGORIES:Science Live Schedule
ATTACH;FMTTYPE=image/jpeg:https://www.osc.org/wp-content/uploads/2025/05/Superpowered-Science_1080x608.jpg
END:VEVENT
BEGIN:VEVENT
DTSTART;TZID=America/New_York:20260411T150000
DTEND;TZID=America/New_York:20260411T153000
DTSTAMP:20260423T043012
CREATED:20260328T161412Z
LAST-MODIFIED:20260328T173341Z
UID:10008679-1775919600-1775921400@www.osc.org
SUMMARY:Cool Science
DESCRIPTION:Learn about the science of extreme cold with liquid nitrogen demonstrations!
URL:https://www.osc.org/event/cool-science-52/
LOCATION:Discovery Stage – Level 4
CATEGORIES:Science Live Schedule
ATTACH;FMTTYPE=image/png:https://www.osc.org/wp-content/uploads/2025/06/Cool-Science.png
END:VEVENT
BEGIN:VEVENT
DTSTART;TZID=America/New_York:20260411T150000
DTEND;TZID=America/New_York:20260411T160000
DTSTAMP:20260423T043012
CREATED:20260328T161412Z
LAST-MODIFIED:20260411T145358Z
UID:10008678-1775919600-1775923200@www.osc.org
SUMMARY:Space Flight
DESCRIPTION:Fly through the galaxy and explore stars\, planets\, asteroids\, and everything our universe has to offer! Recommended for ages 8+
URL:https://www.osc.org/event/space-flight-33/
LOCATION:Flight Lab – Level 4
CATEGORIES:Science Live Schedule
ATTACH;FMTTYPE=image/png:https://www.osc.org/wp-content/uploads/2022/12/Space-Flight_1080x608.png
END:VEVENT
BEGIN:VEVENT
DTSTART;TZID=America/New_York:20260411T160000
DTEND;TZID=America/New_York:20260411T163000
DTSTAMP:20260423T043012
CREATED:20260328T161413Z
LAST-MODIFIED:20260328T173342Z
UID:10008680-1775923200-1775925000@www.osc.org
SUMMARY:Mummies Unwrapped
DESCRIPTION:Join our royal embalmer on a journey through the mummification processes used in Ancient Egypt! In this show\, we will learn about how chemistry was used to preserve mummies for centuries to come. Recommended for ages 6+
URL:https://www.osc.org/event/mummies-unwrapped-91/
LOCATION:Discovery Stage – Level 4
CATEGORIES:Science Live Schedule
ATTACH;FMTTYPE=image/jpeg:https://www.osc.org/wp-content/uploads/2026/02/Image-20-scaled-e1770302411699-A0jPcU.jpg
END:VEVENT
BEGIN:VEVENT
DTSTART;TZID=America/New_York:20260412T100000
DTEND;TZID=America/New_York:20260412T170000
DTSTAMP:20260423T043012
CREATED:20260329T132019Z
LAST-MODIFIED:20260331T145437Z
UID:10008800-1775988000-1776013200@www.osc.org
SUMMARY:Self-guided Maker Activities
DESCRIPTION:Utilize green screen technology to transport yourselves to any setting imaginable. Get hands-on with creativity as you design and craft your own props using your movie budget\, bringing your cinematic visions to life! For Makers 8+
URL:https://www.osc.org/event/self-guided-maker-activities-61/
LOCATION:The Hive – Level 3
CATEGORIES:Science Live Schedule
ATTACH;FMTTYPE=image/jpeg:https://www.osc.org/wp-content/uploads/2026/03/Untitled-design-3-3.jpg
GEO:28.57228;-81.368341
END:VEVENT
BEGIN:VEVENT
DTSTART;TZID=America/New_York:20260412T110000
DTEND;TZID=America/New_York:20260412T130000
DTSTAMP:20260423T043012
CREATED:20260328T161413Z
LAST-MODIFIED:20260402T175502Z
UID:10008682-1775991600-1775998800@www.osc.org
SUMMARY:Virtual Nature Trail
DESCRIPTION:Go on a scavenger hunt walking tour in the Virtual UCF Arboretum to learn more about our local flora!
URL:https://www.osc.org/event/nature-lab-4/
LOCATION:Flight Lab – Level 4
CATEGORIES:Science Live Schedule
ATTACH;FMTTYPE=image/png:https://www.osc.org/wp-content/uploads/2026/04/Nine-Years-of-Innovation-and-Research-through-the-Virtual-UCF-Arboretum-Nicholson-School-of-Communication-and-Media.png
END:VEVENT
BEGIN:VEVENT
DTSTART;TZID=America/New_York:20260412T110000
DTEND;TZID=America/New_York:20260412T153000
DTSTAMP:20260423T043012
CREATED:20260329T132019Z
LAST-MODIFIED:20260331T145437Z
UID:10008801-1775991600-1776007800@www.osc.org
SUMMARY:DIY Woodburning
DESCRIPTION:Create your own pyrography art! Sessions run every 30 minutes. Tickets are available in The Hive up to one hour before each session. For Makers 8+
URL:https://www.osc.org/event/diy-woodburning-32/
LOCATION:The Hive – Level 3
CATEGORIES:Science Live Schedule
ATTACH;FMTTYPE=image/png:https://www.osc.org/wp-content/uploads/2025/01/Origami_1080x608.png
GEO:28.57228;-81.368341
END:VEVENT
BEGIN:VEVENT
DTSTART;TZID=America/New_York:20260412T110000
DTEND;TZID=America/New_York:20260412T170000
DTSTAMP:20260423T043012
CREATED:20260328T173342Z
LAST-MODIFIED:20260328T173342Z
UID:10008701-1775991600-1776013200@www.osc.org
SUMMARY:Self-guided Experiments: Nature Experiments
DESCRIPTION:Investigate nature up close with wildlife and nature themed experiments.
URL:https://www.osc.org/event/self-guided-experiments-nature-experiments-4/
LOCATION:Dr. Dare’s Lab – Level 4
CATEGORIES:Science Live Schedule
ATTACH;FMTTYPE=image/png:https://www.osc.org/wp-content/uploads/2019/11/Dr.-Dares-Lab.png
END:VEVENT
BEGIN:VEVENT
DTSTART;TZID=America/New_York:20260412T120000
DTEND;TZID=America/New_York:20260412T123000
DTSTAMP:20260423T043012
CREATED:20260328T161613Z
LAST-MODIFIED:20260328T173411Z
UID:10008683-1775995200-1775997000@www.osc.org
SUMMARY:Cool Science
DESCRIPTION:Learn about the science of extreme cold with liquid nitrogen demonstrations!
URL:https://www.osc.org/event/cool-science-53/
LOCATION:Discovery Stage – Level 4
CATEGORIES:Science Live Schedule
ATTACH;FMTTYPE=image/png:https://www.osc.org/wp-content/uploads/2025/06/Cool-Science.png
END:VEVENT
BEGIN:VEVENT
DTSTART;TZID=America/New_York:20260412T130000
DTEND;TZID=America/New_York:20260412T133000
DTSTAMP:20260423T043012
CREATED:20260328T161613Z
LAST-MODIFIED:20260328T173412Z
UID:10008684-1775998800-1776000600@www.osc.org
SUMMARY:KABOOM
DESCRIPTION:Explore the science of combustion in this explosive live show featuring colorful chemistry! Recommended for ages 6+
URL:https://www.osc.org/event/kaboom-31/
LOCATION:Digital Adventure Theater – Level 2
CATEGORIES:Science Live Schedule
ATTACH;FMTTYPE=image/jpeg:https://www.osc.org/wp-content/uploads/2025/09/Untitled-design.jpg
GEO:28.57228;-81.368341
END:VEVENT
BEGIN:VEVENT
DTSTART;TZID=America/New_York:20260412T130000
DTEND;TZID=America/New_York:20260412T133000
DTSTAMP:20260423T043012
CREATED:20260328T161614Z
LAST-MODIFIED:20260328T173412Z
UID:10008685-1775998800-1776000600@www.osc.org
SUMMARY:Mummies Unwrapped
DESCRIPTION:Join our royal embalmer on a journey through the mummification processes used in Ancient Egypt! In this show\, we will learn about how chemistry was used to preserve mummies for centuries to come. Recommended for ages 6+
URL:https://www.osc.org/event/mummies-unwrapped-92/
LOCATION:Discovery Stage – Level 4
CATEGORIES:Science Live Schedule
ATTACH;FMTTYPE=image/jpeg:https://www.osc.org/wp-content/uploads/2026/02/Image-20-scaled-e1770302411699-A0jPcU.jpg
END:VEVENT
BEGIN:VEVENT
DTSTART;TZID=America/New_York:20260412T140000
DTEND;TZID=America/New_York:20260412T143000
DTSTAMP:20260423T043012
CREATED:20260328T161814Z
LAST-MODIFIED:20260328T173441Z
UID:10008688-1776002400-1776004200@www.osc.org
SUMMARY:Superpowered Science
DESCRIPTION:Uncover the secrets behind some of your favorite superpowers through the antics of a supervillain in training!
URL:https://www.osc.org/event/superpowered-science-112/
LOCATION:Discovery Stage – Level 4
CATEGORIES:Science Live Schedule
ATTACH;FMTTYPE=image/jpeg:https://www.osc.org/wp-content/uploads/2025/05/Superpowered-Science_1080x608.jpg
END:VEVENT
BEGIN:VEVENT
DTSTART;TZID=America/New_York:20260412T150000
DTEND;TZID=America/New_York:20260412T170000
DTSTAMP:20260423T043012
CREATED:20260328T161814Z
LAST-MODIFIED:20260328T173441Z
UID:10008689-1776006000-1776013200@www.osc.org
SUMMARY:Space Flight
DESCRIPTION:Fly through the galaxy and explore stars\, planets\, asteroids\, and everything our universe has to offer! Recommended for ages 8+
URL:https://www.osc.org/event/space-flight-38/
LOCATION:Flight Lab – Level 4
CATEGORIES:Science Live Schedule
ATTACH;FMTTYPE=image/png:https://www.osc.org/wp-content/uploads/2022/12/Space-Flight_1080x608.png
END:VEVENT
END:VCALENDAR