BEGIN:VCALENDAR
VERSION:2.0
PRODID:-//Orlando Science Center - ECPv6.15.20//NONSGML v1.0//EN
CALSCALE:GREGORIAN
METHOD:PUBLISH
X-WR-CALNAME:Orlando Science Center
X-ORIGINAL-URL:https://www.osc.org
X-WR-CALDESC:Events for Orlando Science Center
REFRESH-INTERVAL;VALUE=DURATION:PT1H
X-Robots-Tag:noindex
X-PUBLISHED-TTL:PT1H
BEGIN:VTIMEZONE
TZID:America/New_York
BEGIN:DAYLIGHT
TZOFFSETFROM:-0500
TZOFFSETTO:-0400
TZNAME:EDT
DTSTART:20250309T070000
END:DAYLIGHT
BEGIN:STANDARD
TZOFFSETFROM:-0400
TZOFFSETTO:-0500
TZNAME:EST
DTSTART:20251102T060000
END:STANDARD
BEGIN:DAYLIGHT
TZOFFSETFROM:-0500
TZOFFSETTO:-0400
TZNAME:EDT
DTSTART:20260308T070000
END:DAYLIGHT
BEGIN:STANDARD
TZOFFSETFROM:-0400
TZOFFSETTO:-0500
TZNAME:EST
DTSTART:20261101T060000
END:STANDARD
BEGIN:DAYLIGHT
TZOFFSETFROM:-0500
TZOFFSETTO:-0400
TZNAME:EDT
DTSTART:20270314T070000
END:DAYLIGHT
BEGIN:STANDARD
TZOFFSETFROM:-0400
TZOFFSETTO:-0500
TZNAME:EST
DTSTART:20271107T060000
END:STANDARD
END:VTIMEZONE
BEGIN:VEVENT
DTSTART;TZID=America/New_York:20260329T110000
DTEND;TZID=America/New_York:20260329T170000
DTSTAMP:20260422T222950
CREATED:20260307T163803Z
LAST-MODIFIED:20260328T195959Z
UID:10008278-1774782000-1774803600@www.osc.org
SUMMARY:Self-guided Experiments: Engineering Experiments
DESCRIPTION:Learn about the engineering design process with this month’s engineering themed experiments!
URL:https://www.osc.org/event/self-guided-experiments-engineering-experiments-22/
LOCATION:Dr. Dare’s Lab – Level 4
CATEGORIES:Science Live Schedule
ATTACH;FMTTYPE=image/jpeg:https://www.osc.org/wp-content/uploads/2026/02/DDL7_1920x1080-XsvM9H.jpg
END:VEVENT
BEGIN:VEVENT
DTSTART;TZID=America/New_York:20260329T120000
DTEND;TZID=America/New_York:20260329T123000
DTSTAMP:20260422T222950
CREATED:20260307T163804Z
LAST-MODIFIED:20260307T163804Z
UID:10008280-1774785600-1774787400@www.osc.org
SUMMARY:Superpowered Science
DESCRIPTION:Uncover the secrets behind some of your favorite superpowers through the antics of a supervillain in training!
URL:https://www.osc.org/event/superpowered-science-78/
LOCATION:Discovery Stage – Level 4
CATEGORIES:Science Live Schedule
ATTACH;FMTTYPE=image/jpeg:https://www.osc.org/wp-content/uploads/2025/05/Superpowered-Science_1080x608.jpg
END:VEVENT
BEGIN:VEVENT
DTSTART;TZID=America/New_York:20260329T130000
DTEND;TZID=America/New_York:20260329T133000
DTSTAMP:20260422T222950
CREATED:20260307T163804Z
LAST-MODIFIED:20260307T163804Z
UID:10008281-1774789200-1774791000@www.osc.org
SUMMARY:Powers of Pokémon
DESCRIPTION:Who’s that Pokémon?? Dive into the science behind some of your favorite Pokémon powers with live demonstrations!
URL:https://www.osc.org/event/powers-of-pokemon-18/
LOCATION:Digital Adventure Theater – Level 2
CATEGORIES:Science Live Schedule
ATTACH;FMTTYPE=image/jpeg:https://www.osc.org/wp-content/uploads/2025/05/Powers-of-Pokemon_1080x608.jpg
GEO:28.57228;-81.368341
END:VEVENT
BEGIN:VEVENT
DTSTART;TZID=America/New_York:20260329T130000
DTEND;TZID=America/New_York:20260329T133000
DTSTAMP:20260422T222950
CREATED:20260329T141019Z
LAST-MODIFIED:20260329T141019Z
UID:10008828-1774789200-1774791000@www.osc.org
SUMMARY:Mummies Unwrapped
DESCRIPTION:Join our royal embalmer on a journey through the mummification processes used in Ancient Egypt! In this show\, we will learn about how chemistry was used to preserve mummies for centuries to come. Recommended for ages 6+
URL:https://www.osc.org/event/mummies-unwrapped-108/
LOCATION:Discovery Stage – Level 4
CATEGORIES:Science Live Schedule
ATTACH;FMTTYPE=image/jpeg:https://www.osc.org/wp-content/uploads/2026/02/Image-20-scaled-e1770302411699-A0jPcU.jpg
END:VEVENT
BEGIN:VEVENT
DTSTART;TZID=America/New_York:20260329T133000
DTEND;TZID=America/New_York:20260329T143000
DTSTAMP:20260422T222950
CREATED:20260307T163602Z
LAST-MODIFIED:20260315T152949Z
UID:10008272-1774791000-1774794600@www.osc.org
SUMMARY:Coding Lab
DESCRIPTION:Grow your coding skills as a team member leads you through programming loops\, functions\, and more in a farming-based coding game.
URL:https://www.osc.org/event/coding-lab-16/
LOCATION:Flight Lab – Level 4
CATEGORIES:Science Live Schedule
ATTACH;FMTTYPE=image/png:https://www.osc.org/wp-content/uploads/2024/09/Coding-Lab_1080x608-1.png
END:VEVENT
BEGIN:VEVENT
DTSTART;TZID=America/New_York:20260329T140000
DTEND;TZID=America/New_York:20260329T143000
DTSTAMP:20260422T222950
CREATED:20260328T200328Z
LAST-MODIFIED:20260328T200328Z
UID:10008786-1774792800-1774794600@www.osc.org
SUMMARY:KABOOM
DESCRIPTION:Explore the science of combustion in this explosive live show featuring colorful chemistry! Recommended for ages 6+
URL:https://www.osc.org/event/kaboom-39/
LOCATION:Digital Adventure Theater – Level 2
CATEGORIES:Science Live Schedule
ATTACH;FMTTYPE=image/jpeg:https://www.osc.org/wp-content/uploads/2025/09/Untitled-design.jpg
GEO:28.57228;-81.368341
END:VEVENT
BEGIN:VEVENT
DTSTART;TZID=America/New_York:20260329T140000
DTEND;TZID=America/New_York:20260329T143000
DTSTAMP:20260422T222950
CREATED:20260328T200346Z
LAST-MODIFIED:20260328T200402Z
UID:10008787-1774792800-1774794600@www.osc.org
SUMMARY:Mindboggling Science
DESCRIPTION:Is it magic or science? Either way\, your mind is sure to be boggled in this ever-changing stage show!
URL:https://www.osc.org/event/mindboggling-science-92/
LOCATION:Discovery Stage – Level 4
CATEGORIES:Science Live Schedule
ATTACH;FMTTYPE=image/jpeg:https://www.osc.org/wp-content/uploads/2025/05/Mindboggling-Science_1080x608.jpg
END:VEVENT
BEGIN:VEVENT
DTSTART;TZID=America/New_York:20260329T150000
DTEND;TZID=America/New_York:20260329T153000
DTSTAMP:20260422T222950
CREATED:20260328T200439Z
LAST-MODIFIED:20260328T200439Z
UID:10008788-1774796400-1774798200@www.osc.org
SUMMARY:Superpowered Science
DESCRIPTION:Uncover the secrets behind some of your favorite superpowers through the antics of a supervillain in training!
URL:https://www.osc.org/event/superpowered-science-120/
LOCATION:Discovery Stage – Level 4
CATEGORIES:Science Live Schedule
ATTACH;FMTTYPE=image/jpeg:https://www.osc.org/wp-content/uploads/2025/05/Superpowered-Science_1080x608.jpg
END:VEVENT
BEGIN:VEVENT
DTSTART;TZID=America/New_York:20260329T150000
DTEND;TZID=America/New_York:20260329T170000
DTSTAMP:20260422T222950
CREATED:20260328T200500Z
LAST-MODIFIED:20260328T200500Z
UID:10008789-1774796400-1774803600@www.osc.org
SUMMARY:Space Flight
DESCRIPTION:Fly through the galaxy and explore stars\, planets\, asteroids\, and everything our universe has to offer! Recommended for ages 8+
URL:https://www.osc.org/event/space-flight-49/
LOCATION:Flight Lab – Level 4
CATEGORIES:Science Live Schedule
ATTACH;FMTTYPE=image/png:https://www.osc.org/wp-content/uploads/2022/12/Space-Flight_1080x608.png
END:VEVENT
BEGIN:VEVENT
DTSTART;TZID=America/New_York:20260330T100000
DTEND;TZID=America/New_York:20260330T170000
DTSTAMP:20260422T222950
CREATED:20260328T155608Z
LAST-MODIFIED:20260328T174720Z
UID:10008570-1774864800-1774890000@www.osc.org
SUMMARY:Self-guided Maker Activities
DESCRIPTION:Go through the step-by-step process used to make real movies.
URL:https://www.osc.org/event/self-guided-maker-activities-51/
LOCATION:The Hive – Level 3
CATEGORIES:Science Live Schedule
ATTACH;FMTTYPE=image/jpeg:https://www.osc.org/wp-content/uploads/2020/04/diy-stop-motion-animation-movie-using-tablet.jpg
GEO:28.57228;-81.368341
END:VEVENT
BEGIN:VEVENT
DTSTART;TZID=America/New_York:20260330T120000
DTEND;TZID=America/New_York:20260330T123000
DTSTAMP:20260422T222950
CREATED:20260328T155609Z
LAST-MODIFIED:20260328T174721Z
UID:10008572-1774872000-1774873800@www.osc.org
SUMMARY:Superpowered Science
DESCRIPTION:Uncover the secrets behind some of your favorite superpowers through the antics of a supervillain in training!
URL:https://www.osc.org/event/superpowered-science-90/
LOCATION:Discovery Stage – Level 4
CATEGORIES:Science Live Schedule
ATTACH;FMTTYPE=image/jpeg:https://www.osc.org/wp-content/uploads/2025/05/Superpowered-Science_1080x608.jpg
END:VEVENT
BEGIN:VEVENT
DTSTART;TZID=America/New_York:20260330T120000
DTEND;TZID=America/New_York:20260330T140000
DTSTAMP:20260422T222950
CREATED:20260328T155609Z
LAST-MODIFIED:20260329T130303Z
UID:10008571-1774872000-1774879200@www.osc.org
SUMMARY:Self-guided Experiments: Engineering Experiments
DESCRIPTION:Learn about the engineering design process with this month’s engineering themed experiments!
URL:https://www.osc.org/event/self-guided-experiments-engineering-experiments-27/
LOCATION:Dr. Dare’s Lab – Level 4
CATEGORIES:Science Live Schedule
ATTACH;FMTTYPE=image/jpeg:https://www.osc.org/wp-content/uploads/2026/02/DDL7_1920x1080-XsvM9H.jpg
END:VEVENT
BEGIN:VEVENT
DTSTART;TZID=America/New_York:20260330T133000
DTEND;TZID=America/New_York:20260330T140000
DTSTAMP:20260422T222950
CREATED:20260328T155609Z
LAST-MODIFIED:20260328T174721Z
UID:10008573-1774877400-1774879200@www.osc.org
SUMMARY:Mummies Unwrapped
DESCRIPTION:Join our royal embalmer on a journey through the mummification processes used in Ancient Egypt! In this show\, we will learn about how chemistry was used to preserve mummies for centuries to come. Recommended for ages 6+
URL:https://www.osc.org/event/mummies-unwrapped-28/
LOCATION:Discovery Stage – Level 4
CATEGORIES:Science Live Schedule
ATTACH;FMTTYPE=image/jpeg:https://www.osc.org/wp-content/uploads/2026/02/Image-20-scaled-e1770302411699-A0jPcU.jpg
END:VEVENT
BEGIN:VEVENT
DTSTART;TZID=America/New_York:20260331T100000
DTEND;TZID=America/New_York:20260331T170000
DTSTAMP:20260422T222950
CREATED:20260328T155610Z
LAST-MODIFIED:20260328T174722Z
UID:10008575-1774951200-1774976400@www.osc.org
SUMMARY:Self-guided Maker Activities
DESCRIPTION:Go through the step-by-step process used to make real movies.
URL:https://www.osc.org/event/self-guided-maker-activities-52/
LOCATION:The Hive – Level 3
CATEGORIES:Science Live Schedule
ATTACH;FMTTYPE=image/jpeg:https://www.osc.org/wp-content/uploads/2020/04/diy-stop-motion-animation-movie-using-tablet.jpg
GEO:28.57228;-81.368341
END:VEVENT
BEGIN:VEVENT
DTSTART;TZID=America/New_York:20260331T120000
DTEND;TZID=America/New_York:20260331T123000
DTSTAMP:20260422T222950
CREATED:20260328T155611Z
LAST-MODIFIED:20260328T174722Z
UID:10008577-1774958400-1774960200@www.osc.org
SUMMARY:Superpowered Science
DESCRIPTION:Uncover the secrets behind some of your favorite superpowers through the antics of a supervillain in training!
URL:https://www.osc.org/event/superpowered-science-91/
LOCATION:Discovery Stage – Level 4
CATEGORIES:Science Live Schedule
ATTACH;FMTTYPE=image/jpeg:https://www.osc.org/wp-content/uploads/2025/05/Superpowered-Science_1080x608.jpg
END:VEVENT
BEGIN:VEVENT
DTSTART;TZID=America/New_York:20260331T120000
DTEND;TZID=America/New_York:20260331T150000
DTSTAMP:20260422T222950
CREATED:20260328T155611Z
LAST-MODIFIED:20260328T155611Z
UID:10008576-1774958400-1774969200@www.osc.org
SUMMARY:Self-guided Experiments: Engineering Experiments
DESCRIPTION:Learn about the engineering design process with this month’s engineering themed experiments!
URL:https://www.osc.org/event/self-guided-experiments-engineering-experiments-28/
LOCATION:Dr. Dare’s Lab – Level 4
CATEGORIES:Science Live Schedule
ATTACH;FMTTYPE=image/jpeg:https://www.osc.org/wp-content/uploads/2026/02/DDL7_1920x1080-XsvM9H.jpg
END:VEVENT
BEGIN:VEVENT
DTSTART;TZID=America/New_York:20260331T133000
DTEND;TZID=America/New_York:20260331T140000
DTSTAMP:20260422T222950
CREATED:20260328T155611Z
LAST-MODIFIED:20260328T174722Z
UID:10008578-1774963800-1774965600@www.osc.org
SUMMARY:Mummies Unwrapped
DESCRIPTION:Join our royal embalmer on a journey through the mummification processes used in Ancient Egypt! In this show\, we will learn about how chemistry was used to preserve mummies for centuries to come. Recommended for ages 6+
URL:https://www.osc.org/event/mummies-unwrapped-68/
LOCATION:Discovery Stage – Level 4
CATEGORIES:Science Live Schedule
ATTACH;FMTTYPE=image/jpeg:https://www.osc.org/wp-content/uploads/2026/02/Image-20-scaled-e1770302411699-A0jPcU.jpg
END:VEVENT
BEGIN:VEVENT
DTSTART;TZID=America/New_York:20260331T150000
DTEND;TZID=America/New_York:20260331T153000
DTSTAMP:20260422T222950
CREATED:20260328T155611Z
LAST-MODIFIED:20260328T174722Z
UID:10008579-1774969200-1774971000@www.osc.org
SUMMARY:Mindboggling Science
DESCRIPTION:Is it magic or science? Either way\, your mind is sure to be boggled in this ever-changing stage show!
URL:https://www.osc.org/event/mindboggling-science-91/
LOCATION:Discovery Stage – Level 4
CATEGORIES:Science Live Schedule
ATTACH;FMTTYPE=image/jpeg:https://www.osc.org/wp-content/uploads/2025/05/Mindboggling-Science_1080x608.jpg
END:VEVENT
BEGIN:VEVENT
DTSTART;TZID=America/New_York:20260402T100000
DTEND;TZID=America/New_York:20260402T170000
DTSTAMP:20260422T222950
CREATED:20260329T131946Z
LAST-MODIFIED:20260331T145404Z
UID:10008790-1775124000-1775149200@www.osc.org
SUMMARY:Self-guided Maker Activities
DESCRIPTION:Utilize green screen technology to transport yourselves to any setting imaginable. Get hands-on with creativity as you design and craft your own props using your movie budget\, bringing your cinematic visions to life! For Makers 8+
URL:https://www.osc.org/event/self-guided-maker-activities-53/
LOCATION:The Hive – Level 3
CATEGORIES:Science Live Schedule
ATTACH;FMTTYPE=image/jpeg:https://www.osc.org/wp-content/uploads/2026/03/Untitled-design-3-3.jpg
GEO:28.57228;-81.368341
END:VEVENT
BEGIN:VEVENT
DTSTART;TZID=America/New_York:20260402T120000
DTEND;TZID=America/New_York:20260402T123000
DTSTAMP:20260422T222950
CREATED:20260328T155641Z
LAST-MODIFIED:20260328T174752Z
UID:10008581-1775131200-1775133000@www.osc.org
SUMMARY:Cool Science
DESCRIPTION:Learn about the science of extreme cold with liquid nitrogen demonstrations!
URL:https://www.osc.org/event/cool-science-6/
LOCATION:Discovery Stage – Level 4
CATEGORIES:Science Live Schedule
ATTACH;FMTTYPE=image/png:https://www.osc.org/wp-content/uploads/2025/06/Cool-Science.png
END:VEVENT
BEGIN:VEVENT
DTSTART;TZID=America/New_York:20260402T120000
DTEND;TZID=America/New_York:20260402T150000
DTSTAMP:20260422T222950
CREATED:20260328T174752Z
LAST-MODIFIED:20260328T174752Z
UID:10008776-1775131200-1775142000@www.osc.org
SUMMARY:Self-guided Experiments: Nature Experiments
DESCRIPTION:Investigate nature up close with wildlife and nature themed experiments.
URL:https://www.osc.org/event/self-guided-experiments-nature-experiments-14/
LOCATION:Dr. Dare’s Lab – Level 4
CATEGORIES:Science Live Schedule
ATTACH;FMTTYPE=image/png:https://www.osc.org/wp-content/uploads/2019/11/Dr.-Dares-Lab.png
END:VEVENT
BEGIN:VEVENT
DTSTART;TZID=America/New_York:20260402T133000
DTEND;TZID=America/New_York:20260402T140000
DTSTAMP:20260422T222950
CREATED:20260328T155641Z
LAST-MODIFIED:20260328T174752Z
UID:10008582-1775136600-1775138400@www.osc.org
SUMMARY:Mummies Unwrapped
DESCRIPTION:Join our royal embalmer on a journey through the mummification processes used in Ancient Egypt! In this show\, we will learn about how chemistry was used to preserve mummies for centuries to come. Recommended for ages 6+
URL:https://www.osc.org/event/mummies-unwrapped-69/
LOCATION:Discovery Stage – Level 4
CATEGORIES:Science Live Schedule
ATTACH;FMTTYPE=image/jpeg:https://www.osc.org/wp-content/uploads/2026/02/Image-20-scaled-e1770302411699-A0jPcU.jpg
END:VEVENT
BEGIN:VEVENT
DTSTART;TZID=America/New_York:20260402T150000
DTEND;TZID=America/New_York:20260402T153000
DTSTAMP:20260422T222950
CREATED:20260328T155641Z
LAST-MODIFIED:20260330T132751Z
UID:10008583-1775142000-1775143800@www.osc.org
SUMMARY:Superpowered Science
DESCRIPTION:Uncover the secrets behind some of your favorite superpowers through the antics of a supervillain in training!
URL:https://www.osc.org/event/superpowered-science-92/
LOCATION:Discovery Stage – Level 4
CATEGORIES:Science Live Schedule
ATTACH;FMTTYPE=image/jpeg:https://www.osc.org/wp-content/uploads/2025/05/Superpowered-Science_1080x608.jpg
END:VEVENT
BEGIN:VEVENT
DTSTART;TZID=America/New_York:20260403T100000
DTEND;TZID=America/New_York:20260403T170000
DTSTAMP:20260422T222950
CREATED:20260329T131947Z
LAST-MODIFIED:20260331T145404Z
UID:10008791-1775210400-1775235600@www.osc.org
SUMMARY:Self-guided Maker Activities
DESCRIPTION:Utilize green screen technology to transport yourselves to any setting imaginable. Get hands-on with creativity as you design and craft your own props using your movie budget\, bringing your cinematic visions to life! For Makers 8+
URL:https://www.osc.org/event/self-guided-maker-activities-54/
LOCATION:The Hive – Level 3
CATEGORIES:Science Live Schedule
ATTACH;FMTTYPE=image/jpeg:https://www.osc.org/wp-content/uploads/2026/03/Untitled-design-3-3.jpg
GEO:28.57228;-81.368341
END:VEVENT
BEGIN:VEVENT
DTSTART;TZID=America/New_York:20260403T120000
DTEND;TZID=America/New_York:20260403T123000
DTSTAMP:20260422T222950
CREATED:20260328T155710Z
LAST-MODIFIED:20260328T174822Z
UID:10008585-1775217600-1775219400@www.osc.org
SUMMARY:Cool Science
DESCRIPTION:Learn about the science of extreme cold with liquid nitrogen demonstrations!
URL:https://www.osc.org/event/cool-science-7/
LOCATION:Discovery Stage – Level 4
CATEGORIES:Science Live Schedule
ATTACH;FMTTYPE=image/png:https://www.osc.org/wp-content/uploads/2025/06/Cool-Science.png
END:VEVENT
BEGIN:VEVENT
DTSTART;TZID=America/New_York:20260403T120000
DTEND;TZID=America/New_York:20260403T150000
DTSTAMP:20260422T222950
CREATED:20260328T174752Z
LAST-MODIFIED:20260328T174752Z
UID:10008777-1775217600-1775228400@www.osc.org
SUMMARY:Self-guided Experiments: Nature Experiments
DESCRIPTION:Investigate nature up close with wildlife and nature themed experiments.
URL:https://www.osc.org/event/self-guided-experiments-nature-experiments-15/
LOCATION:Dr. Dare’s Lab – Level 4
CATEGORIES:Science Live Schedule
ATTACH;FMTTYPE=image/png:https://www.osc.org/wp-content/uploads/2019/11/Dr.-Dares-Lab.png
END:VEVENT
BEGIN:VEVENT
DTSTART;TZID=America/New_York:20260403T133000
DTEND;TZID=America/New_York:20260403T140000
DTSTAMP:20260422T222950
CREATED:20260328T155711Z
LAST-MODIFIED:20260328T174822Z
UID:10008586-1775223000-1775224800@www.osc.org
SUMMARY:Mummies Unwrapped
DESCRIPTION:Join our royal embalmer on a journey through the mummification processes used in Ancient Egypt! In this show\, we will learn about how chemistry was used to preserve mummies for centuries to come. Recommended for ages 6+
URL:https://www.osc.org/event/mummies-unwrapped-70/
LOCATION:Discovery Stage – Level 4
CATEGORIES:Science Live Schedule
ATTACH;FMTTYPE=image/jpeg:https://www.osc.org/wp-content/uploads/2026/02/Image-20-scaled-e1770302411699-A0jPcU.jpg
END:VEVENT
BEGIN:VEVENT
DTSTART;TZID=America/New_York:20260403T150000
DTEND;TZID=America/New_York:20260403T153000
DTSTAMP:20260422T222950
CREATED:20260328T155711Z
LAST-MODIFIED:20260330T132757Z
UID:10008587-1775228400-1775230200@www.osc.org
SUMMARY:Superpowered Science
DESCRIPTION:Uncover the secrets behind some of your favorite superpowers through the antics of a supervillain in training!
URL:https://www.osc.org/event/superpowered-science-93/
LOCATION:Discovery Stage – Level 4
CATEGORIES:Science Live Schedule
ATTACH;FMTTYPE=image/jpeg:https://www.osc.org/wp-content/uploads/2025/05/Superpowered-Science_1080x608.jpg
END:VEVENT
BEGIN:VEVENT
DTSTART;TZID=America/New_York:20260404T100000
DTEND;TZID=America/New_York:20260404T170000
DTSTAMP:20260422T222950
CREATED:20260329T131947Z
LAST-MODIFIED:20260331T145404Z
UID:10008792-1775296800-1775322000@www.osc.org
SUMMARY:Self-guided Maker Activities
DESCRIPTION:Utilize green screen technology to transport yourselves to any setting imaginable. Get hands-on with creativity as you design and craft your own props using your movie budget\, bringing your cinematic visions to life! For Makers 8+
URL:https://www.osc.org/event/self-guided-maker-activities-55/
LOCATION:The Hive – Level 3
CATEGORIES:Science Live Schedule
ATTACH;FMTTYPE=image/jpeg:https://www.osc.org/wp-content/uploads/2026/03/Untitled-design-3-3.jpg
GEO:28.57228;-81.368341
END:VEVENT
BEGIN:VEVENT
DTSTART;TZID=America/New_York:20260404T110000
DTEND;TZID=America/New_York:20260404T130000
DTSTAMP:20260422T222950
CREATED:20260328T160810Z
LAST-MODIFIED:20260402T175509Z
UID:10008649-1775300400-1775307600@www.osc.org
SUMMARY:Virtual Nature Trail
DESCRIPTION:Go on a scavenger hunt walking tour in the Virtual UCF Arboretum to learn more about our local flora!
URL:https://www.osc.org/event/nature-lab/
LOCATION:Flight Lab – Level 4
CATEGORIES:Science Live Schedule
ATTACH;FMTTYPE=image/png:https://www.osc.org/wp-content/uploads/2026/04/Nine-Years-of-Innovation-and-Research-through-the-Virtual-UCF-Arboretum-Nicholson-School-of-Communication-and-Media.png
END:VEVENT
END:VCALENDAR