BEGIN:VCALENDAR
VERSION:2.0
PRODID:-//Orlando Science Center - ECPv6.15.20//NONSGML v1.0//EN
CALSCALE:GREGORIAN
METHOD:PUBLISH
X-ORIGINAL-URL:https://www.osc.org
X-WR-CALDESC:Events for Orlando Science Center
REFRESH-INTERVAL;VALUE=DURATION:PT1H
X-Robots-Tag:noindex
X-PUBLISHED-TTL:PT1H
BEGIN:VTIMEZONE
TZID:America/New_York
BEGIN:DAYLIGHT
TZOFFSETFROM:-0500
TZOFFSETTO:-0400
TZNAME:EDT
DTSTART:20250309T070000
END:DAYLIGHT
BEGIN:STANDARD
TZOFFSETFROM:-0400
TZOFFSETTO:-0500
TZNAME:EST
DTSTART:20251102T060000
END:STANDARD
BEGIN:DAYLIGHT
TZOFFSETFROM:-0500
TZOFFSETTO:-0400
TZNAME:EDT
DTSTART:20260308T070000
END:DAYLIGHT
BEGIN:STANDARD
TZOFFSETFROM:-0400
TZOFFSETTO:-0500
TZNAME:EST
DTSTART:20261101T060000
END:STANDARD
BEGIN:DAYLIGHT
TZOFFSETFROM:-0500
TZOFFSETTO:-0400
TZNAME:EDT
DTSTART:20270314T070000
END:DAYLIGHT
BEGIN:STANDARD
TZOFFSETFROM:-0400
TZOFFSETTO:-0500
TZNAME:EST
DTSTART:20271107T060000
END:STANDARD
END:VTIMEZONE
BEGIN:VEVENT
DTSTART;TZID=America/New_York:20260423T100000
DTEND;TZID=America/New_York:20260423T170000
DTSTAMP:20260421T225016
CREATED:20260329T132120Z
LAST-MODIFIED:20260331T145614Z
UID:10008812-1776938400-1776963600@www.osc.org
SUMMARY:Self-guided Maker Activities
DESCRIPTION:Utilize green screen technology to transport yourselves to any setting imaginable. Get hands-on with creativity as you design and craft your own props using your movie budget\, bringing your cinematic visions to life! For Makers 8+
URL:https://www.osc.org/event/self-guided-maker-activities-70/
LOCATION:The Hive – Level 3
CATEGORIES:Science Live Schedule
ATTACH;FMTTYPE=image/jpeg:https://www.osc.org/wp-content/uploads/2026/03/Untitled-design-3-3.jpg
GEO:28.57228;-81.368341
END:VEVENT
BEGIN:VEVENT
DTSTART;TZID=America/New_York:20260423T120000
DTEND;TZID=America/New_York:20260423T123000
DTSTAMP:20260421T225016
CREATED:20260328T160111Z
LAST-MODIFIED:20260328T160111Z
UID:10008629-1776945600-1776947400@www.osc.org
SUMMARY:Cool Science
DESCRIPTION:Learn about the science of extreme cold with liquid nitrogen demonstrations!
URL:https://www.osc.org/event/cool-science-29/
LOCATION:Discovery Stage – Level 4
CATEGORIES:Science Live Schedule
ATTACH;FMTTYPE=image/png:https://www.osc.org/wp-content/uploads/2025/06/Cool-Science.png
END:VEVENT
BEGIN:VEVENT
DTSTART;TZID=America/New_York:20260423T120000
DTEND;TZID=America/New_York:20260423T150000
DTSTAMP:20260421T225016
CREATED:20260421T135029Z
LAST-MODIFIED:20260421T135048Z
UID:10008870-1776945600-1776956400@www.osc.org
SUMMARY:Self-guided Experiments: Nature Experiments
DESCRIPTION:Investigate nature up close with wildlife and nature themed experiments.
URL:https://www.osc.org/event/self-guided-experiments-nature-experiments-25/
LOCATION:Dr. Dare’s Lab – Level 4
CATEGORIES:Science Live Schedule
ATTACH;FMTTYPE=image/png:https://www.osc.org/wp-content/uploads/2019/11/Dr.-Dares-Lab.png
END:VEVENT
BEGIN:VEVENT
DTSTART;TZID=America/New_York:20260423T133000
DTEND;TZID=America/New_York:20260423T140000
DTSTAMP:20260421T225016
CREATED:20260328T160141Z
LAST-MODIFIED:20260328T160141Z
UID:10008630-1776951000-1776952800@www.osc.org
SUMMARY:Mummies Unwrapped
DESCRIPTION:Join our royal embalmer on a journey through the mummification processes used in Ancient Egypt! In this show\, we will learn about how chemistry was used to preserve mummies for centuries to come. Recommended for ages 6+
URL:https://www.osc.org/event/mummies-unwrapped-81/
LOCATION:Discovery Stage – Level 4
CATEGORIES:Science Live Schedule
ATTACH;FMTTYPE=image/jpeg:https://www.osc.org/wp-content/uploads/2026/02/Image-20-scaled-e1770302411699-A0jPcU.jpg
END:VEVENT
BEGIN:VEVENT
DTSTART;TZID=America/New_York:20260423T150000
DTEND;TZID=America/New_York:20260423T153000
DTSTAMP:20260421T225016
CREATED:20260328T160141Z
LAST-MODIFIED:20260330T132906Z
UID:10008631-1776956400-1776958200@www.osc.org
SUMMARY:Superpowered Science
DESCRIPTION:Uncover the secrets behind some of your favorite superpowers through the antics of a supervillain in training!
URL:https://www.osc.org/event/superpowered-science-104/
LOCATION:Discovery Stage – Level 4
CATEGORIES:Science Live Schedule
ATTACH;FMTTYPE=image/jpeg:https://www.osc.org/wp-content/uploads/2025/05/Superpowered-Science_1080x608.jpg
END:VEVENT
BEGIN:VEVENT
DTSTART;TZID=America/New_York:20260424T100000
DTEND;TZID=America/New_York:20260424T170000
DTSTAMP:20260421T225016
CREATED:20260329T132121Z
LAST-MODIFIED:20260331T145614Z
UID:10008813-1777024800-1777050000@www.osc.org
SUMMARY:Self-guided Maker Activities
DESCRIPTION:Utilize green screen technology to transport yourselves to any setting imaginable. Get hands-on with creativity as you design and craft your own props using your movie budget\, bringing your cinematic visions to life! For Makers 8+
URL:https://www.osc.org/event/self-guided-maker-activities-71/
LOCATION:The Hive – Level 3
CATEGORIES:Science Live Schedule
ATTACH;FMTTYPE=image/jpeg:https://www.osc.org/wp-content/uploads/2026/03/Untitled-design-3-3.jpg
GEO:28.57228;-81.368341
END:VEVENT
BEGIN:VEVENT
DTSTART;TZID=America/New_York:20260424T110000
DTEND;TZID=America/New_York:20260424T130000
DTSTAMP:20260421T225016
CREATED:20260328T173712Z
LAST-MODIFIED:20260402T175454Z
UID:10008720-1777028400-1777035600@www.osc.org
SUMMARY:Virtual Nature Trail
DESCRIPTION:Go on a scavenger hunt walking tour in the Virtual UCF Arboretum to learn more about our local flora!
URL:https://www.osc.org/event/nature-lab-7/
LOCATION:Flight Lab – Level 4
CATEGORIES:Science Live Schedule
ATTACH;FMTTYPE=image/png:https://www.osc.org/wp-content/uploads/2026/04/Nine-Years-of-Innovation-and-Research-through-the-Virtual-UCF-Arboretum-Nicholson-School-of-Communication-and-Media.png
END:VEVENT
BEGIN:VEVENT
DTSTART;TZID=America/New_York:20260424T110000
DTEND;TZID=America/New_York:20260424T170000
DTSTAMP:20260421T225016
CREATED:20260328T173712Z
LAST-MODIFIED:20260328T173712Z
UID:10008719-1777028400-1777050000@www.osc.org
SUMMARY:Self-guided Experiments: Nature Experiments
DESCRIPTION:Investigate nature up close with wildlife and nature themed experiments.
URL:https://www.osc.org/event/self-guided-experiments-nature-experiments-7/
LOCATION:Dr. Dare’s Lab – Level 4
CATEGORIES:Science Live Schedule
ATTACH;FMTTYPE=image/png:https://www.osc.org/wp-content/uploads/2019/11/Dr.-Dares-Lab.png
END:VEVENT
BEGIN:VEVENT
DTSTART;TZID=America/New_York:20260424T120000
DTEND;TZID=America/New_York:20260424T123000
DTSTAMP:20260421T225016
CREATED:20260328T173712Z
LAST-MODIFIED:20260328T173712Z
UID:10008721-1777032000-1777033800@www.osc.org
SUMMARY:Cool Science
DESCRIPTION:Learn about the science of extreme cold with liquid nitrogen demonstrations!
URL:https://www.osc.org/event/cool-science-59/
LOCATION:Discovery Stage – Level 4
CATEGORIES:Science Live Schedule
ATTACH;FMTTYPE=image/png:https://www.osc.org/wp-content/uploads/2025/06/Cool-Science.png
END:VEVENT
BEGIN:VEVENT
DTSTART;TZID=America/New_York:20260424T130000
DTEND;TZID=America/New_York:20260424T133000
DTSTAMP:20260421T225016
CREATED:20260328T173712Z
LAST-MODIFIED:20260328T173712Z
UID:10008722-1777035600-1777037400@www.osc.org
SUMMARY:KABOOM
DESCRIPTION:Explore the science of combustion in this explosive live show featuring colorful chemistry! Recommended for ages 6+
URL:https://www.osc.org/event/kaboom-34/
LOCATION:Digital Adventure Theater – Level 2
CATEGORIES:Science Live Schedule
ATTACH;FMTTYPE=image/jpeg:https://www.osc.org/wp-content/uploads/2025/09/Untitled-design.jpg
GEO:28.57228;-81.368341
END:VEVENT
BEGIN:VEVENT
DTSTART;TZID=America/New_York:20260424T130000
DTEND;TZID=America/New_York:20260424T133000
DTSTAMP:20260421T225016
CREATED:20260328T173741Z
LAST-MODIFIED:20260328T173741Z
UID:10008723-1777035600-1777037400@www.osc.org
SUMMARY:Mummies Unwrapped
DESCRIPTION:Join our royal embalmer on a journey through the mummification processes used in Ancient Egypt! In this show\, we will learn about how chemistry was used to preserve mummies for centuries to come. Recommended for ages 6+
URL:https://www.osc.org/event/mummies-unwrapped-98/
LOCATION:Discovery Stage – Level 4
CATEGORIES:Science Live Schedule
ATTACH;FMTTYPE=image/jpeg:https://www.osc.org/wp-content/uploads/2026/02/Image-20-scaled-e1770302411699-A0jPcU.jpg
END:VEVENT
BEGIN:VEVENT
DTSTART;TZID=America/New_York:20260424T133000
DTEND;TZID=America/New_York:20260424T143000
DTSTAMP:20260421T225016
CREATED:20260328T173742Z
LAST-MODIFIED:20260328T173742Z
UID:10008724-1777037400-1777041000@www.osc.org
SUMMARY:Coding Lab
DESCRIPTION:Grow your coding skills as a team member leads you through programming loops\, functions\, and more in a farming-based coding game.
URL:https://www.osc.org/event/coding-lab-28/
LOCATION:Flight Lab – Level 4
CATEGORIES:Science Live Schedule
ATTACH;FMTTYPE=image/png:https://www.osc.org/wp-content/uploads/2024/09/Coding-Lab_1080x608-1.png
END:VEVENT
BEGIN:VEVENT
DTSTART;TZID=America/New_York:20260424T140000
DTEND;TZID=America/New_York:20260424T143000
DTSTAMP:20260421T225016
CREATED:20260328T173742Z
LAST-MODIFIED:20260328T173742Z
UID:10008725-1777039200-1777041000@www.osc.org
SUMMARY:Powers of Pokémon
DESCRIPTION:Who’s that Pokémon?? Dive into the science behind some of your favorite Pokémon powers with live demonstrations!
URL:https://www.osc.org/event/powers-of-pokemon-36/
LOCATION:Digital Adventure Theater – Level 2
CATEGORIES:Science Live Schedule
ATTACH;FMTTYPE=image/jpeg:https://www.osc.org/wp-content/uploads/2025/05/Powers-of-Pokemon_1080x608.jpg
GEO:28.57228;-81.368341
END:VEVENT
BEGIN:VEVENT
DTSTART;TZID=America/New_York:20260424T140000
DTEND;TZID=America/New_York:20260424T143000
DTSTAMP:20260421T225016
CREATED:20260328T173742Z
LAST-MODIFIED:20260328T173742Z
UID:10008726-1777039200-1777041000@www.osc.org
SUMMARY:Superpowered Science
DESCRIPTION:Uncover the secrets behind some of your favorite superpowers through the antics of a supervillain in training!
URL:https://www.osc.org/event/superpowered-science-115/
LOCATION:Discovery Stage – Level 4
CATEGORIES:Science Live Schedule
ATTACH;FMTTYPE=image/jpeg:https://www.osc.org/wp-content/uploads/2025/05/Superpowered-Science_1080x608.jpg
END:VEVENT
BEGIN:VEVENT
DTSTART;TZID=America/New_York:20260424T150000
DTEND;TZID=America/New_York:20260424T153000
DTSTAMP:20260421T225016
CREATED:20260328T173811Z
LAST-MODIFIED:20260328T173811Z
UID:10008728-1777042800-1777044600@www.osc.org
SUMMARY:Cool Science
DESCRIPTION:Learn about the science of extreme cold with liquid nitrogen demonstrations!
URL:https://www.osc.org/event/cool-science-60/
LOCATION:Discovery Stage – Level 4
CATEGORIES:Science Live Schedule
ATTACH;FMTTYPE=image/png:https://www.osc.org/wp-content/uploads/2025/06/Cool-Science.png
END:VEVENT
BEGIN:VEVENT
DTSTART;TZID=America/New_York:20260424T150000
DTEND;TZID=America/New_York:20260424T170000
DTSTAMP:20260421T225016
CREATED:20260328T173742Z
LAST-MODIFIED:20260328T173742Z
UID:10008727-1777042800-1777050000@www.osc.org
SUMMARY:Space Flight
DESCRIPTION:Fly through the galaxy and explore stars\, planets\, asteroids\, and everything our universe has to offer! Recommended for ages 8+
URL:https://www.osc.org/event/space-flight-42/
LOCATION:Flight Lab – Level 4
CATEGORIES:Science Live Schedule
ATTACH;FMTTYPE=image/png:https://www.osc.org/wp-content/uploads/2022/12/Space-Flight_1080x608.png
END:VEVENT
BEGIN:VEVENT
DTSTART;TZID=America/New_York:20260424T160000
DTEND;TZID=America/New_York:20260424T163000
DTSTAMP:20260421T225016
CREATED:20260328T173812Z
LAST-MODIFIED:20260328T173812Z
UID:10008729-1777046400-1777048200@www.osc.org
SUMMARY:Mummies Unwrapped
DESCRIPTION:Join our royal embalmer on a journey through the mummification processes used in Ancient Egypt! In this show\, we will learn about how chemistry was used to preserve mummies for centuries to come. Recommended for ages 6+
URL:https://www.osc.org/event/mummies-unwrapped-99/
LOCATION:Discovery Stage – Level 4
CATEGORIES:Science Live Schedule
ATTACH;FMTTYPE=image/jpeg:https://www.osc.org/wp-content/uploads/2026/02/Image-20-scaled-e1770302411699-A0jPcU.jpg
END:VEVENT
BEGIN:VEVENT
DTSTART;TZID=America/New_York:20260425T100000
DTEND;TZID=America/New_York:20260425T150000
DTSTAMP:20260421T225016
CREATED:20260329T132121Z
LAST-MODIFIED:20260421T130431Z
UID:10008814-1777111200-1777129200@www.osc.org
SUMMARY:Self-guided Maker Activities
DESCRIPTION:Utilize green screen technology to transport yourselves to any setting imaginable. Get hands-on with creativity as you design and craft your own props using your movie budget\, bringing your cinematic visions to life! For Makers 8+
URL:https://www.osc.org/event/self-guided-maker-activities-72/
LOCATION:The Hive – Level 3
CATEGORIES:Science Live Schedule
ATTACH;FMTTYPE=image/jpeg:https://www.osc.org/wp-content/uploads/2026/03/Untitled-design-3-3.jpg
GEO:28.57228;-81.368341
END:VEVENT
BEGIN:VEVENT
DTSTART;TZID=America/New_York:20260425T110000
DTEND;TZID=America/New_York:20260425T143000
DTSTAMP:20260421T225016
CREATED:20260329T132150Z
LAST-MODIFIED:20260421T132439Z
UID:10008815-1777114800-1777127400@www.osc.org
SUMMARY:DIY Woodburning
DESCRIPTION:Create your own pyrography art! Sessions run every 30 minutes. Tickets are available in The Hive up to one hour before each session. For Makers 8+
URL:https://www.osc.org/event/diy-woodburning-35/
LOCATION:The Hive – Level 3
CATEGORIES:Science Live Schedule
ATTACH;FMTTYPE=image/png:https://www.osc.org/wp-content/uploads/2025/01/Origami_1080x608.png
GEO:28.57228;-81.368341
END:VEVENT
BEGIN:VEVENT
DTSTART;TZID=America/New_York:20260425T130000
DTEND;TZID=America/New_York:20260425T133000
DTSTAMP:20260421T225016
CREATED:20260328T173841Z
LAST-MODIFIED:20260328T173841Z
UID:10008733-1777122000-1777123800@www.osc.org
SUMMARY:KABOOM
DESCRIPTION:Explore the science of combustion in this explosive live show featuring colorful chemistry! Recommended for ages 6+
URL:https://www.osc.org/event/kaboom-35/
LOCATION:Digital Adventure Theater – Level 2
CATEGORIES:Science Live Schedule
ATTACH;FMTTYPE=image/jpeg:https://www.osc.org/wp-content/uploads/2025/09/Untitled-design.jpg
GEO:28.57228;-81.368341
END:VEVENT
BEGIN:VEVENT
DTSTART;TZID=America/New_York:20260425T140000
DTEND;TZID=America/New_York:20260425T143000
DTSTAMP:20260421T225016
CREATED:20260328T173842Z
LAST-MODIFIED:20260328T173842Z
UID:10008736-1777125600-1777127400@www.osc.org
SUMMARY:Powers of Pokémon
DESCRIPTION:Who’s that Pokémon?? Dive into the science behind some of your favorite Pokémon powers with live demonstrations!
URL:https://www.osc.org/event/powers-of-pokemon-37/
LOCATION:Digital Adventure Theater – Level 2
CATEGORIES:Science Live Schedule
ATTACH;FMTTYPE=image/jpeg:https://www.osc.org/wp-content/uploads/2025/05/Powers-of-Pokemon_1080x608.jpg
GEO:28.57228;-81.368341
END:VEVENT
BEGIN:VEVENT
DTSTART;TZID=America/New_York:20260426T100000
DTEND;TZID=America/New_York:20260426T170000
DTSTAMP:20260421T225016
CREATED:20260329T132150Z
LAST-MODIFIED:20260331T145644Z
UID:10008816-1777197600-1777222800@www.osc.org
SUMMARY:Self-guided Maker Activities
DESCRIPTION:Utilize green screen technology to transport yourselves to any setting imaginable. Get hands-on with creativity as you design and craft your own props using your movie budget\, bringing your cinematic visions to life! For Makers 8+
URL:https://www.osc.org/event/self-guided-maker-activities-73/
LOCATION:The Hive – Level 3
CATEGORIES:Science Live Schedule
ATTACH;FMTTYPE=image/jpeg:https://www.osc.org/wp-content/uploads/2026/03/Untitled-design-3-3.jpg
GEO:28.57228;-81.368341
END:VEVENT
BEGIN:VEVENT
DTSTART;TZID=America/New_York:20260426T110000
DTEND;TZID=America/New_York:20260426T130000
DTSTAMP:20260421T225016
CREATED:20260328T173912Z
LAST-MODIFIED:20260402T175444Z
UID:10008742-1777201200-1777208400@www.osc.org
SUMMARY:Virtual Nature Trail
DESCRIPTION:Go on a scavenger hunt walking tour in the Virtual UCF Arboretum to learn more about our local flora!
URL:https://www.osc.org/event/nature-lab-9/
LOCATION:Flight Lab – Level 4
CATEGORIES:Science Live Schedule
ATTACH;FMTTYPE=image/png:https://www.osc.org/wp-content/uploads/2026/04/Nine-Years-of-Innovation-and-Research-through-the-Virtual-UCF-Arboretum-Nicholson-School-of-Communication-and-Media.png
END:VEVENT
BEGIN:VEVENT
DTSTART;TZID=America/New_York:20260426T110000
DTEND;TZID=America/New_York:20260426T153000
DTSTAMP:20260421T225016
CREATED:20260329T132150Z
LAST-MODIFIED:20260331T145644Z
UID:10008817-1777201200-1777217400@www.osc.org
SUMMARY:DIY Woodburning
DESCRIPTION:Create your own pyrography art! Sessions run every 30 minutes. Tickets are available in The Hive up to one hour before each session. For Makers 8+
URL:https://www.osc.org/event/diy-woodburning-36/
LOCATION:The Hive – Level 3
CATEGORIES:Science Live Schedule
ATTACH;FMTTYPE=image/png:https://www.osc.org/wp-content/uploads/2025/01/Origami_1080x608.png
GEO:28.57228;-81.368341
END:VEVENT
BEGIN:VEVENT
DTSTART;TZID=America/New_York:20260426T110000
DTEND;TZID=America/New_York:20260426T170000
DTSTAMP:20260421T225016
CREATED:20260328T173912Z
LAST-MODIFIED:20260328T173912Z
UID:10008741-1777201200-1777222800@www.osc.org
SUMMARY:Self-guided Experiments: Nature Experiments
DESCRIPTION:Investigate nature up close with wildlife and nature themed experiments.
URL:https://www.osc.org/event/self-guided-experiments-nature-experiments-9/
LOCATION:Dr. Dare’s Lab – Level 4
CATEGORIES:Science Live Schedule
ATTACH;FMTTYPE=image/png:https://www.osc.org/wp-content/uploads/2019/11/Dr.-Dares-Lab.png
END:VEVENT
BEGIN:VEVENT
DTSTART;TZID=America/New_York:20260426T120000
DTEND;TZID=America/New_York:20260426T123000
DTSTAMP:20260421T225016
CREATED:20260328T173942Z
LAST-MODIFIED:20260328T173942Z
UID:10008743-1777204800-1777206600@www.osc.org
SUMMARY:Cool Science
DESCRIPTION:Learn about the science of extreme cold with liquid nitrogen demonstrations!
URL:https://www.osc.org/event/cool-science-64/
LOCATION:Discovery Stage – Level 4
CATEGORIES:Science Live Schedule
ATTACH;FMTTYPE=image/png:https://www.osc.org/wp-content/uploads/2025/06/Cool-Science.png
END:VEVENT
BEGIN:VEVENT
DTSTART;TZID=America/New_York:20260426T130000
DTEND;TZID=America/New_York:20260426T133000
DTSTAMP:20260421T225016
CREATED:20260328T173942Z
LAST-MODIFIED:20260328T173942Z
UID:10008744-1777208400-1777210200@www.osc.org
SUMMARY:KABOOM
DESCRIPTION:Explore the science of combustion in this explosive live show featuring colorful chemistry! Recommended for ages 6+
URL:https://www.osc.org/event/kaboom-36/
LOCATION:Digital Adventure Theater – Level 2
CATEGORIES:Science Live Schedule
ATTACH;FMTTYPE=image/jpeg:https://www.osc.org/wp-content/uploads/2025/09/Untitled-design.jpg
GEO:28.57228;-81.368341
END:VEVENT
BEGIN:VEVENT
DTSTART;TZID=America/New_York:20260426T130000
DTEND;TZID=America/New_York:20260426T133000
DTSTAMP:20260421T225016
CREATED:20260328T173943Z
LAST-MODIFIED:20260328T173943Z
UID:10008745-1777208400-1777210200@www.osc.org
SUMMARY:Mummies Unwrapped
DESCRIPTION:Join our royal embalmer on a journey through the mummification processes used in Ancient Egypt! In this show\, we will learn about how chemistry was used to preserve mummies for centuries to come. Recommended for ages 6+
URL:https://www.osc.org/event/mummies-unwrapped-102/
LOCATION:Discovery Stage – Level 4
CATEGORIES:Science Live Schedule
ATTACH;FMTTYPE=image/jpeg:https://www.osc.org/wp-content/uploads/2026/02/Image-20-scaled-e1770302411699-A0jPcU.jpg
END:VEVENT
BEGIN:VEVENT
DTSTART;TZID=America/New_York:20260426T133000
DTEND;TZID=America/New_York:20260426T143000
DTSTAMP:20260421T225016
CREATED:20260328T173943Z
LAST-MODIFIED:20260328T173943Z
UID:10008746-1777210200-1777213800@www.osc.org
SUMMARY:Coding Lab
DESCRIPTION:Grow your coding skills as a team member leads you through programming loops\, functions\, and more in a farming-based coding game.
URL:https://www.osc.org/event/coding-lab-30/
LOCATION:Flight Lab – Level 4
CATEGORIES:Science Live Schedule
ATTACH;FMTTYPE=image/png:https://www.osc.org/wp-content/uploads/2024/09/Coding-Lab_1080x608-1.png
END:VEVENT
BEGIN:VEVENT
DTSTART;TZID=America/New_York:20260426T140000
DTEND;TZID=America/New_York:20260426T143000
DTSTAMP:20260421T225016
CREATED:20260328T173943Z
LAST-MODIFIED:20260328T173943Z
UID:10008747-1777212000-1777213800@www.osc.org
SUMMARY:Powers of Pokémon
DESCRIPTION:Who’s that Pokémon?? Dive into the science behind some of your favorite Pokémon powers with live demonstrations!
URL:https://www.osc.org/event/powers-of-pokemon-38/
LOCATION:Digital Adventure Theater – Level 2
CATEGORIES:Science Live Schedule
ATTACH;FMTTYPE=image/jpeg:https://www.osc.org/wp-content/uploads/2025/05/Powers-of-Pokemon_1080x608.jpg
GEO:28.57228;-81.368341
END:VEVENT
END:VCALENDAR