BEGIN:VCALENDAR
VERSION:2.0
PRODID:-//Orlando Science Center - ECPv6.15.20//NONSGML v1.0//EN
CALSCALE:GREGORIAN
METHOD:PUBLISH
X-ORIGINAL-URL:https://www.osc.org
X-WR-CALDESC:Events for Orlando Science Center
REFRESH-INTERVAL;VALUE=DURATION:PT1H
X-Robots-Tag:noindex
X-PUBLISHED-TTL:PT1H
BEGIN:VTIMEZONE
TZID:America/New_York
BEGIN:DAYLIGHT
TZOFFSETFROM:-0500
TZOFFSETTO:-0400
TZNAME:EDT
DTSTART:20250309T070000
END:DAYLIGHT
BEGIN:STANDARD
TZOFFSETFROM:-0400
TZOFFSETTO:-0500
TZNAME:EST
DTSTART:20251102T060000
END:STANDARD
BEGIN:DAYLIGHT
TZOFFSETFROM:-0500
TZOFFSETTO:-0400
TZNAME:EDT
DTSTART:20260308T070000
END:DAYLIGHT
BEGIN:STANDARD
TZOFFSETFROM:-0400
TZOFFSETTO:-0500
TZNAME:EST
DTSTART:20261101T060000
END:STANDARD
BEGIN:DAYLIGHT
TZOFFSETFROM:-0500
TZOFFSETTO:-0400
TZNAME:EDT
DTSTART:20270314T070000
END:DAYLIGHT
BEGIN:STANDARD
TZOFFSETFROM:-0400
TZOFFSETTO:-0500
TZNAME:EST
DTSTART:20271107T060000
END:STANDARD
END:VTIMEZONE
BEGIN:VEVENT
DTSTART;VALUE=DATE:20260422
DTEND;VALUE=DATE:20260423
DTSTAMP:20260422T160144
CREATED:20251226T220043Z
LAST-MODIFIED:20251226T220043Z
UID:10006997-1776816000-1776902399@www.osc.org
SUMMARY:Closed / Cerrado
DESCRIPTION:Reserve your timed-entry tickets online in advance.
URL:https://www.osc.org/event/closed-cerrado-26/
LOCATION:Orlando Science Center
CATEGORIES:Building Hours
ATTACH;FMTTYPE=image/jpeg:https://www.osc.org/wp-content/uploads/2020/10/OSC-Closed-Building_1080x608.jpg
GEO:28.57228;-81.368341
END:VEVENT
BEGIN:VEVENT
DTSTART;TZID=America/New_York:20260423T100000
DTEND;TZID=America/New_York:20260423T170000
DTSTAMP:20260422T160144
CREATED:20251226T220043Z
LAST-MODIFIED:20251226T220043Z
UID:10006998-1776938400-1776963600@www.osc.org
SUMMARY:Today's Hours
DESCRIPTION:Reserve your timed-entry tickets online in advance.
URL:https://www.osc.org/event/todays-hours-93/
LOCATION:Orlando Science Center
CATEGORIES:Building Hours
ATTACH;FMTTYPE=image/jpeg:https://www.osc.org/wp-content/uploads/2022/07/Orlando-Science-Center-Building-Day_1080x608.jpg
GEO:28.57228;-81.368341
END:VEVENT
BEGIN:VEVENT
DTSTART;TZID=America/New_York:20260424T100000
DTEND;TZID=America/New_York:20260424T170000
DTSTAMP:20260422T160144
CREATED:20251226T220044Z
LAST-MODIFIED:20251226T220044Z
UID:10006999-1777024800-1777050000@www.osc.org
SUMMARY:Today's Hours
DESCRIPTION:Reserve your timed-entry tickets online in advance.
URL:https://www.osc.org/event/todays-hours-94/
LOCATION:Orlando Science Center
CATEGORIES:Building Hours
ATTACH;FMTTYPE=image/jpeg:https://www.osc.org/wp-content/uploads/2022/07/Orlando-Science-Center-Building-Day_1080x608.jpg
GEO:28.57228;-81.368341
END:VEVENT
BEGIN:VEVENT
DTSTART;TZID=America/New_York:20260425T100000
DTEND;TZID=America/New_York:20260425T150000
DTSTAMP:20260422T160144
CREATED:20251226T220044Z
LAST-MODIFIED:20260128T215223Z
UID:10007000-1777111200-1777129200@www.osc.org
SUMMARY:Today's Hours
DESCRIPTION:Reserve your timed-entry tickets online in advance.
URL:https://www.osc.org/event/todays-hours-95/
LOCATION:Orlando Science Center
CATEGORIES:Building Hours
ATTACH;FMTTYPE=image/jpeg:https://www.osc.org/wp-content/uploads/2022/07/Orlando-Science-Center-Building-Day_1080x608.jpg
GEO:28.57228;-81.368341
END:VEVENT
BEGIN:VEVENT
DTSTART;TZID=America/New_York:20260426T100000
DTEND;TZID=America/New_York:20260426T170000
DTSTAMP:20260422T160144
CREATED:20251226T220046Z
LAST-MODIFIED:20251226T220046Z
UID:10007001-1777197600-1777222800@www.osc.org
SUMMARY:Today's Hours
DESCRIPTION:Reserve your timed-entry tickets online in advance.
URL:https://www.osc.org/event/todays-hours-96/
LOCATION:Orlando Science Center
CATEGORIES:Building Hours
ATTACH;FMTTYPE=image/jpeg:https://www.osc.org/wp-content/uploads/2022/07/Orlando-Science-Center-Building-Day_1080x608.jpg
GEO:28.57228;-81.368341
END:VEVENT
BEGIN:VEVENT
DTSTART;TZID=America/New_York:20260427T100000
DTEND;TZID=America/New_York:20260427T170000
DTSTAMP:20260422T160144
CREATED:20251226T220046Z
LAST-MODIFIED:20251226T220046Z
UID:10007002-1777284000-1777309200@www.osc.org
SUMMARY:Today's Hours
DESCRIPTION:Reserve your timed-entry tickets online in advance.
URL:https://www.osc.org/event/todays-hours-97/
LOCATION:Orlando Science Center
CATEGORIES:Building Hours
ATTACH;FMTTYPE=image/jpeg:https://www.osc.org/wp-content/uploads/2022/07/Orlando-Science-Center-Building-Day_1080x608.jpg
GEO:28.57228;-81.368341
END:VEVENT
BEGIN:VEVENT
DTSTART;TZID=America/New_York:20260428T100000
DTEND;TZID=America/New_York:20260428T170000
DTSTAMP:20260422T160144
CREATED:20251226T220046Z
LAST-MODIFIED:20251226T220046Z
UID:10007003-1777370400-1777395600@www.osc.org
SUMMARY:Today's Hours
DESCRIPTION:Reserve your timed-entry tickets online in advance.
URL:https://www.osc.org/event/todays-hours-98/
LOCATION:Orlando Science Center
CATEGORIES:Building Hours
ATTACH;FMTTYPE=image/jpeg:https://www.osc.org/wp-content/uploads/2022/07/Orlando-Science-Center-Building-Day_1080x608.jpg
GEO:28.57228;-81.368341
END:VEVENT
BEGIN:VEVENT
DTSTART;VALUE=DATE:20260429
DTEND;VALUE=DATE:20260430
DTSTAMP:20260422T160144
CREATED:20251226T220047Z
LAST-MODIFIED:20251226T220047Z
UID:10007004-1777420800-1777507199@www.osc.org
SUMMARY:Closed / Cerrado
DESCRIPTION:Reserve your timed-entry tickets online in advance.
URL:https://www.osc.org/event/closed-cerrado-27/
LOCATION:Orlando Science Center
CATEGORIES:Building Hours
ATTACH;FMTTYPE=image/jpeg:https://www.osc.org/wp-content/uploads/2020/10/OSC-Closed-Building_1080x608.jpg
GEO:28.57228;-81.368341
END:VEVENT
BEGIN:VEVENT
DTSTART;TZID=America/New_York:20260430T100000
DTEND;TZID=America/New_York:20260430T170000
DTSTAMP:20260422T160144
CREATED:20251226T220047Z
LAST-MODIFIED:20251226T220047Z
UID:10007005-1777543200-1777568400@www.osc.org
SUMMARY:Today's Hours
DESCRIPTION:Reserve your timed-entry tickets online in advance.
URL:https://www.osc.org/event/todays-hours-99/
LOCATION:Orlando Science Center
CATEGORIES:Building Hours
ATTACH;FMTTYPE=image/jpeg:https://www.osc.org/wp-content/uploads/2022/07/Orlando-Science-Center-Building-Day_1080x608.jpg
GEO:28.57228;-81.368341
END:VEVENT
END:VCALENDAR