BEGIN:VCALENDAR
VERSION:2.0
PRODID:-//Orlando Science Center - ECPv6.15.20//NONSGML v1.0//EN
CALSCALE:GREGORIAN
METHOD:PUBLISH
X-ORIGINAL-URL:https://www.osc.org
X-WR-CALDESC:Events for Orlando Science Center
REFRESH-INTERVAL;VALUE=DURATION:PT1H
X-Robots-Tag:noindex
X-PUBLISHED-TTL:PT1H
BEGIN:VTIMEZONE
TZID:America/New_York
BEGIN:DAYLIGHT
TZOFFSETFROM:-0500
TZOFFSETTO:-0400
TZNAME:EDT
DTSTART:20250309T070000
END:DAYLIGHT
BEGIN:STANDARD
TZOFFSETFROM:-0400
TZOFFSETTO:-0500
TZNAME:EST
DTSTART:20251102T060000
END:STANDARD
BEGIN:DAYLIGHT
TZOFFSETFROM:-0500
TZOFFSETTO:-0400
TZNAME:EDT
DTSTART:20260308T070000
END:DAYLIGHT
BEGIN:STANDARD
TZOFFSETFROM:-0400
TZOFFSETTO:-0500
TZNAME:EST
DTSTART:20261101T060000
END:STANDARD
BEGIN:DAYLIGHT
TZOFFSETFROM:-0500
TZOFFSETTO:-0400
TZNAME:EDT
DTSTART:20270314T070000
END:DAYLIGHT
BEGIN:STANDARD
TZOFFSETFROM:-0400
TZOFFSETTO:-0500
TZNAME:EST
DTSTART:20271107T060000
END:STANDARD
END:VTIMEZONE
BEGIN:VEVENT
DTSTART;TZID=America/New_York:20260324T100000
DTEND;TZID=America/New_York:20260324T170000
DTSTAMP:20260422T213255
CREATED:20251226T215952Z
LAST-MODIFIED:20260311T213013Z
UID:10006968-1774346400-1774371600@www.osc.org
SUMMARY:Today's Hours
DESCRIPTION:Reserve your timed-entry tickets online in advance.
URL:https://www.osc.org/event/todays-hours-69/
LOCATION:Orlando Science Center
CATEGORIES:Building Hours
ATTACH;FMTTYPE=image/jpeg:https://www.osc.org/wp-content/uploads/2022/07/Orlando-Science-Center-Building-Day_1080x608.jpg
GEO:28.57228;-81.368341
END:VEVENT
BEGIN:VEVENT
DTSTART;VALUE=DATE:20260325
DTEND;VALUE=DATE:20260326
DTSTAMP:20260422T213255
CREATED:20251226T215953Z
LAST-MODIFIED:20251226T215953Z
UID:10006969-1774396800-1774483199@www.osc.org
SUMMARY:Closed / Cerrado
DESCRIPTION:Reserve your timed-entry tickets online in advance.
URL:https://www.osc.org/event/closed-cerrado-12/
LOCATION:Orlando Science Center
CATEGORIES:Building Hours
ATTACH;FMTTYPE=image/jpeg:https://www.osc.org/wp-content/uploads/2020/10/OSC-Closed-Building_1080x608.jpg
GEO:28.57228;-81.368341
END:VEVENT
BEGIN:VEVENT
DTSTART;TZID=America/New_York:20260326T100000
DTEND;TZID=America/New_York:20260326T170000
DTSTAMP:20260422T213255
CREATED:20251226T215953Z
LAST-MODIFIED:20251226T215953Z
UID:10006970-1774519200-1774544400@www.osc.org
SUMMARY:Today's Hours
DESCRIPTION:Reserve your timed-entry tickets online in advance.
URL:https://www.osc.org/event/todays-hours-70/
LOCATION:Orlando Science Center
CATEGORIES:Building Hours
ATTACH;FMTTYPE=image/jpeg:https://www.osc.org/wp-content/uploads/2022/07/Orlando-Science-Center-Building-Day_1080x608.jpg
GEO:28.57228;-81.368341
END:VEVENT
BEGIN:VEVENT
DTSTART;TZID=America/New_York:20260327T100000
DTEND;TZID=America/New_York:20260327T170000
DTSTAMP:20260422T213255
CREATED:20251226T215954Z
LAST-MODIFIED:20251226T215954Z
UID:10006971-1774605600-1774630800@www.osc.org
SUMMARY:Today's Hours
DESCRIPTION:Reserve your timed-entry tickets online in advance.
URL:https://www.osc.org/event/todays-hours-71/
LOCATION:Orlando Science Center
CATEGORIES:Building Hours
ATTACH;FMTTYPE=image/jpeg:https://www.osc.org/wp-content/uploads/2022/07/Orlando-Science-Center-Building-Day_1080x608.jpg
GEO:28.57228;-81.368341
END:VEVENT
BEGIN:VEVENT
DTSTART;TZID=America/New_York:20260328T100000
DTEND;TZID=America/New_York:20260328T170000
DTSTAMP:20260422T213255
CREATED:20251226T215954Z
LAST-MODIFIED:20251226T215954Z
UID:10006972-1774692000-1774717200@www.osc.org
SUMMARY:Today's Hours
DESCRIPTION:Reserve your timed-entry tickets online in advance.
URL:https://www.osc.org/event/todays-hours-72/
LOCATION:Orlando Science Center
CATEGORIES:Building Hours
ATTACH;FMTTYPE=image/jpeg:https://www.osc.org/wp-content/uploads/2022/07/Orlando-Science-Center-Building-Day_1080x608.jpg
GEO:28.57228;-81.368341
END:VEVENT
BEGIN:VEVENT
DTSTART;TZID=America/New_York:20260329T100000
DTEND;TZID=America/New_York:20260329T170000
DTSTAMP:20260422T213255
CREATED:20251226T215954Z
LAST-MODIFIED:20251226T215954Z
UID:10006973-1774778400-1774803600@www.osc.org
SUMMARY:Today's Hours
DESCRIPTION:Reserve your timed-entry tickets online in advance.
URL:https://www.osc.org/event/todays-hours-73/
LOCATION:Orlando Science Center
CATEGORIES:Building Hours
ATTACH;FMTTYPE=image/jpeg:https://www.osc.org/wp-content/uploads/2022/07/Orlando-Science-Center-Building-Day_1080x608.jpg
GEO:28.57228;-81.368341
END:VEVENT
BEGIN:VEVENT
DTSTART;TZID=America/New_York:20260330T100000
DTEND;TZID=America/New_York:20260330T170000
DTSTAMP:20260422T213255
CREATED:20251226T215955Z
LAST-MODIFIED:20251226T215955Z
UID:10006974-1774864800-1774890000@www.osc.org
SUMMARY:Today's Hours
DESCRIPTION:Reserve your timed-entry tickets online in advance.
URL:https://www.osc.org/event/todays-hours-74/
LOCATION:Orlando Science Center
CATEGORIES:Building Hours
ATTACH;FMTTYPE=image/jpeg:https://www.osc.org/wp-content/uploads/2022/07/Orlando-Science-Center-Building-Day_1080x608.jpg
GEO:28.57228;-81.368341
END:VEVENT
BEGIN:VEVENT
DTSTART;TZID=America/New_York:20260331T100000
DTEND;TZID=America/New_York:20260331T170000
DTSTAMP:20260422T213255
CREATED:20251226T215955Z
LAST-MODIFIED:20251226T215955Z
UID:10006975-1774951200-1774976400@www.osc.org
SUMMARY:Today's Hours
DESCRIPTION:Reserve your timed-entry tickets online in advance.
URL:https://www.osc.org/event/todays-hours-75/
LOCATION:Orlando Science Center
CATEGORIES:Building Hours
ATTACH;FMTTYPE=image/jpeg:https://www.osc.org/wp-content/uploads/2022/07/Orlando-Science-Center-Building-Day_1080x608.jpg
GEO:28.57228;-81.368341
END:VEVENT
END:VCALENDAR