BEGIN:VCALENDAR
VERSION:2.0
PRODID:-//Orlando Science Center - ECPv6.15.20//NONSGML v1.0//EN
CALSCALE:GREGORIAN
METHOD:PUBLISH
X-WR-CALNAME:Orlando Science Center
X-ORIGINAL-URL:https://www.osc.org
X-WR-CALDESC:Events for Orlando Science Center
REFRESH-INTERVAL;VALUE=DURATION:PT1H
X-Robots-Tag:noindex
X-PUBLISHED-TTL:PT1H
BEGIN:VTIMEZONE
TZID:America/New_York
BEGIN:DAYLIGHT
TZOFFSETFROM:-0500
TZOFFSETTO:-0400
TZNAME:EDT
DTSTART:20250309T070000
END:DAYLIGHT
BEGIN:STANDARD
TZOFFSETFROM:-0400
TZOFFSETTO:-0500
TZNAME:EST
DTSTART:20251102T060000
END:STANDARD
BEGIN:DAYLIGHT
TZOFFSETFROM:-0500
TZOFFSETTO:-0400
TZNAME:EDT
DTSTART:20260308T070000
END:DAYLIGHT
BEGIN:STANDARD
TZOFFSETFROM:-0400
TZOFFSETTO:-0500
TZNAME:EST
DTSTART:20261101T060000
END:STANDARD
BEGIN:DAYLIGHT
TZOFFSETFROM:-0500
TZOFFSETTO:-0400
TZNAME:EDT
DTSTART:20270314T070000
END:DAYLIGHT
BEGIN:STANDARD
TZOFFSETFROM:-0400
TZOFFSETTO:-0500
TZNAME:EST
DTSTART:20271107T060000
END:STANDARD
END:VTIMEZONE
BEGIN:VEVENT
DTSTART;TZID=America/New_York:20260421T150000
DTEND;TZID=America/New_York:20260421T160000
DTSTAMP:20260422T183308
CREATED:20260320T184117Z
LAST-MODIFIED:20260320T184117Z
UID:10008389-1776783600-1776787200@www.osc.org
SUMMARY:Sea Turtle Rescue Tinker Time
DESCRIPTION:Get hands-on with our Sea Turtle rescue team as we learn about conservation and rehabilitation efforts in Florida!
URL:https://www.osc.org/event/sea-turtle-rescue-tinker-time-12/
LOCATION:KidsTown – Level 2
CATEGORIES:KidsTown Schedule
ATTACH;FMTTYPE=image/jpeg:https://www.osc.org/wp-content/uploads/2024/12/KidsTown-Tinker-Time_1080x608.jpg
GEO:28.57228;-81.368341
END:VEVENT
BEGIN:VEVENT
DTSTART;TZID=America/New_York:20260421T140000
DTEND;TZID=America/New_York:20260421T150000
DTSTAMP:20260422T183308
CREATED:20260320T184117Z
LAST-MODIFIED:20260320T184117Z
UID:10008388-1776780000-1776783600@www.osc.org
SUMMARY:Sea Turtle Rescue Tinker Time
DESCRIPTION:Get hands-on with our Sea Turtle rescue team as we learn about conservation and rehabilitation efforts in Florida!
URL:https://www.osc.org/event/sea-turtle-rescue-tinker-time-11/
LOCATION:KidsTown – Level 2
CATEGORIES:KidsTown Schedule
ATTACH;FMTTYPE=image/jpeg:https://www.osc.org/wp-content/uploads/2024/12/KidsTown-Tinker-Time_1080x608.jpg
GEO:28.57228;-81.368341
END:VEVENT
BEGIN:VEVENT
DTSTART;TZID=America/New_York:20260421T124500
DTEND;TZID=America/New_York:20260421T130500
DTSTAMP:20260422T183308
CREATED:20260320T184749Z
LAST-MODIFIED:20260320T184749Z
UID:10008438-1776775500-1776776700@www.osc.org
SUMMARY:Prehistoric Pals
DESCRIPTION:
URL:https://www.osc.org/event/prehistoric-pals-39/
LOCATION:DinoDigs – Level 4
CATEGORIES:KidsTown Schedule
ATTACH;FMTTYPE=image/jpeg:https://www.osc.org/wp-content/uploads/2025/09/Prehistoric-Pals-Program_1920x1080.jpg
GEO:28.57228;-81.368341
END:VEVENT
BEGIN:VEVENT
DTSTART;TZID=America/New_York:20260421T113000
DTEND;TZID=America/New_York:20260421T120000
DTSTAMP:20260422T183308
CREATED:20260320T184417Z
LAST-MODIFIED:20260320T184417Z
UID:10008418-1776771000-1776772800@www.osc.org
SUMMARY:Polar Pals Storytime
DESCRIPTION:Calling all explorers! Join us on an expedition to Earth’s most remote location: our northern and southern poles!
URL:https://www.osc.org/event/polar-pals-storytime-25/
LOCATION:KidsTown – Level 2
CATEGORIES:KidsTown Schedule
ATTACH;FMTTYPE=image/jpeg:https://www.osc.org/wp-content/uploads/2021/03/KidsTown-StoryTime_1080x608.jpg
GEO:28.57228;-81.368341
END:VEVENT
BEGIN:VEVENT
DTSTART;TZID=America/New_York:20260420T150000
DTEND;TZID=America/New_York:20260420T160000
DTSTAMP:20260422T183308
CREATED:20260320T184116Z
LAST-MODIFIED:20260320T184116Z
UID:10008387-1776697200-1776700800@www.osc.org
SUMMARY:Sea Turtle Rescue Tinker Time
DESCRIPTION:Get hands-on with our Sea Turtle rescue team as we learn about conservation and rehabilitation efforts in Florida!
URL:https://www.osc.org/event/sea-turtle-rescue-tinker-time-10/
LOCATION:KidsTown – Level 2
CATEGORIES:KidsTown Schedule
ATTACH;FMTTYPE=image/jpeg:https://www.osc.org/wp-content/uploads/2024/12/KidsTown-Tinker-Time_1080x608.jpg
GEO:28.57228;-81.368341
END:VEVENT
BEGIN:VEVENT
DTSTART;TZID=America/New_York:20260420T140000
DTEND;TZID=America/New_York:20260420T150000
DTSTAMP:20260422T183308
CREATED:20260320T184116Z
LAST-MODIFIED:20260320T184116Z
UID:10008386-1776693600-1776697200@www.osc.org
SUMMARY:Sea Turtle Rescue Tinker Time
DESCRIPTION:Get hands-on with our Sea Turtle rescue team as we learn about conservation and rehabilitation efforts in Florida!
URL:https://www.osc.org/event/sea-turtle-rescue-tinker-time-9/
LOCATION:KidsTown – Level 2
CATEGORIES:KidsTown Schedule
ATTACH;FMTTYPE=image/jpeg:https://www.osc.org/wp-content/uploads/2024/12/KidsTown-Tinker-Time_1080x608.jpg
GEO:28.57228;-81.368341
END:VEVENT
BEGIN:VEVENT
DTSTART;TZID=America/New_York:20260420T113000
DTEND;TZID=America/New_York:20260420T120000
DTSTAMP:20260422T183308
CREATED:20260320T184417Z
LAST-MODIFIED:20260320T184417Z
UID:10008417-1776684600-1776686400@www.osc.org
SUMMARY:Polar Pals Storytime
DESCRIPTION:Calling all explorers! Join us on an expedition to Earth’s most remote location: our northern and southern poles!
URL:https://www.osc.org/event/polar-pals-storytime-24/
LOCATION:KidsTown – Level 2
CATEGORIES:KidsTown Schedule
ATTACH;FMTTYPE=image/jpeg:https://www.osc.org/wp-content/uploads/2021/03/KidsTown-StoryTime_1080x608.jpg
GEO:28.57228;-81.368341
END:VEVENT
BEGIN:VEVENT
DTSTART;TZID=America/New_York:20260419T153000
DTEND;TZID=America/New_York:20260419T160000
DTSTAMP:20260422T183308
CREATED:20260320T183857Z
LAST-MODIFIED:20260320T183857Z
UID:10008373-1776612600-1776614400@www.osc.org
SUMMARY:Designing for Differences Mini Maker
DESCRIPTION:Celebrate Deaf History Month as we learn about inventions that expanded the world for others and try our hand at creating an invention of our very own!
URL:https://www.osc.org/event/designing-for-differences-mini-maker-10/
LOCATION:KidsTown – Level 2
CATEGORIES:KidsTown Schedule
ATTACH;FMTTYPE=image/jpeg:https://www.osc.org/wp-content/uploads/2024/04/KT_OpenMake_1920x1080.jpg
GEO:28.57228;-81.368341
END:VEVENT
BEGIN:VEVENT
DTSTART;TZID=America/New_York:20260419T140000
DTEND;TZID=America/New_York:20260419T143000
DTSTAMP:20260422T183308
CREATED:20260320T183857Z
LAST-MODIFIED:20260320T183857Z
UID:10008372-1776607200-1776609000@www.osc.org
SUMMARY:Designing for Differences Mini Maker
DESCRIPTION:Celebrate Deaf History Month as we learn about inventions that expanded the world for others and try our hand at creating an invention of our very own!
URL:https://www.osc.org/event/designing-for-differences-mini-maker-9/
LOCATION:KidsTown – Level 2
CATEGORIES:KidsTown Schedule
ATTACH;FMTTYPE=image/jpeg:https://www.osc.org/wp-content/uploads/2024/04/KT_OpenMake_1920x1080.jpg
GEO:28.57228;-81.368341
END:VEVENT
BEGIN:VEVENT
DTSTART;TZID=America/New_York:20260419T113000
DTEND;TZID=America/New_York:20260419T120000
DTSTAMP:20260422T183308
CREATED:20260320T184417Z
LAST-MODIFIED:20260320T184417Z
UID:10008416-1776598200-1776600000@www.osc.org
SUMMARY:Polar Pals Storytime
DESCRIPTION:Calling all explorers! Join us on an expedition to Earth’s most remote location: our northern and southern poles!
URL:https://www.osc.org/event/polar-pals-storytime-23/
LOCATION:KidsTown – Level 2
CATEGORIES:KidsTown Schedule
ATTACH;FMTTYPE=image/jpeg:https://www.osc.org/wp-content/uploads/2021/03/KidsTown-StoryTime_1080x608.jpg
GEO:28.57228;-81.368341
END:VEVENT
BEGIN:VEVENT
DTSTART;TZID=America/New_York:20260419T103000
DTEND;TZID=America/New_York:20260419T110000
DTSTAMP:20260422T183308
CREATED:20260320T184417Z
LAST-MODIFIED:20260320T184417Z
UID:10008415-1776594600-1776596400@www.osc.org
SUMMARY:Polar Pals Storytime
DESCRIPTION:Calling all explorers! Join us on an expedition to Earth’s most remote location: our northern and southern poles!
URL:https://www.osc.org/event/polar-pals-storytime-22/
LOCATION:KidsTown – Level 2
CATEGORIES:KidsTown Schedule
ATTACH;FMTTYPE=image/jpeg:https://www.osc.org/wp-content/uploads/2021/03/KidsTown-StoryTime_1080x608.jpg
GEO:28.57228;-81.368341
END:VEVENT
BEGIN:VEVENT
DTSTART;TZID=America/New_York:20260418T153000
DTEND;TZID=America/New_York:20260418T160000
DTSTAMP:20260422T183308
CREATED:20260320T183857Z
LAST-MODIFIED:20260320T183857Z
UID:10008371-1776526200-1776528000@www.osc.org
SUMMARY:Designing for Differences Mini Maker
DESCRIPTION:Celebrate Deaf History Month as we learn about inventions that expanded the world for others and try our hand at creating an invention of our very own!
URL:https://www.osc.org/event/designing-for-differences-mini-maker-8/
LOCATION:KidsTown – Level 2
CATEGORIES:KidsTown Schedule
ATTACH;FMTTYPE=image/jpeg:https://www.osc.org/wp-content/uploads/2024/04/KT_OpenMake_1920x1080.jpg
GEO:28.57228;-81.368341
END:VEVENT
BEGIN:VEVENT
DTSTART;TZID=America/New_York:20260418T140000
DTEND;TZID=America/New_York:20260418T143000
DTSTAMP:20260422T183308
CREATED:20260320T183827Z
LAST-MODIFIED:20260320T183827Z
UID:10008370-1776520800-1776522600@www.osc.org
SUMMARY:Designing for Differences Mini Maker
DESCRIPTION:Celebrate Deaf History Month as we learn about inventions that expanded the world for others and try our hand at creating an invention of our very own!
URL:https://www.osc.org/event/designing-for-differences-mini-maker-7/
LOCATION:KidsTown – Level 2
CATEGORIES:KidsTown Schedule
ATTACH;FMTTYPE=image/jpeg:https://www.osc.org/wp-content/uploads/2024/04/KT_OpenMake_1920x1080.jpg
GEO:28.57228;-81.368341
END:VEVENT
BEGIN:VEVENT
DTSTART;TZID=America/New_York:20260418T113000
DTEND;TZID=America/New_York:20260418T120000
DTSTAMP:20260422T183308
CREATED:20260320T184416Z
LAST-MODIFIED:20260320T184416Z
UID:10008414-1776511800-1776513600@www.osc.org
SUMMARY:Polar Pals Storytime
DESCRIPTION:Calling all explorers! Join us on an expedition to Earth’s most remote location: our northern and southern poles!
URL:https://www.osc.org/event/polar-pals-storytime-21/
LOCATION:KidsTown – Level 2
CATEGORIES:KidsTown Schedule
ATTACH;FMTTYPE=image/jpeg:https://www.osc.org/wp-content/uploads/2021/03/KidsTown-StoryTime_1080x608.jpg
GEO:28.57228;-81.368341
END:VEVENT
BEGIN:VEVENT
DTSTART;TZID=America/New_York:20260418T103000
DTEND;TZID=America/New_York:20260418T110000
DTSTAMP:20260422T183308
CREATED:20260320T184347Z
LAST-MODIFIED:20260320T184347Z
UID:10008413-1776508200-1776510000@www.osc.org
SUMMARY:Polar Pals Storytime
DESCRIPTION:Calling all explorers! Join us on an expedition to Earth’s most remote location: our northern and southern poles!
URL:https://www.osc.org/event/polar-pals-storytime-20/
LOCATION:KidsTown – Level 2
CATEGORIES:KidsTown Schedule
ATTACH;FMTTYPE=image/jpeg:https://www.osc.org/wp-content/uploads/2021/03/KidsTown-StoryTime_1080x608.jpg
GEO:28.57228;-81.368341
END:VEVENT
BEGIN:VEVENT
DTSTART;TZID=America/New_York:20260417T124500
DTEND;TZID=America/New_York:20260417T130500
DTSTAMP:20260422T183308
CREATED:20260320T184748Z
LAST-MODIFIED:20260320T184748Z
UID:10008436-1776429900-1776431100@www.osc.org
SUMMARY:Prehistoric Pals
DESCRIPTION:
URL:https://www.osc.org/event/prehistoric-pals-36/
LOCATION:DinoDigs – Level 4
CATEGORIES:KidsTown Schedule
ATTACH;FMTTYPE=image/jpeg:https://www.osc.org/wp-content/uploads/2025/09/Prehistoric-Pals-Program_1920x1080.jpg
GEO:28.57228;-81.368341
END:VEVENT
BEGIN:VEVENT
DTSTART;TZID=America/New_York:20260417T113000
DTEND;TZID=America/New_York:20260417T120000
DTSTAMP:20260422T183308
CREATED:20260320T184347Z
LAST-MODIFIED:20260320T184347Z
UID:10008412-1776425400-1776427200@www.osc.org
SUMMARY:Polar Pals Storytime
DESCRIPTION:Calling all explorers! Join us on an expedition to Earth’s most remote location: our northern and southern poles!
URL:https://www.osc.org/event/polar-pals-storytime-19/
LOCATION:KidsTown – Level 2
CATEGORIES:KidsTown Schedule
ATTACH;FMTTYPE=image/jpeg:https://www.osc.org/wp-content/uploads/2021/03/KidsTown-StoryTime_1080x608.jpg
GEO:28.57228;-81.368341
END:VEVENT
BEGIN:VEVENT
DTSTART;TZID=America/New_York:20260416T140000
DTEND;TZID=America/New_York:20260416T160000
DTSTAMP:20260422T183308
CREATED:20260320T183755Z
LAST-MODIFIED:20260320T183755Z
UID:10008360-1776348000-1776355200@www.osc.org
SUMMARY:Open Studio
DESCRIPTION:You’re invited to experience all that the KidsTown Studio has to offer\, with four open-ended exploration stations including open-make station\, STEM discovery station\, interactive white-board station\, and a reading nook! Recommended for all ages.
URL:https://www.osc.org/event/open-studio-24/
CATEGORIES:KidsTown Schedule
ATTACH;FMTTYPE=image/png:https://www.osc.org/wp-content/uploads/2024/08/Open-Studio_1080x608.png
END:VEVENT
BEGIN:VEVENT
DTSTART;TZID=America/New_York:20260416T124500
DTEND;TZID=America/New_York:20260416T130500
DTSTAMP:20260422T183308
CREATED:20260320T184748Z
LAST-MODIFIED:20260320T184748Z
UID:10008435-1776343500-1776344700@www.osc.org
SUMMARY:Prehistoric Pals
DESCRIPTION:
URL:https://www.osc.org/event/prehistoric-pals-35/
LOCATION:DinoDigs – Level 4
CATEGORIES:KidsTown Schedule
ATTACH;FMTTYPE=image/jpeg:https://www.osc.org/wp-content/uploads/2025/09/Prehistoric-Pals-Program_1920x1080.jpg
GEO:28.57228;-81.368341
END:VEVENT
BEGIN:VEVENT
DTSTART;TZID=America/New_York:20260416T113000
DTEND;TZID=America/New_York:20260416T120000
DTSTAMP:20260422T183308
CREATED:20260320T184347Z
LAST-MODIFIED:20260320T184347Z
UID:10008411-1776339000-1776340800@www.osc.org
SUMMARY:Polar Pals Storytime
DESCRIPTION:Calling all explorers! Join us on an expedition to Earth’s most remote location: our northern and southern poles!
URL:https://www.osc.org/event/polar-pals-storytime-18/
LOCATION:KidsTown – Level 2
CATEGORIES:KidsTown Schedule
ATTACH;FMTTYPE=image/jpeg:https://www.osc.org/wp-content/uploads/2021/03/KidsTown-StoryTime_1080x608.jpg
GEO:28.57228;-81.368341
END:VEVENT
BEGIN:VEVENT
DTSTART;TZID=America/New_York:20260414T153000
DTEND;TZID=America/New_York:20260414T161500
DTSTAMP:20260422T183308
CREATED:20260320T184047Z
LAST-MODIFIED:20260320T184047Z
UID:10008385-1776180600-1776183300@www.osc.org
SUMMARY:Sea Turtle Rescue Tinker Time
DESCRIPTION:Get hands-on with our Sea Turtle rescue team as we learn about conservation and rehabilitation efforts in Florida!
URL:https://www.osc.org/event/sea-turtle-rescue-tinker-time-8/
LOCATION:KidsTown – Level 2
CATEGORIES:KidsTown Schedule
ATTACH;FMTTYPE=image/jpeg:https://www.osc.org/wp-content/uploads/2024/12/KidsTown-Tinker-Time_1080x608.jpg
GEO:28.57228;-81.368341
END:VEVENT
BEGIN:VEVENT
DTSTART;TZID=America/New_York:20260414T140000
DTEND;TZID=America/New_York:20260414T144500
DTSTAMP:20260422T183308
CREATED:20260320T184047Z
LAST-MODIFIED:20260320T184047Z
UID:10008384-1776175200-1776177900@www.osc.org
SUMMARY:Sea Turtle Rescue Tinker Time
DESCRIPTION:Get hands-on with our Sea Turtle rescue team as we learn about conservation and rehabilitation efforts in Florida!
URL:https://www.osc.org/event/sea-turtle-rescue-tinker-time-7/
LOCATION:KidsTown – Level 2
CATEGORIES:KidsTown Schedule
ATTACH;FMTTYPE=image/jpeg:https://www.osc.org/wp-content/uploads/2024/12/KidsTown-Tinker-Time_1080x608.jpg
GEO:28.57228;-81.368341
END:VEVENT
BEGIN:VEVENT
DTSTART;TZID=America/New_York:20260414T113000
DTEND;TZID=America/New_York:20260414T120000
DTSTAMP:20260422T183308
CREATED:20260320T184347Z
LAST-MODIFIED:20260320T184347Z
UID:10008410-1776166200-1776168000@www.osc.org
SUMMARY:Polar Pals Storytime
DESCRIPTION:Calling all explorers! Join us on an expedition to Earth’s most remote location: our northern and southern poles!
URL:https://www.osc.org/event/polar-pals-storytime-17/
LOCATION:KidsTown – Level 2
CATEGORIES:KidsTown Schedule
ATTACH;FMTTYPE=image/jpeg:https://www.osc.org/wp-content/uploads/2021/03/KidsTown-StoryTime_1080x608.jpg
GEO:28.57228;-81.368341
END:VEVENT
BEGIN:VEVENT
DTSTART;TZID=America/New_York:20260413T153000
DTEND;TZID=America/New_York:20260413T161500
DTSTAMP:20260422T183308
CREATED:20260320T184047Z
LAST-MODIFIED:20260320T184047Z
UID:10008383-1776094200-1776096900@www.osc.org
SUMMARY:Sea Turtle Rescue Tinker Time
DESCRIPTION:Get hands-on with our Sea Turtle rescue team as we learn about conservation and rehabilitation efforts in Florida!
URL:https://www.osc.org/event/sea-turtle-rescue-tinker-time-6/
LOCATION:KidsTown – Level 2
CATEGORIES:KidsTown Schedule
ATTACH;FMTTYPE=image/jpeg:https://www.osc.org/wp-content/uploads/2024/12/KidsTown-Tinker-Time_1080x608.jpg
GEO:28.57228;-81.368341
END:VEVENT
BEGIN:VEVENT
DTSTART;TZID=America/New_York:20260413T140000
DTEND;TZID=America/New_York:20260413T144500
DTSTAMP:20260422T183308
CREATED:20260320T184046Z
LAST-MODIFIED:20260320T184046Z
UID:10008382-1776088800-1776091500@www.osc.org
SUMMARY:Sea Turtle Rescue Tinker Time
DESCRIPTION:Get hands-on with our Sea Turtle rescue team as we learn about conservation and rehabilitation efforts in Florida!
URL:https://www.osc.org/event/sea-turtle-rescue-tinker-time-5/
LOCATION:KidsTown – Level 2
CATEGORIES:KidsTown Schedule
ATTACH;FMTTYPE=image/jpeg:https://www.osc.org/wp-content/uploads/2024/12/KidsTown-Tinker-Time_1080x608.jpg
GEO:28.57228;-81.368341
END:VEVENT
BEGIN:VEVENT
DTSTART;TZID=America/New_York:20260413T124500
DTEND;TZID=America/New_York:20260413T130500
DTSTAMP:20260422T183308
CREATED:20260320T184548Z
LAST-MODIFIED:20260320T184548Z
UID:10008433-1776084300-1776085500@www.osc.org
SUMMARY:Prehistoric Pals
DESCRIPTION:
URL:https://www.osc.org/event/prehistoric-pals-33/
LOCATION:DinoDigs – Level 4
CATEGORIES:KidsTown Schedule
ATTACH;FMTTYPE=image/jpeg:https://www.osc.org/wp-content/uploads/2025/09/Prehistoric-Pals-Program_1920x1080.jpg
GEO:28.57228;-81.368341
END:VEVENT
BEGIN:VEVENT
DTSTART;TZID=America/New_York:20260413T113000
DTEND;TZID=America/New_York:20260413T120000
DTSTAMP:20260422T183308
CREATED:20260320T184346Z
LAST-MODIFIED:20260320T184346Z
UID:10008409-1776079800-1776081600@www.osc.org
SUMMARY:Polar Pals Storytime
DESCRIPTION:Calling all explorers! Join us on an expedition to Earth’s most remote location: our northern and southern poles!
URL:https://www.osc.org/event/polar-pals-storytime-16/
LOCATION:KidsTown – Level 2
CATEGORIES:KidsTown Schedule
ATTACH;FMTTYPE=image/jpeg:https://www.osc.org/wp-content/uploads/2021/03/KidsTown-StoryTime_1080x608.jpg
GEO:28.57228;-81.368341
END:VEVENT
BEGIN:VEVENT
DTSTART;TZID=America/New_York:20260412T153000
DTEND;TZID=America/New_York:20260412T153000
DTSTAMP:20260422T183308
CREATED:20260320T183827Z
LAST-MODIFIED:20260320T183827Z
UID:10008369-1776007800-1776007800@www.osc.org
SUMMARY:Designing for Differences Mini Maker
DESCRIPTION:Celebrate Deaf History Month as we learn about inventions that expanded the world for others and try our hand at creating an invention of our very own!
URL:https://www.osc.org/event/designing-for-differences-mini-maker-6/
LOCATION:KidsTown – Level 2
CATEGORIES:KidsTown Schedule
ATTACH;FMTTYPE=image/jpeg:https://www.osc.org/wp-content/uploads/2024/04/KT_OpenMake_1920x1080.jpg
GEO:28.57228;-81.368341
END:VEVENT
BEGIN:VEVENT
DTSTART;TZID=America/New_York:20260412T140000
DTEND;TZID=America/New_York:20260412T143000
DTSTAMP:20260422T183308
CREATED:20260320T183827Z
LAST-MODIFIED:20260320T183827Z
UID:10008368-1776002400-1776004200@www.osc.org
SUMMARY:Designing for Differences Mini Maker
DESCRIPTION:Celebrate Deaf History Month as we learn about inventions that expanded the world for others and try our hand at creating an invention of our very own!
URL:https://www.osc.org/event/designing-for-differences-mini-maker-5/
LOCATION:KidsTown – Level 2
CATEGORIES:KidsTown Schedule
ATTACH;FMTTYPE=image/jpeg:https://www.osc.org/wp-content/uploads/2024/04/KT_OpenMake_1920x1080.jpg
GEO:28.57228;-81.368341
END:VEVENT
BEGIN:VEVENT
DTSTART;TZID=America/New_York:20260412T113000
DTEND;TZID=America/New_York:20260412T120000
DTSTAMP:20260422T183308
CREATED:20260320T184317Z
LAST-MODIFIED:20260320T184317Z
UID:10008408-1775993400-1775995200@www.osc.org
SUMMARY:Polar Pals Storytime
DESCRIPTION:Calling all explorers! Join us on an expedition to Earth’s most remote location: our northern and southern poles!
URL:https://www.osc.org/event/polar-pals-storytime-15/
LOCATION:KidsTown – Level 2
CATEGORIES:KidsTown Schedule
ATTACH;FMTTYPE=image/jpeg:https://www.osc.org/wp-content/uploads/2021/03/KidsTown-StoryTime_1080x608.jpg
GEO:28.57228;-81.368341
END:VEVENT
END:VCALENDAR