BEGIN:VCALENDAR
VERSION:2.0
PRODID:-//Orlando Science Center - ECPv6.15.20//NONSGML v1.0//EN
CALSCALE:GREGORIAN
METHOD:PUBLISH
X-WR-CALNAME:Orlando Science Center
X-ORIGINAL-URL:https://www.osc.org
X-WR-CALDESC:Events for Orlando Science Center
REFRESH-INTERVAL;VALUE=DURATION:PT1H
X-Robots-Tag:noindex
X-PUBLISHED-TTL:PT1H
BEGIN:VTIMEZONE
TZID:America/New_York
BEGIN:DAYLIGHT
TZOFFSETFROM:-0500
TZOFFSETTO:-0400
TZNAME:EDT
DTSTART:20250309T070000
END:DAYLIGHT
BEGIN:STANDARD
TZOFFSETFROM:-0400
TZOFFSETTO:-0500
TZNAME:EST
DTSTART:20251102T060000
END:STANDARD
BEGIN:DAYLIGHT
TZOFFSETFROM:-0500
TZOFFSETTO:-0400
TZNAME:EDT
DTSTART:20260308T070000
END:DAYLIGHT
BEGIN:STANDARD
TZOFFSETFROM:-0400
TZOFFSETTO:-0500
TZNAME:EST
DTSTART:20261101T060000
END:STANDARD
BEGIN:DAYLIGHT
TZOFFSETFROM:-0500
TZOFFSETTO:-0400
TZNAME:EDT
DTSTART:20270314T070000
END:DAYLIGHT
BEGIN:STANDARD
TZOFFSETFROM:-0400
TZOFFSETTO:-0500
TZNAME:EST
DTSTART:20271107T060000
END:STANDARD
END:VTIMEZONE
BEGIN:VEVENT
DTSTART;TZID=America/New_York:20260524T140000
DTEND;TZID=America/New_York:20260524T143000
DTSTAMP:20260423T060011
CREATED:20260419T164235Z
LAST-MODIFIED:20260419T164235Z
UID:10008857-1779631200-1779633000@www.osc.org
SUMMARY:Exploring Cultures Mini Maker
DESCRIPTION:Grab your passport and travel with us as we highlight three countries and their cultural crafts
URL:https://www.osc.org/event/exploring-cultures-mini-maker-11/
LOCATION:KidsTown – Level 2
CATEGORIES:KidsTown Schedule
ATTACH;FMTTYPE=image/jpeg:https://www.osc.org/wp-content/uploads/2024/04/KT_OpenMake_1920x1080.jpg
GEO:28.57228;-81.368341
END:VEVENT
BEGIN:VEVENT
DTSTART;TZID=America/New_York:20260524T153000
DTEND;TZID=America/New_York:20260524T160000
DTSTAMP:20260423T060011
CREATED:20260419T164236Z
LAST-MODIFIED:20260419T164236Z
UID:10008858-1779636600-1779638400@www.osc.org
SUMMARY:Exploring Cultures Mini Maker
DESCRIPTION:Grab your passport and travel with us as we highlight three countries and their cultural crafts
URL:https://www.osc.org/event/exploring-cultures-mini-maker-12/
LOCATION:KidsTown – Level 2
CATEGORIES:KidsTown Schedule
ATTACH;FMTTYPE=image/jpeg:https://www.osc.org/wp-content/uploads/2024/04/KT_OpenMake_1920x1080.jpg
GEO:28.57228;-81.368341
END:VEVENT
BEGIN:VEVENT
DTSTART;TZID=America/New_York:20260528T140000
DTEND;TZID=America/New_York:20260528T160000
DTSTAMP:20260423T060011
CREATED:20260419T163803Z
LAST-MODIFIED:20260419T163803Z
UID:10008841-1779976800-1779984000@www.osc.org
SUMMARY:Open Studio
DESCRIPTION:
URL:https://www.osc.org/event/open-studio-29/
CATEGORIES:KidsTown Schedule
ATTACH;FMTTYPE=image/png:https://www.osc.org/wp-content/uploads/2024/08/Open-Studio_1080x608.png
END:VEVENT
BEGIN:VEVENT
DTSTART;TZID=America/New_York:20260529T140000
DTEND;TZID=America/New_York:20260529T160000
DTSTAMP:20260423T060011
CREATED:20260419T163804Z
LAST-MODIFIED:20260419T163804Z
UID:10008842-1780063200-1780070400@www.osc.org
SUMMARY:Open Studio
DESCRIPTION:
URL:https://www.osc.org/event/open-studio-30/
CATEGORIES:KidsTown Schedule
ATTACH;FMTTYPE=image/png:https://www.osc.org/wp-content/uploads/2024/08/Open-Studio_1080x608.png
END:VEVENT
END:VCALENDAR