BEGIN:VCALENDAR
VERSION:2.0
PRODID:-//Orlando Science Center - ECPv6.15.20//NONSGML v1.0//EN
CALSCALE:GREGORIAN
METHOD:PUBLISH
X-ORIGINAL-URL:https://www.osc.org
X-WR-CALDESC:Events for Orlando Science Center
REFRESH-INTERVAL;VALUE=DURATION:PT1H
X-Robots-Tag:noindex
X-PUBLISHED-TTL:PT1H
BEGIN:VTIMEZONE
TZID:America/New_York
BEGIN:DAYLIGHT
TZOFFSETFROM:-0500
TZOFFSETTO:-0400
TZNAME:EDT
DTSTART:20250309T070000
END:DAYLIGHT
BEGIN:STANDARD
TZOFFSETFROM:-0400
TZOFFSETTO:-0500
TZNAME:EST
DTSTART:20251102T060000
END:STANDARD
BEGIN:DAYLIGHT
TZOFFSETFROM:-0500
TZOFFSETTO:-0400
TZNAME:EDT
DTSTART:20260308T070000
END:DAYLIGHT
BEGIN:STANDARD
TZOFFSETFROM:-0400
TZOFFSETTO:-0500
TZNAME:EST
DTSTART:20261101T060000
END:STANDARD
BEGIN:DAYLIGHT
TZOFFSETFROM:-0500
TZOFFSETTO:-0400
TZNAME:EDT
DTSTART:20270314T070000
END:DAYLIGHT
BEGIN:STANDARD
TZOFFSETFROM:-0400
TZOFFSETTO:-0500
TZNAME:EST
DTSTART:20271107T060000
END:STANDARD
END:VTIMEZONE
BEGIN:VEVENT
DTSTART;TZID=America/New_York:20260412T103000
DTEND;TZID=America/New_York:20260412T230000
DTSTAMP:20260422T184322
CREATED:20260320T184317Z
LAST-MODIFIED:20260320T184317Z
UID:10008407-1775989800-1776034800@www.osc.org
SUMMARY:Polar Pals Storytime
DESCRIPTION:Calling all explorers! Join us on an expedition to Earth’s most remote location: our northern and southern poles!
URL:https://www.osc.org/event/polar-pals-storytime-14/
LOCATION:KidsTown – Level 2
CATEGORIES:KidsTown Schedule
ATTACH;FMTTYPE=image/jpeg:https://www.osc.org/wp-content/uploads/2021/03/KidsTown-StoryTime_1080x608.jpg
GEO:28.57228;-81.368341
END:VEVENT
BEGIN:VEVENT
DTSTART;TZID=America/New_York:20260411T153000
DTEND;TZID=America/New_York:20260411T160000
DTSTAMP:20260422T184322
CREATED:20260320T183826Z
LAST-MODIFIED:20260320T183826Z
UID:10008367-1775921400-1775923200@www.osc.org
SUMMARY:Designing for Differences Mini Maker
DESCRIPTION:Celebrate Deaf History Month as we learn about inventions that expanded the world for others and try our hand at creating an invention of our very own!
URL:https://www.osc.org/event/designing-for-differences-mini-maker-4/
LOCATION:KidsTown – Level 2
CATEGORIES:KidsTown Schedule
ATTACH;FMTTYPE=image/jpeg:https://www.osc.org/wp-content/uploads/2024/04/KT_OpenMake_1920x1080.jpg
GEO:28.57228;-81.368341
END:VEVENT
BEGIN:VEVENT
DTSTART;TZID=America/New_York:20260411T140000
DTEND;TZID=America/New_York:20260411T143000
DTSTAMP:20260422T184322
CREATED:20260320T183826Z
LAST-MODIFIED:20260320T183826Z
UID:10008366-1775916000-1775917800@www.osc.org
SUMMARY:Designing for Differences Mini Maker
DESCRIPTION:Celebrate Deaf History Month as we learn about inventions that expanded the world for others and try our hand at creating an invention of our very own!
URL:https://www.osc.org/event/designing-for-differences-mini-maker-3/
LOCATION:KidsTown – Level 2
CATEGORIES:KidsTown Schedule
ATTACH;FMTTYPE=image/jpeg:https://www.osc.org/wp-content/uploads/2024/04/KT_OpenMake_1920x1080.jpg
GEO:28.57228;-81.368341
END:VEVENT
BEGIN:VEVENT
DTSTART;TZID=America/New_York:20260411T113000
DTEND;TZID=America/New_York:20260411T120000
DTSTAMP:20260422T184322
CREATED:20260320T184317Z
LAST-MODIFIED:20260320T184317Z
UID:10008406-1775907000-1775908800@www.osc.org
SUMMARY:Polar Pals Storytime
DESCRIPTION:Calling all explorers! Join us on an expedition to Earth’s most remote location: our northern and southern poles!
URL:https://www.osc.org/event/polar-pals-storytime-13/
LOCATION:KidsTown – Level 2
CATEGORIES:KidsTown Schedule
ATTACH;FMTTYPE=image/jpeg:https://www.osc.org/wp-content/uploads/2021/03/KidsTown-StoryTime_1080x608.jpg
GEO:28.57228;-81.368341
END:VEVENT
BEGIN:VEVENT
DTSTART;TZID=America/New_York:20260411T103000
DTEND;TZID=America/New_York:20260411T110000
DTSTAMP:20260422T184322
CREATED:20260320T184317Z
LAST-MODIFIED:20260320T184317Z
UID:10008405-1775903400-1775905200@www.osc.org
SUMMARY:Polar Pals Storytime
DESCRIPTION:Calling all explorers! Join us on an expedition to Earth’s most remote location: our northern and southern poles!
URL:https://www.osc.org/event/polar-pals-storytime-12/
LOCATION:KidsTown – Level 2
CATEGORIES:KidsTown Schedule
ATTACH;FMTTYPE=image/jpeg:https://www.osc.org/wp-content/uploads/2021/03/KidsTown-StoryTime_1080x608.jpg
GEO:28.57228;-81.368341
END:VEVENT
BEGIN:VEVENT
DTSTART;TZID=America/New_York:20260410T130000
DTEND;TZID=America/New_York:20260410T150000
DTSTAMP:20260422T184322
CREATED:20260320T183754Z
LAST-MODIFIED:20260320T183754Z
UID:10008359-1775826000-1775833200@www.osc.org
SUMMARY:Open Studio
DESCRIPTION:You’re invited to experience all that the KidsTown Studio has to offer\, with four open-ended exploration stations including open-make station\, STEM discovery station\, interactive white-board station\, and a reading nook! Recommended for all ages.
URL:https://www.osc.org/event/open-studio-22/
CATEGORIES:KidsTown Schedule
ATTACH;FMTTYPE=image/png:https://www.osc.org/wp-content/uploads/2024/08/Open-Studio_1080x608.png
END:VEVENT
BEGIN:VEVENT
DTSTART;TZID=America/New_York:20260410T124500
DTEND;TZID=America/New_York:20260410T130500
DTSTAMP:20260422T184322
CREATED:20260320T184547Z
LAST-MODIFIED:20260320T184547Z
UID:10008432-1775825100-1775826300@www.osc.org
SUMMARY:Prehistoric Pals
DESCRIPTION:
URL:https://www.osc.org/event/prehistoric-pals-32/
LOCATION:DinoDigs – Level 4
CATEGORIES:KidsTown Schedule
ATTACH;FMTTYPE=image/jpeg:https://www.osc.org/wp-content/uploads/2025/09/Prehistoric-Pals-Program_1920x1080.jpg
GEO:28.57228;-81.368341
END:VEVENT
BEGIN:VEVENT
DTSTART;TZID=America/New_York:20260410T113000
DTEND;TZID=America/New_York:20260410T120000
DTSTAMP:20260422T184322
CREATED:20260320T184316Z
LAST-MODIFIED:20260320T184316Z
UID:10008404-1775820600-1775822400@www.osc.org
SUMMARY:Polar Pals Storytime
DESCRIPTION:Calling all explorers! Join us on an expedition to Earth’s most remote location: our northern and southern poles!
URL:https://www.osc.org/event/polar-pals-storytime-11/
LOCATION:KidsTown – Level 2
CATEGORIES:KidsTown Schedule
ATTACH;FMTTYPE=image/jpeg:https://www.osc.org/wp-content/uploads/2021/03/KidsTown-StoryTime_1080x608.jpg
GEO:28.57228;-81.368341
END:VEVENT
BEGIN:VEVENT
DTSTART;TZID=America/New_York:20260409T140000
DTEND;TZID=America/New_York:20260409T160000
DTSTAMP:20260422T184322
CREATED:20260320T183754Z
LAST-MODIFIED:20260320T183754Z
UID:10008358-1775743200-1775750400@www.osc.org
SUMMARY:Open Studio
DESCRIPTION:You’re invited to experience all that the KidsTown Studio has to offer\, with four open-ended exploration stations including open-make station\, STEM discovery station\, interactive white-board station\, and a reading nook! Recommended for all ages.
URL:https://www.osc.org/event/open-studio-21/
CATEGORIES:KidsTown Schedule
ATTACH;FMTTYPE=image/png:https://www.osc.org/wp-content/uploads/2024/08/Open-Studio_1080x608.png
END:VEVENT
BEGIN:VEVENT
DTSTART;TZID=America/New_York:20260409T124500
DTEND;TZID=America/New_York:20260409T130500
DTSTAMP:20260422T184322
CREATED:20260320T184547Z
LAST-MODIFIED:20260320T184547Z
UID:10008431-1775738700-1775739900@www.osc.org
SUMMARY:Prehistoric Pals
DESCRIPTION:
URL:https://www.osc.org/event/prehistoric-pals-31/
LOCATION:DinoDigs – Level 4
CATEGORIES:KidsTown Schedule
ATTACH;FMTTYPE=image/jpeg:https://www.osc.org/wp-content/uploads/2025/09/Prehistoric-Pals-Program_1920x1080.jpg
GEO:28.57228;-81.368341
END:VEVENT
BEGIN:VEVENT
DTSTART;TZID=America/New_York:20260409T113000
DTEND;TZID=America/New_York:20260409T120000
DTSTAMP:20260422T184322
CREATED:20260320T184247Z
LAST-MODIFIED:20260320T184247Z
UID:10008403-1775734200-1775736000@www.osc.org
SUMMARY:Polar Pals Storytime
DESCRIPTION:Calling all explorers! Join us on an expedition to Earth’s most remote location: our northern and southern poles!
URL:https://www.osc.org/event/polar-pals-storytime-10/
LOCATION:KidsTown – Level 2
CATEGORIES:KidsTown Schedule
ATTACH;FMTTYPE=image/jpeg:https://www.osc.org/wp-content/uploads/2021/03/KidsTown-StoryTime_1080x608.jpg
GEO:28.57228;-81.368341
END:VEVENT
BEGIN:VEVENT
DTSTART;TZID=America/New_York:20260407T153000
DTEND;TZID=America/New_York:20260407T161500
DTSTAMP:20260422T184322
CREATED:20260320T184046Z
LAST-MODIFIED:20260320T184046Z
UID:10008381-1775575800-1775578500@www.osc.org
SUMMARY:Sea Turtle Rescue Tinker Time
DESCRIPTION:Get hands-on with our Sea Turtle rescue team as we learn about conservation and rehabilitation efforts in Florida!
URL:https://www.osc.org/event/sea-turtle-rescue-tinker-time-4/
LOCATION:KidsTown – Level 2
CATEGORIES:KidsTown Schedule
ATTACH;FMTTYPE=image/jpeg:https://www.osc.org/wp-content/uploads/2024/12/KidsTown-Tinker-Time_1080x608.jpg
GEO:28.57228;-81.368341
END:VEVENT
BEGIN:VEVENT
DTSTART;TZID=America/New_York:20260407T140000
DTEND;TZID=America/New_York:20260407T144500
DTSTAMP:20260422T184322
CREATED:20260320T184017Z
LAST-MODIFIED:20260320T184017Z
UID:10008380-1775570400-1775573100@www.osc.org
SUMMARY:Sea Turtle Rescue Tinker Time
DESCRIPTION:Get hands-on with our Sea Turtle rescue team as we learn about conservation and rehabilitation efforts in Florida!
URL:https://www.osc.org/event/sea-turtle-rescue-tinker-time-3/
LOCATION:KidsTown – Level 2
CATEGORIES:KidsTown Schedule
ATTACH;FMTTYPE=image/jpeg:https://www.osc.org/wp-content/uploads/2024/12/KidsTown-Tinker-Time_1080x608.jpg
GEO:28.57228;-81.368341
END:VEVENT
BEGIN:VEVENT
DTSTART;TZID=America/New_York:20260407T124500
DTEND;TZID=America/New_York:20260407T130500
DTSTAMP:20260422T184322
CREATED:20260320T184547Z
LAST-MODIFIED:20260320T184547Z
UID:10008430-1775565900-1775567100@www.osc.org
SUMMARY:Prehistoric Pals
DESCRIPTION:
URL:https://www.osc.org/event/prehistoric-pals-30/
LOCATION:DinoDigs – Level 4
CATEGORIES:KidsTown Schedule
ATTACH;FMTTYPE=image/jpeg:https://www.osc.org/wp-content/uploads/2025/10/Prehistoric-Pals-Program_1920x1080-HrJmeM.jpg
GEO:28.57228;-81.368341
END:VEVENT
BEGIN:VEVENT
DTSTART;TZID=America/New_York:20260407T113000
DTEND;TZID=America/New_York:20260407T120000
DTSTAMP:20260422T184322
CREATED:20260320T184217Z
LAST-MODIFIED:20260320T184247Z
UID:10008399-1775561400-1775563200@www.osc.org
SUMMARY:Polar Pals Storytime
DESCRIPTION:Calling all explorers! Join us on an expedition to Earth’s most remote location: our northern and southern poles!
URL:https://www.osc.org/event/polar-pals-storytime-6/
LOCATION:KidsTown – Level 2
CATEGORIES:KidsTown Schedule
ATTACH;FMTTYPE=image/jpeg:https://www.osc.org/wp-content/uploads/2021/03/KidsTown-StoryTime_1080x608.jpg
GEO:28.57228;-81.368341
END:VEVENT
BEGIN:VEVENT
DTSTART;TZID=America/New_York:20260406T153000
DTEND;TZID=America/New_York:20260406T161500
DTSTAMP:20260422T184322
CREATED:20260320T184017Z
LAST-MODIFIED:20260320T184017Z
UID:10008379-1775489400-1775492100@www.osc.org
SUMMARY:Sea Turtle Rescue Tinker Time
DESCRIPTION:Get hands-on with our Sea Turtle rescue team as we learn about conservation and rehabilitation efforts in Florida!
URL:https://www.osc.org/event/sea-turtle-rescue-tinker-time-2/
LOCATION:KidsTown – Level 2
CATEGORIES:KidsTown Schedule
ATTACH;FMTTYPE=image/jpeg:https://www.osc.org/wp-content/uploads/2024/12/KidsTown-Tinker-Time_1080x608.jpg
GEO:28.57228;-81.368341
END:VEVENT
BEGIN:VEVENT
DTSTART;TZID=America/New_York:20260406T140000
DTEND;TZID=America/New_York:20260406T144500
DTSTAMP:20260422T184322
CREATED:20260320T184017Z
LAST-MODIFIED:20260320T184017Z
UID:10008378-1775484000-1775486700@www.osc.org
SUMMARY:Sea Turtle Rescue Tinker Time
DESCRIPTION:Get hands-on with our Sea Turtle rescue team as we learn about conservation and rehabilitation efforts in Florida!
URL:https://www.osc.org/event/sea-turtle-rescue-tinker-time/
LOCATION:KidsTown – Level 2
CATEGORIES:KidsTown Schedule
ATTACH;FMTTYPE=image/jpeg:https://www.osc.org/wp-content/uploads/2024/12/KidsTown-Tinker-Time_1080x608.jpg
GEO:28.57228;-81.368341
END:VEVENT
BEGIN:VEVENT
DTSTART;TZID=America/New_York:20260406T124500
DTEND;TZID=America/New_York:20260406T130500
DTSTAMP:20260422T184322
CREATED:20260320T184547Z
LAST-MODIFIED:20260320T184547Z
UID:10008429-1775479500-1775480700@www.osc.org
SUMMARY:Prehistoric Pals
DESCRIPTION:
URL:https://www.osc.org/event/prehistoric-pals-29/
LOCATION:DinoDigs – Level 4
CATEGORIES:KidsTown Schedule
ATTACH;FMTTYPE=image/jpeg:https://www.osc.org/wp-content/uploads/2025/09/Prehistoric-Pals-Program_1920x1080.jpg
GEO:28.57228;-81.368341
END:VEVENT
BEGIN:VEVENT
DTSTART;TZID=America/New_York:20260406T113000
DTEND;TZID=America/New_York:20260406T120000
DTSTAMP:20260422T184322
CREATED:20260320T184217Z
LAST-MODIFIED:20260320T184246Z
UID:10008398-1775475000-1775476800@www.osc.org
SUMMARY:Polar Pals Storytime
DESCRIPTION:Calling all explorers! Join us on an expedition to Earth’s most remote location: our northern and southern poles!
URL:https://www.osc.org/event/polar-pals-storytime-5/
LOCATION:KidsTown – Level 2
CATEGORIES:KidsTown Schedule
ATTACH;FMTTYPE=image/jpeg:https://www.osc.org/wp-content/uploads/2021/03/KidsTown-StoryTime_1080x608.jpg
GEO:28.57228;-81.368341
END:VEVENT
BEGIN:VEVENT
DTSTART;TZID=America/New_York:20260404T153000
DTEND;TZID=America/New_York:20260404T160000
DTSTAMP:20260422T184322
CREATED:20260320T183757Z
LAST-MODIFIED:20260320T183757Z
UID:10008365-1775316600-1775318400@www.osc.org
SUMMARY:Designing for Differences Mini Maker
DESCRIPTION:Celebrate Deaf History Month as we learn about inventions that expanded the world for others and try our hand at creating an invention of our very own!
URL:https://www.osc.org/event/designing-for-differences-mini-maker-2/
LOCATION:KidsTown – Level 2
CATEGORIES:KidsTown Schedule
ATTACH;FMTTYPE=image/jpeg:https://www.osc.org/wp-content/uploads/2024/04/KT_OpenMake_1920x1080.jpg
GEO:28.57228;-81.368341
END:VEVENT
BEGIN:VEVENT
DTSTART;TZID=America/New_York:20260404T140000
DTEND;TZID=America/New_York:20260404T143000
DTSTAMP:20260422T184322
CREATED:20260320T183756Z
LAST-MODIFIED:20260320T183756Z
UID:10008364-1775311200-1775313000@www.osc.org
SUMMARY:Designing for Differences Mini Maker
DESCRIPTION:Celebrate Deaf History Month as we learn about inventions that expanded the world for others and try our hand at creating an invention of our very own!
URL:https://www.osc.org/event/designing-for-differences-mini-maker/
LOCATION:KidsTown – Level 2
CATEGORIES:KidsTown Schedule
ATTACH;FMTTYPE=image/jpeg:https://www.osc.org/wp-content/uploads/2024/04/KT_OpenMake_1920x1080.jpg
GEO:28.57228;-81.368341
END:VEVENT
BEGIN:VEVENT
DTSTART;TZID=America/New_York:20260404T113000
DTEND;TZID=America/New_York:20260404T120000
DTSTAMP:20260422T184322
CREATED:20260320T184217Z
LAST-MODIFIED:20260320T184217Z
UID:10008397-1775302200-1775304000@www.osc.org
SUMMARY:Polar Pals Storytime
DESCRIPTION:Calling all explorers! Join us on an expedition to Earth’s most remote location: our northern and southern poles!
URL:https://www.osc.org/event/polar-pals-storytime-4/
LOCATION:KidsTown – Level 2
CATEGORIES:KidsTown Schedule
ATTACH;FMTTYPE=image/jpeg:https://www.osc.org/wp-content/uploads/2021/03/KidsTown-StoryTime_1080x608.jpg
GEO:28.57228;-81.368341
END:VEVENT
BEGIN:VEVENT
DTSTART;TZID=America/New_York:20260404T103000
DTEND;TZID=America/New_York:20260404T110000
DTSTAMP:20260422T184322
CREATED:20260320T184216Z
LAST-MODIFIED:20260320T184216Z
UID:10008396-1775298600-1775300400@www.osc.org
SUMMARY:Polar Pals Storytime
DESCRIPTION:Calling all explorers! Join us on an expedition to Earth’s most remote location: our northern and southern poles!
URL:https://www.osc.org/event/polar-pals-storytime-3/
LOCATION:KidsTown – Level 2
CATEGORIES:KidsTown Schedule
ATTACH;FMTTYPE=image/jpeg:https://www.osc.org/wp-content/uploads/2021/03/KidsTown-StoryTime_1080x608.jpg
GEO:28.57228;-81.368341
END:VEVENT
BEGIN:VEVENT
DTSTART;TZID=America/New_York:20260403T140000
DTEND;TZID=America/New_York:20260403T160000
DTSTAMP:20260422T184322
CREATED:20260320T183754Z
LAST-MODIFIED:20260320T183754Z
UID:10008357-1775224800-1775232000@www.osc.org
SUMMARY:Open Studio
DESCRIPTION:You’re invited to experience all that the KidsTown Studio has to offer\, with four open-ended exploration stations including open-make station\, STEM discovery station\, interactive white-board station\, and a reading nook! Recommended for all ages.
URL:https://www.osc.org/event/open-studio-20/
CATEGORIES:KidsTown Schedule
ATTACH;FMTTYPE=image/png:https://www.osc.org/wp-content/uploads/2024/08/Open-Studio_1080x608.png
END:VEVENT
BEGIN:VEVENT
DTSTART;TZID=America/New_York:20260403T124500
DTEND;TZID=America/New_York:20260403T130500
DTSTAMP:20260422T184322
CREATED:20260320T184517Z
LAST-MODIFIED:20260320T184517Z
UID:10008428-1775220300-1775221500@www.osc.org
SUMMARY:Prehistoric Pals
DESCRIPTION:
URL:https://www.osc.org/event/prehistoric-pals-28/
LOCATION:DinoDigs – Level 4
CATEGORIES:KidsTown Schedule
ATTACH;FMTTYPE=image/jpeg:https://www.osc.org/wp-content/uploads/2025/09/Prehistoric-Pals-Program_1920x1080.jpg
GEO:28.57228;-81.368341
END:VEVENT
BEGIN:VEVENT
DTSTART;TZID=America/New_York:20260403T113000
DTEND;TZID=America/New_York:20260403T120000
DTSTAMP:20260422T184322
CREATED:20260320T184147Z
LAST-MODIFIED:20260320T184147Z
UID:10008395-1775215800-1775217600@www.osc.org
SUMMARY:Polar Pals Storytime
DESCRIPTION:Calling all explorers! Join us on an expedition to Earth’s most remote location: our northern and southern poles!
URL:https://www.osc.org/event/polar-pals-storytime-2/
LOCATION:KidsTown – Level 2
CATEGORIES:KidsTown Schedule
ATTACH;FMTTYPE=image/jpeg:https://www.osc.org/wp-content/uploads/2021/03/KidsTown-StoryTime_1080x608.jpg
GEO:28.57228;-81.368341
END:VEVENT
BEGIN:VEVENT
DTSTART;TZID=America/New_York:20260402T140000
DTEND;TZID=America/New_York:20260402T160000
DTSTAMP:20260422T184322
CREATED:20260320T183754Z
LAST-MODIFIED:20260320T183754Z
UID:10008356-1775138400-1775145600@www.osc.org
SUMMARY:Open Studio
DESCRIPTION:You’re invited to experience all that the KidsTown Studio has to offer\, with four open-ended exploration stations including open-make station\, STEM discovery station\, interactive white-board station\, and a reading nook! Recommended for all ages.
URL:https://www.osc.org/event/open-studio-19/
CATEGORIES:KidsTown Schedule
ATTACH;FMTTYPE=image/png:https://www.osc.org/wp-content/uploads/2024/08/Open-Studio_1080x608.png
END:VEVENT
BEGIN:VEVENT
DTSTART;TZID=America/New_York:20260402T124500
DTEND;TZID=America/New_York:20260402T130500
DTSTAMP:20260422T184322
CREATED:20260320T184517Z
LAST-MODIFIED:20260320T184517Z
UID:10008427-1775133900-1775135100@www.osc.org
SUMMARY:Prehistoric Pals
DESCRIPTION:
URL:https://www.osc.org/event/prehistoric-pals-14/
LOCATION:DinoDigs – Level 4
CATEGORIES:KidsTown Schedule
ATTACH;FMTTYPE=image/jpeg:https://www.osc.org/wp-content/uploads/2025/09/Prehistoric-Pals-Program_1920x1080.jpg
GEO:28.57228;-81.368341
END:VEVENT
BEGIN:VEVENT
DTSTART;TZID=America/New_York:20260402T113000
DTEND;TZID=America/New_York:20260402T120000
DTSTAMP:20260422T184322
CREATED:20260320T184147Z
LAST-MODIFIED:20260320T184147Z
UID:10008394-1775129400-1775131200@www.osc.org
SUMMARY:Polar Pals Storytime
DESCRIPTION:Calling all explorers! Join us on an expedition to Earth’s most remote location: our northern and southern poles!
URL:https://www.osc.org/event/polar-pals-storytime/
LOCATION:KidsTown – Level 2
CATEGORIES:KidsTown Schedule
ATTACH;FMTTYPE=image/jpeg:https://www.osc.org/wp-content/uploads/2021/03/KidsTown-StoryTime_1080x608.jpg
GEO:28.57228;-81.368341
END:VEVENT
BEGIN:VEVENT
DTSTART;TZID=America/New_York:20260331T153000
DTEND;TZID=America/New_York:20260331T160000
DTSTAMP:20260422T184322
CREATED:20260223T162919Z
LAST-MODIFIED:20260223T162919Z
UID:10008147-1774971000-1774972800@www.osc.org
SUMMARY:Float or Sink Challenge Tinker Time
DESCRIPTION:Will you be able to keep you pirate treasure afloat in this adventurous engineering challenge
URL:https://www.osc.org/event/float-or-sink-challenge-tinker-time-16/
CATEGORIES:KidsTown Schedule
ATTACH;FMTTYPE=image/jpeg:https://www.osc.org/wp-content/uploads/2024/12/KidsTown-Tinker-Time_1080x608.jpg
END:VEVENT
END:VCALENDAR