BEGIN:VCALENDAR
VERSION:2.0
PRODID:-//Orlando Science Center - ECPv6.15.20//NONSGML v1.0//EN
CALSCALE:GREGORIAN
METHOD:PUBLISH
X-WR-CALNAME:Orlando Science Center
X-ORIGINAL-URL:https://www.osc.org
X-WR-CALDESC:Events for Orlando Science Center
REFRESH-INTERVAL;VALUE=DURATION:PT1H
X-Robots-Tag:noindex
X-PUBLISHED-TTL:PT1H
BEGIN:VTIMEZONE
TZID:America/New_York
BEGIN:DAYLIGHT
TZOFFSETFROM:-0500
TZOFFSETTO:-0400
TZNAME:EDT
DTSTART:20250309T070000
END:DAYLIGHT
BEGIN:STANDARD
TZOFFSETFROM:-0400
TZOFFSETTO:-0500
TZNAME:EST
DTSTART:20251102T060000
END:STANDARD
BEGIN:DAYLIGHT
TZOFFSETFROM:-0500
TZOFFSETTO:-0400
TZNAME:EDT
DTSTART:20260308T070000
END:DAYLIGHT
BEGIN:STANDARD
TZOFFSETFROM:-0400
TZOFFSETTO:-0500
TZNAME:EST
DTSTART:20261101T060000
END:STANDARD
BEGIN:DAYLIGHT
TZOFFSETFROM:-0500
TZOFFSETTO:-0400
TZNAME:EDT
DTSTART:20270314T070000
END:DAYLIGHT
BEGIN:STANDARD
TZOFFSETFROM:-0400
TZOFFSETTO:-0500
TZNAME:EST
DTSTART:20271107T060000
END:STANDARD
END:VTIMEZONE
BEGIN:VEVENT
DTSTART;TZID=America/New_York:20260324T140000
DTEND;TZID=America/New_York:20260324T150000
DTSTAMP:20260422T194457
CREATED:20260222T170900Z
LAST-MODIFIED:20260222T170900Z
UID:10008058-1774360800-1774364400@www.osc.org
SUMMARY:Float or Sink Challenge Tinker Time
DESCRIPTION:Will you be able to keep you pirate treasure afloat in this adventurous engineering challenge
URL:https://www.osc.org/event/float-or-sink-challenge-tinker-time-11/
CATEGORIES:KidsTown Schedule
ATTACH;FMTTYPE=image/jpeg:https://www.osc.org/wp-content/uploads/2024/12/KidsTown-Tinker-Time_1080x608.jpg
END:VEVENT
BEGIN:VEVENT
DTSTART;TZID=America/New_York:20260326T113000
DTEND;TZID=America/New_York:20260326T120000
DTSTAMP:20260422T194457
CREATED:20260223T165434Z
LAST-MODIFIED:20260305T153444Z
UID:10008157-1774524600-1774526400@www.osc.org
SUMMARY:Excellent Engineering Storytime
DESCRIPTION:Ever wonder what it’s like to build a bridge or design a park? Join us as we think outside the box like engineers and build our very own creations using lego!
URL:https://www.osc.org/event/engineering-storytime-26/
CATEGORIES:KidsTown Schedule
ATTACH;FMTTYPE=image/jpeg:https://www.osc.org/wp-content/uploads/2021/03/KidsTown-StoryTime_1080x608.jpg
END:VEVENT
BEGIN:VEVENT
DTSTART;TZID=America/New_York:20260326T140000
DTEND;TZID=America/New_York:20260326T160000
DTSTAMP:20260422T194457
CREATED:20260222T170727Z
LAST-MODIFIED:20260222T170727Z
UID:10008030-1774533600-1774540800@www.osc.org
SUMMARY:Open Studio
DESCRIPTION:You’re invited to experience all that the KidsTown Studio has to offer\, with four open-ended exploration stations including open-make station\, STEM discovery station\, interactive white-board station\, and a reading nook! Recommended for all ages.
URL:https://www.osc.org/event/open-studio-16/
CATEGORIES:KidsTown Schedule
ATTACH;FMTTYPE=image/png:https://www.osc.org/wp-content/uploads/2024/08/Open-Studio_1080x608.png
END:VEVENT
BEGIN:VEVENT
DTSTART;TZID=America/New_York:20260327T113000
DTEND;TZID=America/New_York:20260327T120000
DTSTAMP:20260422T194457
CREATED:20260327T144142Z
LAST-MODIFIED:20260327T144142Z
UID:10008569-1774611000-1774612800@www.osc.org
SUMMARY:Excellent Engineering Storytime
DESCRIPTION:Ever wonder what it’s like to build a bridge or design a park? Join us as we think outside the box like engineers and build our very own creations using lego!
URL:https://www.osc.org/event/excellent-engineering-storytime-2/
CATEGORIES:KidsTown Schedule
ATTACH;FMTTYPE=image/jpeg:https://www.osc.org/wp-content/uploads/2021/03/KidsTown-StoryTime_1080x608.jpg
END:VEVENT
BEGIN:VEVENT
DTSTART;TZID=America/New_York:20260327T124500
DTEND;TZID=America/New_York:20260327T130500
DTSTAMP:20260422T194457
CREATED:20260222T172405Z
LAST-MODIFIED:20260222T172405Z
UID:10008139-1774615500-1774616700@www.osc.org
SUMMARY:Prehistoric Pals
DESCRIPTION:
URL:https://www.osc.org/event/prehistoric-pals-25/
CATEGORIES:KidsTown Schedule
ATTACH;FMTTYPE=image/jpeg:https://www.osc.org/wp-content/uploads/2025/09/Prehistoric-Pals-Program_1920x1080.jpg
END:VEVENT
BEGIN:VEVENT
DTSTART;TZID=America/New_York:20260327T140000
DTEND;TZID=America/New_York:20260327T160000
DTSTAMP:20260422T194457
CREATED:20260222T170728Z
LAST-MODIFIED:20260222T170728Z
UID:10008031-1774620000-1774627200@www.osc.org
SUMMARY:Open Studio
DESCRIPTION:
URL:https://www.osc.org/event/open-studio-17/
CATEGORIES:KidsTown Schedule
ATTACH;FMTTYPE=image/png:https://www.osc.org/wp-content/uploads/2024/08/Open-Studio_1080x608.png
END:VEVENT
BEGIN:VEVENT
DTSTART;TZID=America/New_York:20260328T103000
DTEND;TZID=America/New_York:20260328T110000
DTSTAMP:20260422T194457
CREATED:20260222T172003Z
LAST-MODIFIED:20260305T154000Z
UID:10008119-1774693800-1774695600@www.osc.org
SUMMARY:Excellent Engineering Storytime
DESCRIPTION:Ever wonder what it’s like to build a bridge or design a park? Join us as we think outside the box like engineers and build our very own creations using lego!
URL:https://www.osc.org/event/engineering-storytime-14/
CATEGORIES:KidsTown Schedule
ATTACH;FMTTYPE=image/jpeg:https://www.osc.org/wp-content/uploads/2021/03/KidsTown-StoryTime_1080x608.jpg
END:VEVENT
BEGIN:VEVENT
DTSTART;TZID=America/New_York:20260328T113000
DTEND;TZID=America/New_York:20260328T120000
DTSTAMP:20260422T194457
CREATED:20260222T172003Z
LAST-MODIFIED:20260305T153937Z
UID:10008120-1774697400-1774699200@www.osc.org
SUMMARY:Excellent Engineering Storytime
DESCRIPTION:Ever wonder what it’s like to build a bridge or design a park? Join us as we think outside the box like engineers and build our very own creations using lego!
URL:https://www.osc.org/event/engineering-storytime-15/
CATEGORIES:KidsTown Schedule
ATTACH;FMTTYPE=image/jpeg:https://www.osc.org/wp-content/uploads/2021/03/KidsTown-StoryTime_1080x608.jpg
END:VEVENT
BEGIN:VEVENT
DTSTART;TZID=America/New_York:20260328T140000
DTEND;TZID=America/New_York:20260328T143000
DTSTAMP:20260422T194457
CREATED:20260222T170826Z
LAST-MODIFIED:20260222T170826Z
UID:10008044-1774706400-1774708200@www.osc.org
SUMMARY:Terrific Trailblazers Mini Maker
DESCRIPTION:Let’s follow in the footsteps of some sensational inventors as we can design and create inventions of our own!
URL:https://www.osc.org/event/terrific-trailblazers-mini-maker-9/
CATEGORIES:KidsTown Schedule
ATTACH;FMTTYPE=image/jpeg:https://www.osc.org/wp-content/uploads/2024/04/KT_OpenMake_1920x1080.jpg
END:VEVENT
BEGIN:VEVENT
DTSTART;TZID=America/New_York:20260328T153000
DTEND;TZID=America/New_York:20260328T160000
DTSTAMP:20260422T194457
CREATED:20260222T170826Z
LAST-MODIFIED:20260222T170826Z
UID:10008045-1774711800-1774713600@www.osc.org
SUMMARY:Terrific Trailblazers Mini Maker
DESCRIPTION:Let’s follow in the footsteps of some sensational inventors as we can design and create inventions of our own!
URL:https://www.osc.org/event/terrific-trailblazers-mini-maker-10/
CATEGORIES:KidsTown Schedule
ATTACH;FMTTYPE=image/jpeg:https://www.osc.org/wp-content/uploads/2024/04/KT_OpenMake_1920x1080.jpg
END:VEVENT
BEGIN:VEVENT
DTSTART;TZID=America/New_York:20260329T103000
DTEND;TZID=America/New_York:20260329T110000
DTSTAMP:20260422T194457
CREATED:20260222T172003Z
LAST-MODIFIED:20260305T153905Z
UID:10008121-1774780200-1774782000@www.osc.org
SUMMARY:Excellent Engineering Storytime
DESCRIPTION:Ever wonder what it’s like to build a bridge or design a park? Join us as we think outside the box like engineers and build our very own creations using lego!
URL:https://www.osc.org/event/engineering-storytime-16/
CATEGORIES:KidsTown Schedule
ATTACH;FMTTYPE=image/jpeg:https://www.osc.org/wp-content/uploads/2021/03/KidsTown-StoryTime_1080x608.jpg
END:VEVENT
BEGIN:VEVENT
DTSTART;TZID=America/New_York:20260329T113000
DTEND;TZID=America/New_York:20260329T120000
DTSTAMP:20260422T194457
CREATED:20260222T172003Z
LAST-MODIFIED:20260305T153849Z
UID:10008122-1774783800-1774785600@www.osc.org
SUMMARY:Excellent Engineering Storytime
DESCRIPTION:Ever wonder what it’s like to build a bridge or design a park? Join us as we think outside the box like engineers and build our very own creations using lego!
URL:https://www.osc.org/event/engineering-storytime-17/
CATEGORIES:KidsTown Schedule
ATTACH;FMTTYPE=image/jpeg:https://www.osc.org/wp-content/uploads/2021/03/KidsTown-StoryTime_1080x608.jpg
END:VEVENT
BEGIN:VEVENT
DTSTART;TZID=America/New_York:20260329T140000
DTEND;TZID=America/New_York:20260329T143000
DTSTAMP:20260422T194457
CREATED:20260222T170826Z
LAST-MODIFIED:20260222T170826Z
UID:10008046-1774792800-1774794600@www.osc.org
SUMMARY:Terrific Trailblazers Mini Maker
DESCRIPTION:Let’s follow in the footsteps of some sensational inventors as we can design and create inventions of our own!
URL:https://www.osc.org/event/terrific-trailblazers-mini-maker-11/
CATEGORIES:KidsTown Schedule
ATTACH;FMTTYPE=image/jpeg:https://www.osc.org/wp-content/uploads/2024/04/KT_OpenMake_1920x1080.jpg
END:VEVENT
BEGIN:VEVENT
DTSTART;TZID=America/New_York:20260329T153000
DTEND;TZID=America/New_York:20260329T160000
DTSTAMP:20260422T194457
CREATED:20260222T170827Z
LAST-MODIFIED:20260222T170827Z
UID:10008047-1774798200-1774800000@www.osc.org
SUMMARY:Terrific Trailblazers Mini Maker
DESCRIPTION:Let’s follow in the footsteps of some sensational inventors as we can design and create inventions of our own!
URL:https://www.osc.org/event/terrific-trailblazers-mini-maker-12/
CATEGORIES:KidsTown Schedule
ATTACH;FMTTYPE=image/jpeg:https://www.osc.org/wp-content/uploads/2024/04/KT_OpenMake_1920x1080.jpg
END:VEVENT
BEGIN:VEVENT
DTSTART;TZID=America/New_York:20260330T113000
DTEND;TZID=America/New_York:20260330T120000
DTSTAMP:20260422T194457
CREATED:20260222T172003Z
LAST-MODIFIED:20260305T153828Z
UID:10008123-1774870200-1774872000@www.osc.org
SUMMARY:Excellent Engineering Storytime
DESCRIPTION:Ever wonder what it’s like to build a bridge or design a park? Join us as we think outside the box like engineers and build our very own creations using lego!
URL:https://www.osc.org/event/engineering-storytime-18/
CATEGORIES:KidsTown Schedule
ATTACH;FMTTYPE=image/jpeg:https://www.osc.org/wp-content/uploads/2021/03/KidsTown-StoryTime_1080x608.jpg
END:VEVENT
BEGIN:VEVENT
DTSTART;TZID=America/New_York:20260330T124500
DTEND;TZID=America/New_York:20260330T130500
DTSTAMP:20260422T194457
CREATED:20260222T172405Z
LAST-MODIFIED:20260222T172405Z
UID:10008140-1774874700-1774875900@www.osc.org
SUMMARY:Prehistoric Pals
DESCRIPTION:
URL:https://www.osc.org/event/prehistoric-pals-26/
CATEGORIES:KidsTown Schedule
ATTACH;FMTTYPE=image/jpeg:https://www.osc.org/wp-content/uploads/2025/09/Prehistoric-Pals-Program_1920x1080.jpg
END:VEVENT
BEGIN:VEVENT
DTSTART;TZID=America/New_York:20260330T140000
DTEND;TZID=America/New_York:20260330T150000
DTSTAMP:20260422T194457
CREATED:20260223T162648Z
LAST-MODIFIED:20260223T162648Z
UID:10008144-1774879200-1774882800@www.osc.org
SUMMARY:Float or Sink Challenge Tinker Time
DESCRIPTION:Will you be able to keep you pirate treasure afloat in this adventurous engineering challenge
URL:https://www.osc.org/event/float-or-sink-challenge-tinker-time-13/
CATEGORIES:KidsTown Schedule
ATTACH;FMTTYPE=image/jpeg:https://www.osc.org/wp-content/uploads/2024/12/KidsTown-Tinker-Time_1080x608.jpg
END:VEVENT
BEGIN:VEVENT
DTSTART;TZID=America/New_York:20260330T153000
DTEND;TZID=America/New_York:20260330T160000
DTSTAMP:20260422T194457
CREATED:20260223T162715Z
LAST-MODIFIED:20260223T162715Z
UID:10008145-1774884600-1774886400@www.osc.org
SUMMARY:Float or Sink Challenge Tinker Time
DESCRIPTION:Will you be able to keep you pirate treasure afloat in this adventurous engineering challenge
URL:https://www.osc.org/event/float-or-sink-challenge-tinker-time-14/
CATEGORIES:KidsTown Schedule
ATTACH;FMTTYPE=image/jpeg:https://www.osc.org/wp-content/uploads/2024/12/KidsTown-Tinker-Time_1080x608.jpg
END:VEVENT
BEGIN:VEVENT
DTSTART;TZID=America/New_York:20260331T113000
DTEND;TZID=America/New_York:20260331T120000
DTSTAMP:20260422T194457
CREATED:20260223T165454Z
LAST-MODIFIED:20260305T153424Z
UID:10008158-1774956600-1774958400@www.osc.org
SUMMARY:Excellent Engineering Storytime
DESCRIPTION:Ever wonder what it’s like to build a bridge or design a park? Join us as we think outside the box like engineers and build our very own creations using lego!
URL:https://www.osc.org/event/engineering-storytime-27/
CATEGORIES:KidsTown Schedule
ATTACH;FMTTYPE=image/jpeg:https://www.osc.org/wp-content/uploads/2021/03/KidsTown-StoryTime_1080x608.jpg
END:VEVENT
BEGIN:VEVENT
DTSTART;TZID=America/New_York:20260331T124500
DTEND;TZID=America/New_York:20260331T130500
DTSTAMP:20260422T194457
CREATED:20260222T172405Z
LAST-MODIFIED:20260222T172405Z
UID:10008141-1774961100-1774962300@www.osc.org
SUMMARY:Prehistoric Pals
DESCRIPTION:
URL:https://www.osc.org/event/prehistoric-pals-27/
CATEGORIES:KidsTown Schedule
ATTACH;FMTTYPE=image/jpeg:https://www.osc.org/wp-content/uploads/2025/09/Prehistoric-Pals-Program_1920x1080.jpg
END:VEVENT
BEGIN:VEVENT
DTSTART;TZID=America/New_York:20260331T140000
DTEND;TZID=America/New_York:20260331T150000
DTSTAMP:20260422T194457
CREATED:20260223T162833Z
LAST-MODIFIED:20260223T162833Z
UID:10008146-1774965600-1774969200@www.osc.org
SUMMARY:Float or Sink Challenge Tinker Time
DESCRIPTION:Will you be able to keep you pirate treasure afloat in this adventurous engineering challenge
URL:https://www.osc.org/event/float-or-sink-challenge-tinker-time-15/
CATEGORIES:KidsTown Schedule
ATTACH;FMTTYPE=image/jpeg:https://www.osc.org/wp-content/uploads/2024/12/KidsTown-Tinker-Time_1080x608.jpg
END:VEVENT
BEGIN:VEVENT
DTSTART;TZID=America/New_York:20260331T153000
DTEND;TZID=America/New_York:20260331T160000
DTSTAMP:20260422T194457
CREATED:20260223T162919Z
LAST-MODIFIED:20260223T162919Z
UID:10008147-1774971000-1774972800@www.osc.org
SUMMARY:Float or Sink Challenge Tinker Time
DESCRIPTION:Will you be able to keep you pirate treasure afloat in this adventurous engineering challenge
URL:https://www.osc.org/event/float-or-sink-challenge-tinker-time-16/
CATEGORIES:KidsTown Schedule
ATTACH;FMTTYPE=image/jpeg:https://www.osc.org/wp-content/uploads/2024/12/KidsTown-Tinker-Time_1080x608.jpg
END:VEVENT
END:VCALENDAR